BEGIN:VCALENDAR
VERSION:2.0
PRODID:-//MAX - ECPv6.15.17.1//NONSGML v1.0//EN
CALSCALE:GREGORIAN
METHOD:PUBLISH
X-ORIGINAL-URL:https://metroatlantaexchange.org
X-WR-CALDESC:Events for MAX
REFRESH-INTERVAL;VALUE=DURATION:PT1H
X-Robots-Tag:noindex
X-PUBLISHED-TTL:PT1H
BEGIN:VTIMEZONE
TZID:America/New_York
BEGIN:DAYLIGHT
TZOFFSETFROM:-0500
TZOFFSETTO:-0400
TZNAME:EDT
DTSTART:20240310T070000
END:DAYLIGHT
BEGIN:STANDARD
TZOFFSETFROM:-0400
TZOFFSETTO:-0500
TZNAME:EST
DTSTART:20241103T060000
END:STANDARD
BEGIN:DAYLIGHT
TZOFFSETFROM:-0500
TZOFFSETTO:-0400
TZNAME:EDT
DTSTART:20250309T070000
END:DAYLIGHT
BEGIN:STANDARD
TZOFFSETFROM:-0400
TZOFFSETTO:-0500
TZNAME:EST
DTSTART:20251102T060000
END:STANDARD
BEGIN:DAYLIGHT
TZOFFSETFROM:-0500
TZOFFSETTO:-0400
TZNAME:EDT
DTSTART:20260308T070000
END:DAYLIGHT
BEGIN:STANDARD
TZOFFSETFROM:-0400
TZOFFSETTO:-0500
TZNAME:EST
DTSTART:20261101T060000
END:STANDARD
END:VTIMEZONE
BEGIN:VEVENT
DTSTART;TZID=America/New_York:20250422T100000
DTEND;TZID=America/New_York:20250422T110000
DTSTAMP:20260422T174537
CREATED:20250417T194354Z
LAST-MODIFIED:20250417T194354Z
UID:10033430-1745316000-1745319600@metroatlantaexchange.org
SUMMARY:Jewish Family and Career Services: Virtual Interviewing Workshop
DESCRIPTION:Jewish Family and Career Services is hosting a Virtual Interviewing Workshop on Tuesday\, April 22nd\, from 10:00 AM to 11:00 AM. \nLearn how to better prepare for an interview\, understand the different types of interviews and answer common interview questions. This workshop will address how to tackle difficult interviewing moments as well as help you gain strategies on the do’s and don’ts of salary negotiation. \nClick here to register via Zoom.
URL:https://metroatlantaexchange.org/event/jewish-family-and-career-services-virtual-interviewing-workshop/
LOCATION:GA
CATEGORIES:Career Development,Job Seeker,Virtual Event
ORGANIZER;CN="Jewish Family and Career Services":MAILTO:info@jfcsatl.org
END:VEVENT
BEGIN:VEVENT
DTSTART;TZID=America/New_York:20250422T100000
DTEND;TZID=America/New_York:20250422T120000
DTSTAMP:20260422T174537
CREATED:20250401T014706Z
LAST-MODIFIED:20250401T014706Z
UID:10033424-1745316000-1745323200@metroatlantaexchange.org
SUMMARY:Goodwill of North Georgia: Multi-Employer Job Fair
DESCRIPTION:Goodwill of North Georgia is hosting Multi-Employer Job Fair on Tuesday\, April 22nd\, from 10:00 AM to 12:00 PM\, at the Cartersville Career Center. \nFor more information\, call 770-276-7036. \nClick here to learn more and register.
URL:https://metroatlantaexchange.org/event/goodwill-of-north-georgia-multi-employer-job-fair-11/
LOCATION:Goodwill of North Georgia – Cartersville Career Center\, 929 Joe Frank Harris Parkway\, Cartersville\, GA\, 30120\, United States
CATEGORIES:In-Person Event,Job Seeker
GEO:34.1974793;-84.7941559
X-APPLE-STRUCTURED-LOCATION;VALUE=URI;X-ADDRESS=Goodwill of North Georgia – Cartersville Career Center 929 Joe Frank Harris Parkway Cartersville GA 30120 United States;X-APPLE-RADIUS=500;X-TITLE=929 Joe Frank Harris Parkway:geo:-84.7941559,34.1974793
END:VEVENT
BEGIN:VEVENT
DTSTART;TZID=America/New_York:20250422T100000
DTEND;TZID=America/New_York:20250422T120000
DTSTAMP:20260422T174537
CREATED:20250401T015000Z
LAST-MODIFIED:20250401T015000Z
UID:10033425-1745316000-1745323200@metroatlantaexchange.org
SUMMARY:CareerEco: All-Sports Industry Professions Virtual Fair
DESCRIPTION:CareerEco is hosting an All-Sports Industry Professions Virtual Fair on Tuesday\, April 22nd\, from 12:00 PM to 5:00 PM. \nJob seekers across all sports professions with varying levels of expertise and experience in physical therapy\, athletic training\, coaching\, exercise science\, and sports medicine\, as well as sports media\, production and more are invited to attend. \nClick here to learn more and register.
URL:https://metroatlantaexchange.org/event/careereco-all-sports-industry-professions-virtual-fair/
LOCATION:GA
CATEGORIES:Job Seeker,Virtual Event
ORGANIZER;CN="CareerEco":MAILTO:Events@CareerEco.com
END:VEVENT
BEGIN:VEVENT
DTSTART;TZID=America/New_York:20250422T100000
DTEND;TZID=America/New_York:20250422T130000
DTSTAMP:20260422T174537
CREATED:20250401T015341Z
LAST-MODIFIED:20250401T015341Z
UID:10033426-1745316000-1745326800@metroatlantaexchange.org
SUMMARY:Goodwill of North Georgia: Second Chance Hiring Event
DESCRIPTION:Goodwill of North Georgia is hosting a Second Chance Hiring Event on Tuesday\, April 22nd\, from 10:00 AM to 1:00 PM\, at the Decatur Career Center. \nFor more information\, call 404-554-9600. \nClick here to learn more and register.
URL:https://metroatlantaexchange.org/event/goodwill-of-north-georgia-second-chance-hiring-event/
LOCATION:Goodwill of North Georgia – Decatur Career Center\, 2201 Lawrenceville Highway\, Suite 200\, Decatur\, GA\, 30033\, United States
CATEGORIES:In-Person Event,Job Seeker
GEO:33.8114213;-84.2699313
X-APPLE-STRUCTURED-LOCATION;VALUE=URI;X-ADDRESS=Goodwill of North Georgia – Decatur Career Center 2201 Lawrenceville Highway Suite 200 Decatur GA 30033 United States;X-APPLE-RADIUS=500;X-TITLE=2201 Lawrenceville Highway\, Suite 200:geo:-84.2699313,33.8114213
END:VEVENT
BEGIN:VEVENT
DTSTART;TZID=America/New_York:20250422T160000
DTEND;TZID=America/New_York:20250422T170000
DTSTAMP:20260422T174537
CREATED:20250417T194039Z
LAST-MODIFIED:20250417T194039Z
UID:10033429-1745337600-1745341200@metroatlantaexchange.org
SUMMARY:Hiring Our Heroes: Exploring Careers in Operations and Management
DESCRIPTION:Hiring Our Heroes is hosting an Exploring Careers in Operations and Management webinar on Tuesday\, April 22nd\, starting at 4:00 PM. \nJoin Hiring Our Heroes and representatives from multiple employers hiring for roles in operations and management to learn about in-demand skills sets\, available roles and career paths\, hiring processes\, resume and interview tips\, clearance requirements\, how to be successful in a hiring fair\, and more. Bring your questions for live Q&A! \nClick here to register via Zoom.
URL:https://metroatlantaexchange.org/event/hiring-our-heroes-exploring-careers-in-operations-and-management/
LOCATION:GA
CATEGORIES:Career Development,Job Seeker,Virtual Event
END:VEVENT
BEGIN:VEVENT
DTSTART;TZID=America/New_York:20250422T180000
DTEND;TZID=America/New_York:20250422T200000
DTSTAMP:20260422T174537
CREATED:20250417T194539Z
LAST-MODIFIED:20250417T194539Z
UID:10033431-1745344800-1745352000@metroatlantaexchange.org
SUMMARY:Urban League of Greater Atlanta: Bank On Event
DESCRIPTION:The Urban League of Greater Atlanta is hosting a Bank On Event on Tuesday\, April 22nd\, from 6:00 PM to 8:00 PM\, at the Russell Innovation Center for Entrepreneurs. \nJoin us for this special event to spotlight the Bank On program and help more individuals – particularly in low- and middle-income communities- take advantage of an essential financial resource. Bank On is a partnership between financial institutions\, community organizations and local government working together to ensure that everyone has access to safe and affordable banking. \nClick here to register. \nClick here for a flyer.
URL:https://metroatlantaexchange.org/event/urban-league-of-greater-atlanta-bank-on-event/
LOCATION:Russell Innovation Center for Entrepreneurs\, 504 Fair Street\, Atlanta\, GA\, 30313\, United States
CATEGORIES:Career Development,In-Person Event,Job Seeker
END:VEVENT
END:VCALENDAR