BEGIN:VCALENDAR
VERSION:2.0
PRODID:-//MAX - ECPv6.15.17.1//NONSGML v1.0//EN
CALSCALE:GREGORIAN
METHOD:PUBLISH
X-ORIGINAL-URL:https://metroatlantaexchange.org
X-WR-CALDESC:Events for MAX
REFRESH-INTERVAL;VALUE=DURATION:PT1H
X-Robots-Tag:noindex
X-PUBLISHED-TTL:PT1H
BEGIN:VTIMEZONE
TZID:America/New_York
BEGIN:DAYLIGHT
TZOFFSETFROM:-0500
TZOFFSETTO:-0400
TZNAME:EDT
DTSTART:20240310T070000
END:DAYLIGHT
BEGIN:STANDARD
TZOFFSETFROM:-0400
TZOFFSETTO:-0500
TZNAME:EST
DTSTART:20241103T060000
END:STANDARD
BEGIN:DAYLIGHT
TZOFFSETFROM:-0500
TZOFFSETTO:-0400
TZNAME:EDT
DTSTART:20250309T070000
END:DAYLIGHT
BEGIN:STANDARD
TZOFFSETFROM:-0400
TZOFFSETTO:-0500
TZNAME:EST
DTSTART:20251102T060000
END:STANDARD
BEGIN:DAYLIGHT
TZOFFSETFROM:-0500
TZOFFSETTO:-0400
TZNAME:EDT
DTSTART:20260308T070000
END:DAYLIGHT
BEGIN:STANDARD
TZOFFSETFROM:-0400
TZOFFSETTO:-0500
TZNAME:EST
DTSTART:20261101T060000
END:STANDARD
END:VTIMEZONE
BEGIN:VEVENT
DTSTART;TZID=America/New_York:20250430T100000
DTEND;TZID=America/New_York:20250430T113000
DTSTAMP:20260422T174458
CREATED:20250417T202620Z
LAST-MODIFIED:20250417T202620Z
UID:10033440-1746007200-1746012600@metroatlantaexchange.org
SUMMARY:NPursuit Career Partners: Computer Basics Class
DESCRIPTION:NPursuit Career Partners in partnership with the City of Refuge is hosting a Computer Basics Class on Wednesday\, April 30th\, from 10:00 AM to 11:30 AM\, at the City of Refuge. \nGain computer confidence and master the fundamentals with essential computer skills. In this course\, you’ll learn operating systems\, hardware\, software\, essential programs and general troubleshooting. Lunch will be provided. \nClick here for a flyer that offers more information as well as a QR code you can use to register.
URL:https://metroatlantaexchange.org/event/npursuit-career-partners-computer-basics-class/
LOCATION:City of Refuge Workforce Innovation Hub\, 1300 Joseph E. Boone Blvd NW\, Atlanta\, GA\, 30314\, United States
CATEGORIES:Career Development,In-Person Event,Job Seeker
GEO:33.7623158;-84.4302296
X-APPLE-STRUCTURED-LOCATION;VALUE=URI;X-ADDRESS=City of Refuge Workforce Innovation Hub 1300 Joseph E. Boone Blvd NW Atlanta GA 30314 United States;X-APPLE-RADIUS=500;X-TITLE=1300 Joseph E. Boone Blvd NW:geo:-84.4302296,33.7623158
END:VEVENT
BEGIN:VEVENT
DTSTART;TZID=America/New_York:20250430T183000
DTEND;TZID=America/New_York:20250430T213000
DTSTAMP:20260422T174458
CREATED:20250417T203133Z
LAST-MODIFIED:20250417T203133Z
UID:10033443-1746037800-1746048600@metroatlantaexchange.org
SUMMARY:Stern Law: Networking and Hiring Mixer for Immigration and Criminal Defense Professionals
DESCRIPTION:Stern Law is hosting a Networking and Hiring Mixer for Immigration and Criminal Defense Professionals event on Wednesday\, April 30th\, from 6:30 PM to 9:30 PM\, at Brooks Injury Law. \nJoin us for an evening of connection and opportunity at our Networking & Hiring Mixer\, hosted by STERN Law. This event is designed exclusively for attorneys\, paralegals\, and legal staff working in—or interested in—immigration and criminal defense law. We’re creating a network of talented professionals to connect with and potentially hire from. Whether you’re exploring new career paths\, looking to build partnerships\, or just want to meet others in your field—this mixer is for you. \nClick here to learn more and register.
URL:https://metroatlantaexchange.org/event/stern-law-networking-and-hiring-mixer-for-immigration-and-criminal-defense-professionals/
LOCATION:Brooks Injury Law\, 3740 Davinci Court\, Suite #150\, Norcross\, GA\, 30092\, United States
CATEGORIES:Career Development,In-Person Event,Job Seeker
END:VEVENT
END:VCALENDAR