BEGIN:VCALENDAR
VERSION:2.0
PRODID:-//MAX - ECPv6.15.17.1//NONSGML v1.0//EN
CALSCALE:GREGORIAN
METHOD:PUBLISH
X-ORIGINAL-URL:https://metroatlantaexchange.org
X-WR-CALDESC:Events for MAX
REFRESH-INTERVAL;VALUE=DURATION:PT1H
X-Robots-Tag:noindex
X-PUBLISHED-TTL:PT1H
BEGIN:VTIMEZONE
TZID:America/New_York
BEGIN:DAYLIGHT
TZOFFSETFROM:-0500
TZOFFSETTO:-0400
TZNAME:EDT
DTSTART:20240310T070000
END:DAYLIGHT
BEGIN:STANDARD
TZOFFSETFROM:-0400
TZOFFSETTO:-0500
TZNAME:EST
DTSTART:20241103T060000
END:STANDARD
BEGIN:DAYLIGHT
TZOFFSETFROM:-0500
TZOFFSETTO:-0400
TZNAME:EDT
DTSTART:20250309T070000
END:DAYLIGHT
BEGIN:STANDARD
TZOFFSETFROM:-0400
TZOFFSETTO:-0500
TZNAME:EST
DTSTART:20251102T060000
END:STANDARD
BEGIN:DAYLIGHT
TZOFFSETFROM:-0500
TZOFFSETTO:-0400
TZNAME:EDT
DTSTART:20260308T070000
END:DAYLIGHT
BEGIN:STANDARD
TZOFFSETFROM:-0400
TZOFFSETTO:-0500
TZNAME:EST
DTSTART:20261101T060000
END:STANDARD
END:VTIMEZONE
BEGIN:VEVENT
DTSTART;TZID=America/New_York:20250501T083000
DTEND;TZID=America/New_York:20250501T160000
DTSTAMP:20260422T174615
CREATED:20250417T215352Z
LAST-MODIFIED:20250417T215352Z
UID:10033482-1746088200-1746115200@metroatlantaexchange.org
SUMMARY:Georgia Chamber of Commerce: Future of Energy and Sustainability
DESCRIPTION:The Georgia Chamber of Commerce is hosting a Future of Energy and Sustainability event on Thursday\, May 1st\, from 8:30 AM to 4:00 PM\, at the Coca-Cola Company – Atlanta Office Campus. \nFrom energy innovation to conservation\, resiliency\, and corporate commitment\, Georgia continues to enhance its vision for the future. The Georgia Chamber is excited to host its third annual Future of Energy & Sustainability Summit\, which will bring together top leaders to advance conversations in the energy and sustainability sectors. This event will focus on sharing best practices\, discussing policy developments\, and exploring long-term collaborative opportunities. \nClick here to learn more and register.
URL:https://metroatlantaexchange.org/event/georgia-chamber-of-commerce-future-of-energy-and-sustainability/
LOCATION:Coca-Cola Company Atlanta Office Campus\, 1 Coca Cola Plaza\, SE\, Atlanta\, GA\, 30313\, United States
CATEGORIES:In-Person Event,Workforce Developer
END:VEVENT
BEGIN:VEVENT
DTSTART;TZID=America/New_York:20250501T160000
DTEND;TZID=America/New_York:20250501T200000
DTSTAMP:20260422T174615
CREATED:20250417T215538Z
LAST-MODIFIED:20250417T215538Z
UID:10033483-1746115200-1746129600@metroatlantaexchange.org
SUMMARY:Women in Technology (WIT): WIT Connect 2025
DESCRIPTION:Women in Technology (WIT) is hosting WIT Connect 2025 on Thursday\, May 1st\, from 4:00 PM to 8:00 PM\, at TopGolf. \nWIT Connect is an annual fundraising event that brings together our diverse community and draws support from many stakeholders\, including top-level executives\, leaders\, and industry professionals. The event is a unique platform for networking and collaboration\, fostering connections\, and supporting WIT’s mission. Be part of this pivotal moment and help us shape the future of STEM! This fundraiser will be hosted at TopGolf Midtown\, and attendees will play in a short “tournament” and spend the evening playing various TopGolf games\, participating in special contests\, and mingling with Atlanta’s tech community members. This event will be packed with fun\, fellowship\, and fundraising and will feature an impressive lineup of leaders in our executive auction. \nClick here to learn more.
URL:https://metroatlantaexchange.org/event/women-in-technology-wit-wit-connect-2025/
LOCATION:TopGolf\, 1600 Ellsworth Industrial Boulevard\, NW\, Atlanta\, GA\, 30318\, United States
CATEGORIES:In-Person Event,Workforce Developer
END:VEVENT
BEGIN:VEVENT
DTSTART;TZID=America/New_York:20250501T180000
DTEND;TZID=America/New_York:20250501T200000
DTSTAMP:20260422T174615
CREATED:20250417T203815Z
LAST-MODIFIED:20250417T203815Z
UID:10033447-1746122400-1746129600@metroatlantaexchange.org
SUMMARY:Keller Williams Realty: Real Estate Career Night
DESCRIPTION:Keller Williams Realty is hosting a Real Estate Career Night on Thursday\, May 1st\, from 6:00 PM to 8:00 PM\, at Keller Williams Peachtree Road. \nWelcome to Real Estate Career Night where you will learn all about starting a career in real estate. You will discover everything you need to know about getting licensed for FREE as well as how to have an amazing first year. Whether you’re a seasoned pro or just curious about the industry\, this event is perfect for you. Discover the ins and outs of the real estate world\, network with professionals\, and get all your questions answered. Don’t miss out on this opportunity to explore a rewarding career path! See you there! \nClick here to learn more and register.
URL:https://metroatlantaexchange.org/event/keller-williams-realty-real-estate-career-night/
LOCATION:Keller Williams Peachtree Road\, 804 Town Boulevard\, Suite #A2040\, Atlanta\, 30319\, United States
CATEGORIES:Career Development,In-Person Event,Job Seeker
END:VEVENT
END:VCALENDAR