BEGIN:VCALENDAR
VERSION:2.0
PRODID:-//MAX - ECPv6.15.17.1//NONSGML v1.0//EN
CALSCALE:GREGORIAN
METHOD:PUBLISH
X-WR-CALNAME:MAX
X-ORIGINAL-URL:https://metroatlantaexchange.org
X-WR-CALDESC:Events for MAX
REFRESH-INTERVAL;VALUE=DURATION:PT1H
X-Robots-Tag:noindex
X-PUBLISHED-TTL:PT1H
BEGIN:VTIMEZONE
TZID:America/New_York
BEGIN:DAYLIGHT
TZOFFSETFROM:-0500
TZOFFSETTO:-0400
TZNAME:EDT
DTSTART:20240310T070000
END:DAYLIGHT
BEGIN:STANDARD
TZOFFSETFROM:-0400
TZOFFSETTO:-0500
TZNAME:EST
DTSTART:20241103T060000
END:STANDARD
BEGIN:DAYLIGHT
TZOFFSETFROM:-0500
TZOFFSETTO:-0400
TZNAME:EDT
DTSTART:20250309T070000
END:DAYLIGHT
BEGIN:STANDARD
TZOFFSETFROM:-0400
TZOFFSETTO:-0500
TZNAME:EST
DTSTART:20251102T060000
END:STANDARD
BEGIN:DAYLIGHT
TZOFFSETFROM:-0500
TZOFFSETTO:-0400
TZNAME:EDT
DTSTART:20260308T070000
END:DAYLIGHT
BEGIN:STANDARD
TZOFFSETFROM:-0400
TZOFFSETTO:-0500
TZNAME:EST
DTSTART:20261101T060000
END:STANDARD
END:VTIMEZONE
BEGIN:VEVENT
DTSTART;TZID=America/New_York:20250501T130000
DTEND;TZID=America/New_York:20250501T140000
DTSTAMP:20260423T004808
CREATED:20250417T203306Z
LAST-MODIFIED:20250417T203306Z
UID:10033444-1746104400-1746108000@metroatlantaexchange.org
SUMMARY:Hiring Our Heroes: Planning Your Post-Military Career
DESCRIPTION:Hiring Our Heroes is hosting a webinar on Planning Your Post-Military Career on Thursday\, May 1st\, starting at 1:00 PM. \nJoin Pam Langley from the U.S. Department of Labor VETS program to learn the essentials of successful post-military career planning: timelines\, skills translation\, financial readiness\, and more. Bring your questions for live Q&A! \nClick here to learn more and register.
URL:https://metroatlantaexchange.org/event/hiring-our-heroes-planning-your-post-military-career-2/
LOCATION:GA
CATEGORIES:Career Development,Job Seeker,Veterans/Military,Virtual Event
END:VEVENT
BEGIN:VEVENT
DTSTART;TZID=America/New_York:20250501T140000
DTEND;TZID=America/New_York:20250501T150000
DTSTAMP:20260423T004808
CREATED:20250417T203425Z
LAST-MODIFIED:20250417T203425Z
UID:10033445-1746108000-1746111600@metroatlantaexchange.org
SUMMARY:Hiring Our Heroes: Salesforce Fellowship Program Virtual Information Session
DESCRIPTION:Hiring Our Heroes is hosting a Salesforce Fellowship Program Virtual Information Session on Thursday\, May 1st\, starting at 3:00 PM. \nTransitioning service members and currently serving military spouses\, join us to learn about the Salesforce Fellowship Program. \nClick here to register via Zoom.
URL:https://metroatlantaexchange.org/event/hiring-our-heroes-salesforce-fellowship-program-virtual-information-session/
LOCATION:GA
CATEGORIES:Career Development,Job Seeker,Veterans/Military,Virtual Event
END:VEVENT
BEGIN:VEVENT
DTSTART;TZID=America/New_York:20250501T140000
DTEND;TZID=America/New_York:20250501T150000
DTSTAMP:20260423T004808
CREATED:20250417T203548Z
LAST-MODIFIED:20250417T203548Z
UID:10033446-1746108000-1746111600@metroatlantaexchange.org
SUMMARY:Job Search Academy: Ask a Career Strategist - The Power of Networking
DESCRIPTION:Job Search Academy is hosting an Ask a Career Strategist: The Power of Networking webinar on Thursday\, May 1st\, starting at 2:00 PM. \nJoin Brighid Power\, Indeed Career Strategist\, and Kenneth L. Johnson\, East Coast Executives CEO\, to learn about the Power of Networking! Whether you’re looking to build professional connections\, enhance your job search strategy\, or navigate your career trajectory\, they are ready to provide networking advice and tackle your most pressing job search questions. \nClick here to learn more and register.
URL:https://metroatlantaexchange.org/event/job-search-academy-ask-a-career-strategist-the-power-of-networking/
LOCATION:GA
CATEGORIES:Career Development,Job Seeker,Virtual Event
END:VEVENT
BEGIN:VEVENT
DTSTART;TZID=America/New_York:20250501T180000
DTEND;TZID=America/New_York:20250501T200000
DTSTAMP:20260423T004808
CREATED:20250417T203815Z
LAST-MODIFIED:20250417T203815Z
UID:10033447-1746122400-1746129600@metroatlantaexchange.org
SUMMARY:Keller Williams Realty: Real Estate Career Night
DESCRIPTION:Keller Williams Realty is hosting a Real Estate Career Night on Thursday\, May 1st\, from 6:00 PM to 8:00 PM\, at Keller Williams Peachtree Road. \nWelcome to Real Estate Career Night where you will learn all about starting a career in real estate. You will discover everything you need to know about getting licensed for FREE as well as how to have an amazing first year. Whether you’re a seasoned pro or just curious about the industry\, this event is perfect for you. Discover the ins and outs of the real estate world\, network with professionals\, and get all your questions answered. Don’t miss out on this opportunity to explore a rewarding career path! See you there! \nClick here to learn more and register.
URL:https://metroatlantaexchange.org/event/keller-williams-realty-real-estate-career-night/
LOCATION:Keller Williams Peachtree Road\, 804 Town Boulevard\, Suite #A2040\, Atlanta\, 30319\, United States
CATEGORIES:Career Development,In-Person Event,Job Seeker
END:VEVENT
END:VCALENDAR