BEGIN:VCALENDAR
VERSION:2.0
PRODID:-//MAX - ECPv6.15.17.1//NONSGML v1.0//EN
CALSCALE:GREGORIAN
METHOD:PUBLISH
X-WR-CALNAME:MAX
X-ORIGINAL-URL:https://metroatlantaexchange.org
X-WR-CALDESC:Events for MAX
REFRESH-INTERVAL;VALUE=DURATION:PT1H
X-Robots-Tag:noindex
X-PUBLISHED-TTL:PT1H
BEGIN:VTIMEZONE
TZID:America/New_York
BEGIN:DAYLIGHT
TZOFFSETFROM:-0500
TZOFFSETTO:-0400
TZNAME:EDT
DTSTART:20240310T070000
END:DAYLIGHT
BEGIN:STANDARD
TZOFFSETFROM:-0400
TZOFFSETTO:-0500
TZNAME:EST
DTSTART:20241103T060000
END:STANDARD
BEGIN:DAYLIGHT
TZOFFSETFROM:-0500
TZOFFSETTO:-0400
TZNAME:EDT
DTSTART:20250309T070000
END:DAYLIGHT
BEGIN:STANDARD
TZOFFSETFROM:-0400
TZOFFSETTO:-0500
TZNAME:EST
DTSTART:20251102T060000
END:STANDARD
BEGIN:DAYLIGHT
TZOFFSETFROM:-0500
TZOFFSETTO:-0400
TZNAME:EDT
DTSTART:20260308T070000
END:DAYLIGHT
BEGIN:STANDARD
TZOFFSETFROM:-0400
TZOFFSETTO:-0500
TZNAME:EST
DTSTART:20261101T060000
END:STANDARD
END:VTIMEZONE
BEGIN:VEVENT
DTSTART;TZID=America/New_York:20250502T090000
DTEND;TZID=America/New_York:20250502T123000
DTSTAMP:20260422T173333
CREATED:20250417T215702Z
LAST-MODIFIED:20250417T215702Z
UID:10033484-1746176400-1746189000@metroatlantaexchange.org
SUMMARY:Georgia Center for Nonprofits: Leadership Accelerator - Module 2: Leading Teams
DESCRIPTION:  \nGeorgia Center for Nonprofits is hosting a Leadership Accelerator – Module 2: Leading Teams on Friday\, May 2nd\, from 9:00 AM to 12:30 PM\, at GCN Headquarters. \nThe Leadership Accelerator is a cutting-edge program designed to empower nonprofit CEOs and C-level staff with the strategies and tools needed to build and sustain high-performing teams. In the Leading Teams module\, you’ll dive into the core elements of team effectiveness across five intensive workshops\, from laying a solid foundation and refining your leadership approach to navigating challenges and fostering collaboration across generations. Each workshop offers actionable insights and practical techniques to elevate team dynamics\, boost organizational impact\, and create a culture of inclusivity and accountability. This is your opportunity to sharpen your leadership edge and propel your nonprofit to new levels of success. \nClick here to learn more and register.
URL:https://metroatlantaexchange.org/event/georgia-center-for-nonprofits-leadership-accelerator-module-2-leading-teams/
LOCATION:GCN Headquarters\, 881 Memorial Drive\, SE\, Atlanta\, GA\, 30316\, United States
CATEGORIES:In-Person Event,Workforce Developer
END:VEVENT
BEGIN:VEVENT
DTSTART;TZID=America/New_York:20250502T100000
DTEND;TZID=America/New_York:20250502T120000
DTSTAMP:20260422T173333
CREATED:20250417T204025Z
LAST-MODIFIED:20250417T204025Z
UID:10033448-1746180000-1746187200@metroatlantaexchange.org
SUMMARY:McMaster Continuing Education: Tech and Data Programs Online Information Session
DESCRIPTION:McMaster Continuing Education is hosting a Tech and Data Programs Online Information Session on Friday\, May 2nd\, from 10:00 AM to 12:00 PM. \nThis session will allow participants to explore our wide range of flexible online programs that will help you stay competitive in today’s job market. Discover program features\, formats\, learning outcomes\, career outlook and more. Get all your questions answered by experts during the Q&A session. \nClick here to learn more and register.
URL:https://metroatlantaexchange.org/event/mcmaster-continuing-education-tech-and-data-programs-online-information-session/
LOCATION:GA
CATEGORIES:Career Development,Job Seeker,Virtual Event
END:VEVENT
END:VCALENDAR