BEGIN:VCALENDAR
VERSION:2.0
PRODID:-//MAX - ECPv6.15.17.1//NONSGML v1.0//EN
CALSCALE:GREGORIAN
METHOD:PUBLISH
X-ORIGINAL-URL:https://metroatlantaexchange.org
X-WR-CALDESC:Events for MAX
REFRESH-INTERVAL;VALUE=DURATION:PT1H
X-Robots-Tag:noindex
X-PUBLISHED-TTL:PT1H
BEGIN:VTIMEZONE
TZID:America/New_York
BEGIN:DAYLIGHT
TZOFFSETFROM:-0500
TZOFFSETTO:-0400
TZNAME:EDT
DTSTART:20240310T070000
END:DAYLIGHT
BEGIN:STANDARD
TZOFFSETFROM:-0400
TZOFFSETTO:-0500
TZNAME:EST
DTSTART:20241103T060000
END:STANDARD
BEGIN:DAYLIGHT
TZOFFSETFROM:-0500
TZOFFSETTO:-0400
TZNAME:EDT
DTSTART:20250309T070000
END:DAYLIGHT
BEGIN:STANDARD
TZOFFSETFROM:-0400
TZOFFSETTO:-0500
TZNAME:EST
DTSTART:20251102T060000
END:STANDARD
BEGIN:DAYLIGHT
TZOFFSETFROM:-0500
TZOFFSETTO:-0400
TZNAME:EDT
DTSTART:20260308T070000
END:DAYLIGHT
BEGIN:STANDARD
TZOFFSETFROM:-0400
TZOFFSETTO:-0500
TZNAME:EST
DTSTART:20261101T060000
END:STANDARD
END:VTIMEZONE
BEGIN:VEVENT
DTSTART;TZID=America/New_York:20250504T113000
DTEND;TZID=America/New_York:20250504T133000
DTSTAMP:20260423T004448
CREATED:20250417T204249Z
LAST-MODIFIED:20250417T204249Z
UID:10033449-1746358200-1746365400@metroatlantaexchange.org
SUMMARY:OPEN Atlanta: Cultivating Career and Community Event
DESCRIPTION:OPEN Atlanta is hosting a Cultivating Career and Community Event on Sunday\, May 4th\, from 11:30 AM to 1:30 PM\, at Edible Brands. \nJoin us for an inspiring afternoon of connection and conversation focused on cultivating your career while strengthening your community roots. Don’t miss this opportunity to engage with visionary leaders at the forefront of innovation in tech\, healthcare\, and community building. \nClick here to learn more and register.
URL:https://metroatlantaexchange.org/event/open-atlanta-cultivating-career-and-community-event/
LOCATION:Edible Brands\, 980 Hammond Drive\, Suite #1000\, Atlanta\, GA\, 30328\, United States
CATEGORIES:Career Development,In-Person Event,Job Seeker
END:VEVENT
END:VCALENDAR