BEGIN:VCALENDAR
VERSION:2.0
PRODID:-//MAX - ECPv6.15.17.1//NONSGML v1.0//EN
CALSCALE:GREGORIAN
METHOD:PUBLISH
X-WR-CALNAME:MAX
X-ORIGINAL-URL:https://metroatlantaexchange.org
X-WR-CALDESC:Events for MAX
REFRESH-INTERVAL;VALUE=DURATION:PT1H
X-Robots-Tag:noindex
X-PUBLISHED-TTL:PT1H
BEGIN:VTIMEZONE
TZID:America/New_York
BEGIN:DAYLIGHT
TZOFFSETFROM:-0500
TZOFFSETTO:-0400
TZNAME:EDT
DTSTART:20240310T070000
END:DAYLIGHT
BEGIN:STANDARD
TZOFFSETFROM:-0400
TZOFFSETTO:-0500
TZNAME:EST
DTSTART:20241103T060000
END:STANDARD
BEGIN:DAYLIGHT
TZOFFSETFROM:-0500
TZOFFSETTO:-0400
TZNAME:EDT
DTSTART:20250309T070000
END:DAYLIGHT
BEGIN:STANDARD
TZOFFSETFROM:-0400
TZOFFSETTO:-0500
TZNAME:EST
DTSTART:20251102T060000
END:STANDARD
BEGIN:DAYLIGHT
TZOFFSETFROM:-0500
TZOFFSETTO:-0400
TZNAME:EDT
DTSTART:20260308T070000
END:DAYLIGHT
BEGIN:STANDARD
TZOFFSETFROM:-0400
TZOFFSETTO:-0500
TZNAME:EST
DTSTART:20261101T060000
END:STANDARD
END:VTIMEZONE
BEGIN:VEVENT
DTSTART;TZID=America/New_York:20250506T100000
DTEND;TZID=America/New_York:20250506T110000
DTSTAMP:20260423T004810
CREATED:20250417T204633Z
LAST-MODIFIED:20250417T204633Z
UID:10033451-1746525600-1746529200@metroatlantaexchange.org
SUMMARY:Jewish Family and Career Services: Virtual Job Search Workshop
DESCRIPTION:Jewish Family and Career Services is hosting a Virtual Job Search Workshop on Tuesday\, May 6th\, from 10:00 AM to 11:00 AM. \nJoin us for a 1- hour workshop where we will explore strategies to conduct a successful job search that will help you secure employment more effectively. This workshop will cover key information regarding organizing an action plan to move your job search forward. Topics will include how to handle the emotional roller coaster\, job choice and self-assessments\, identifying potential employers\, creating a personal branding statement\, networking strategies and more. \nClick here to register via Zoom.
URL:https://metroatlantaexchange.org/event/jewish-family-and-career-services-virtual-job-search-workshop/
LOCATION:GA
CATEGORIES:Career Development,Job Seeker,Virtual Event
ORGANIZER;CN="Jewish Family and Career Services":MAILTO:info@jfcsatl.org
END:VEVENT
END:VCALENDAR