BEGIN:VCALENDAR
VERSION:2.0
PRODID:-//MAX - ECPv6.15.17.1//NONSGML v1.0//EN
CALSCALE:GREGORIAN
METHOD:PUBLISH
X-ORIGINAL-URL:https://metroatlantaexchange.org
X-WR-CALDESC:Events for MAX
REFRESH-INTERVAL;VALUE=DURATION:PT1H
X-Robots-Tag:noindex
X-PUBLISHED-TTL:PT1H
BEGIN:VTIMEZONE
TZID:America/New_York
BEGIN:DAYLIGHT
TZOFFSETFROM:-0500
TZOFFSETTO:-0400
TZNAME:EDT
DTSTART:20240310T070000
END:DAYLIGHT
BEGIN:STANDARD
TZOFFSETFROM:-0400
TZOFFSETTO:-0500
TZNAME:EST
DTSTART:20241103T060000
END:STANDARD
BEGIN:DAYLIGHT
TZOFFSETFROM:-0500
TZOFFSETTO:-0400
TZNAME:EDT
DTSTART:20250309T070000
END:DAYLIGHT
BEGIN:STANDARD
TZOFFSETFROM:-0400
TZOFFSETTO:-0500
TZNAME:EST
DTSTART:20251102T060000
END:STANDARD
BEGIN:DAYLIGHT
TZOFFSETFROM:-0500
TZOFFSETTO:-0400
TZNAME:EDT
DTSTART:20260308T070000
END:DAYLIGHT
BEGIN:STANDARD
TZOFFSETFROM:-0400
TZOFFSETTO:-0500
TZNAME:EST
DTSTART:20261101T060000
END:STANDARD
END:VTIMEZONE
BEGIN:VEVENT
DTSTART;TZID=America/New_York:20250507T150000
DTEND;TZID=America/New_York:20250507T160000
DTSTAMP:20260422T211651
CREATED:20250417T204805Z
LAST-MODIFIED:20250417T204805Z
UID:10033452-1746630000-1746633600@metroatlantaexchange.org
SUMMARY:Manufacturing Institute: Heroes Connect - Aluminum Extruders Council
DESCRIPTION:The Manufacturing Institute is hosting a virtual Heroes Connect: Aluminum Extruders Council on Wednesday\, May 7th\, from 3:00 PM to 4:00 PM. \nThe Aluminum Extruders Council (AEC) is an international association dedicated to helping manufacturers\, engineers\, architects\, and others to discover why aluminum extrusion is the preferred material process for better products. This session brings a unique opportunity for participants engage directly with company leaders about their operations\, locations\, Veteran-friendly culture\, and current career opportunities. \nClick here to learn more and register.
URL:https://metroatlantaexchange.org/event/manufacturing-institute-heroes-connect-aluminum-extruders-council-2/
LOCATION:GA
CATEGORIES:Career Development,Job Seeker,Virtual Event
END:VEVENT
BEGIN:VEVENT
DTSTART;TZID=America/New_York:20250507T150000
DTEND;TZID=America/New_York:20250507T160000
DTSTAMP:20260422T211651
CREATED:20250417T204909Z
LAST-MODIFIED:20250417T204909Z
UID:10033453-1746630000-1746633600@metroatlantaexchange.org
SUMMARY:Hiring Our Heroes: Military Spouse Fellowships Information Session
DESCRIPTION:Hiring Our Heroes is hosting a Military Spouse Fellowships Information Session on Wednesday\, May 7th\, starting at 3:00 PM. \nWe invite military spouses to learn more about the Hiring Our Heroes (HOH) Military Spouse Fellowships (MSF) and the Department of Defense’s Military Spouse Career Accelerator Pilot (MSCAP)\, proudly facilitated by HOH. Fellowships offer military spouses professional training\, networking opportunities\, and hands-on experience in the civilian workforce. Through this program\, participants can quickly build their networks and gain localized job experience by connecting directly with local employers. \nClick here to register via Zoom.
URL:https://metroatlantaexchange.org/event/hiring-our-heroes-military-spouse-fellowships-information-session-2/
LOCATION:GA
CATEGORIES:Career Development,Job Seeker,Veterans/Military,Virtual Event
END:VEVENT
END:VCALENDAR