BEGIN:VCALENDAR
VERSION:2.0
PRODID:-//MAX - ECPv6.15.17.1//NONSGML v1.0//EN
CALSCALE:GREGORIAN
METHOD:PUBLISH
X-WR-CALNAME:MAX
X-ORIGINAL-URL:https://metroatlantaexchange.org
X-WR-CALDESC:Events for MAX
REFRESH-INTERVAL;VALUE=DURATION:PT1H
X-Robots-Tag:noindex
X-PUBLISHED-TTL:PT1H
BEGIN:VTIMEZONE
TZID:America/New_York
BEGIN:DAYLIGHT
TZOFFSETFROM:-0500
TZOFFSETTO:-0400
TZNAME:EDT
DTSTART:20240310T070000
END:DAYLIGHT
BEGIN:STANDARD
TZOFFSETFROM:-0400
TZOFFSETTO:-0500
TZNAME:EST
DTSTART:20241103T060000
END:STANDARD
BEGIN:DAYLIGHT
TZOFFSETFROM:-0500
TZOFFSETTO:-0400
TZNAME:EDT
DTSTART:20250309T070000
END:DAYLIGHT
BEGIN:STANDARD
TZOFFSETFROM:-0400
TZOFFSETTO:-0500
TZNAME:EST
DTSTART:20251102T060000
END:STANDARD
BEGIN:DAYLIGHT
TZOFFSETFROM:-0500
TZOFFSETTO:-0400
TZNAME:EDT
DTSTART:20260308T070000
END:DAYLIGHT
BEGIN:STANDARD
TZOFFSETFROM:-0400
TZOFFSETTO:-0500
TZNAME:EST
DTSTART:20261101T060000
END:STANDARD
END:VTIMEZONE
BEGIN:VEVENT
DTSTART;TZID=America/New_York:20250508T093000
DTEND;TZID=America/New_York:20250508T110000
DTSTAMP:20260422T153346
CREATED:20250417T220655Z
LAST-MODIFIED:20250417T220655Z
UID:10033489-1746696600-1746702000@metroatlantaexchange.org
SUMMARY:United Way of Greater Atlanta: Wellness in Balance - Women's Health InForum
DESCRIPTION:United Way of Greater Atlanta is hosting a Wellness in Balance: Women’s Health InForum on Thursday\, May 8th\, from 9:30 AM to 11:00 AM\, at Greater North Fulton Chamber of Commerce. \nJoin us for an inspiring community event dedicated to women’s health and wellness. Our forum\, Wellness in Balance: Women’s Health Inforum\, is designed to address the overall needs of women\, focusing on mental\, physical\, and financial well-being. This event will bring together experts from Kaiser Permanente\, Summit Counseling Center\, and Northwestern Mutual to discuss and share their knowledge\, experiences\, and strategies for living a balanced and fulfilling life through all of life’s challenges. \nClick here to learn more and register.
URL:https://metroatlantaexchange.org/event/united-way-of-greater-atlanta-wellness-in-balance-womens-health-inforum/
LOCATION:Greater North Fulton Chamber of Commerce\, 10000 Avalon Boulevard\, Suite #100\, Alpharetta\, GA\, 30009\, United States
CATEGORIES:In-Person Event,Workforce Developer
END:VEVENT
BEGIN:VEVENT
DTSTART;TZID=America/New_York:20250508T130000
DTEND;TZID=America/New_York:20250508T131500
DTSTAMP:20260422T153346
CREATED:20250506T173004Z
LAST-MODIFIED:20250506T173004Z
UID:10033736-1746709200-1746710100@metroatlantaexchange.org
SUMMARY:National League of Cities (NLC): Guided Meditiation
DESCRIPTION:National League of Cities (NLC) is hosting a webinar on Guided Meditation on Thursday\, May 8th\, from 1:00 PM to 1:15 PM. \nTake a 15-minute break to re-center yourself with this guided meditation session. Whether you are new to meditation or have an established practice\, this session is for you. Local government is hard work and taking care of yourself is just as important as taking care of your community. This session is part two in a series of mental health workshops and meditations specifically designed for elected officials and municipal staff. \nClick here to learn more and register.
URL:https://metroatlantaexchange.org/event/national-league-of-cities-nlc-guided-meditiation/
LOCATION:GA
CATEGORIES:Virtual Event,Workforce Developer
ORGANIZER;CN="National League of Cities":MAILTO:info@nlc.org
END:VEVENT
BEGIN:VEVENT
DTSTART;TZID=America/New_York:20250508T140000
DTEND;TZID=America/New_York:20250508T150000
DTSTAMP:20260422T153346
CREATED:20250506T172836Z
LAST-MODIFIED:20250506T172836Z
UID:10033735-1746712800-1746716400@metroatlantaexchange.org
SUMMARY:Brookings: Supporting and Expanding the K-12 STEM Teacher Pipeline
DESCRIPTION:Brookings is hosting a webinar on Supporting and Expanding the K-12 STEM Teacher Pipeline on Thursday\, May 8th\, from 2:00 PM to 3:00 PM. \nIn the wake of the pandemic\, the supply of teachers into U.S. schools has emerged as a critical vulnerability\, hampering schools’ ability to offer quality instruction and support learning recovery efforts. K-12 teaching positions in science\, technology\, engineering\, and math (STEM subjects) continue to account for a disproportionate share of hard-to-staff positions\, with national trendlines showing a quickly shrinking supply of newly certified teacher candidates in these fields over the past decade. The weak supply of teachers coincides with high expected growth in STEM fields and increasing demand for more STEM instruction to prepare students for 21st century occupations. On May 8th\, join the Brown Center on Education Policyat Brookings for a webinar to discuss how leaders can navigate the competing pressures on the STEM teacher pipeline. \nClick here to learn more and register.
URL:https://metroatlantaexchange.org/event/brookings-supporting-and-expanding-the-k-12-stem-teacher-pipeline/
LOCATION:GA
CATEGORIES:Virtual Event,Workforce Developer
END:VEVENT
BEGIN:VEVENT
DTSTART;TZID=America/New_York:20250508T143000
DTEND;TZID=America/New_York:20250508T153000
DTSTAMP:20260422T153346
CREATED:20250417T220441Z
LAST-MODIFIED:20250417T220441Z
UID:10033488-1746714600-1746718200@metroatlantaexchange.org
SUMMARY:International Association of Workforce Professionals (IAWP): All About Jobs - Today's Trends and Tomorrow's Outlook
DESCRIPTION:The International Association of Workforce Professionals (IAWP) is hosting All About Jobs: Today’s Trends and Tomorrow’s Outlook on Thursday\, May 8th\, from 2:30 PM to 3:30 PM. \nDuring this session\, you’ll learn what the latest labor market data tells us about job openings\, employment shifts\, and where the workforce is heading. \nClick here to register.
URL:https://metroatlantaexchange.org/event/international-association-of-workforce-professionals-iawp-all-about-jobs-todays-trends-and-tomorrows-outlook/
LOCATION:GA
CATEGORIES:Virtual Event,Workforce Developer
END:VEVENT
END:VCALENDAR