BEGIN:VCALENDAR
VERSION:2.0
PRODID:-//MAX - ECPv6.15.17.1//NONSGML v1.0//EN
CALSCALE:GREGORIAN
METHOD:PUBLISH
X-ORIGINAL-URL:https://metroatlantaexchange.org
X-WR-CALDESC:Events for MAX
REFRESH-INTERVAL;VALUE=DURATION:PT1H
X-Robots-Tag:noindex
X-PUBLISHED-TTL:PT1H
BEGIN:VTIMEZONE
TZID:America/New_York
BEGIN:DAYLIGHT
TZOFFSETFROM:-0500
TZOFFSETTO:-0400
TZNAME:EDT
DTSTART:20240310T070000
END:DAYLIGHT
BEGIN:STANDARD
TZOFFSETFROM:-0400
TZOFFSETTO:-0500
TZNAME:EST
DTSTART:20241103T060000
END:STANDARD
BEGIN:DAYLIGHT
TZOFFSETFROM:-0500
TZOFFSETTO:-0400
TZNAME:EDT
DTSTART:20250309T070000
END:DAYLIGHT
BEGIN:STANDARD
TZOFFSETFROM:-0400
TZOFFSETTO:-0500
TZNAME:EST
DTSTART:20251102T060000
END:STANDARD
BEGIN:DAYLIGHT
TZOFFSETFROM:-0500
TZOFFSETTO:-0400
TZNAME:EDT
DTSTART:20260308T070000
END:DAYLIGHT
BEGIN:STANDARD
TZOFFSETFROM:-0400
TZOFFSETTO:-0500
TZNAME:EST
DTSTART:20261101T060000
END:STANDARD
END:VTIMEZONE
BEGIN:VEVENT
DTSTART;TZID=America/New_York:20250509T120000
DTEND;TZID=America/New_York:20250509T130000
DTSTAMP:20260424T061247
CREATED:20250506T173130Z
LAST-MODIFIED:20250506T173130Z
UID:10033737-1746792000-1746795600@metroatlantaexchange.org
SUMMARY:National Association of Colleges and Employers (NACE): Streamlining Your Students' Job Search with AI
DESCRIPTION:The National Association of Colleges and Employers (NACE) is hosting on Streamlining Your Students’ Job Search With AI on Friday\, May 9th\, from 12:00 PM to 1:00 PM. \nApplyGenie uses AI to streamline job search by aggregating listings from third-party sites\, ranking them by student fit\, and generating tailored\, high-quality responses to application questions. Learn how your career center can scale smart support with zero extra lift. Join us for ApplyGenie & Job Application AI—a smarter way to support your students’ job search. ApplyGenie uses AI to aggregate listings\, score jobs based on fit\, and auto-fill applications using each student’s resume\, preferences\, and user-inputted information. It saves time\, reduces application errors\, and boosts outcomes. Learn how universities can empower students with personalized\, scalable support that meets them where they are—online and job hunting. \nClick here to learn more and register.
URL:https://metroatlantaexchange.org/event/national-association-of-colleges-and-employers-nace-streamlining-your-students-job-search-with-ai/
LOCATION:GA
CATEGORIES:Virtual Event,Workforce Developer
END:VEVENT
BEGIN:VEVENT
DTSTART;TZID=America/New_York:20250509T140000
DTEND;TZID=America/New_York:20250509T150000
DTSTAMP:20260424T061247
CREATED:20250506T173247Z
LAST-MODIFIED:20250506T173247Z
UID:10033738-1746799200-1746802800@metroatlantaexchange.org
SUMMARY:National Conference of State Legislatures (NCSL): EMS and Overdose Prevention - Innovative Strategies to Save Lives
DESCRIPTION:The National Conference of State Legislatures (NCSL) is hosting a webinar on EMS and Overdose Prevention: Innovative Strategies to Save Lives on Friday\, May 9th\, starting at 2:00 PM. \nThe overdose crisis remains a pressing public health emergency\, with opioid-related deaths affecting communities across the nation. Emergency Medical Services clinicians play a critical role in responding to opioid-related emergencies\, offering lifesaving interventions and connecting patients to care. As states increasingly recognize the role of EMS in overdose prevention\, many are integrating EMS into pre-hospital and community-based behavioral health initiatives. This webinar will explore how EMS can support overdose prevention efforts\, identify legislative opportunities to strengthen collaboration between EMS and public health agencies\, and highlight innovative state programs. \nClick here to learn more and register.
URL:https://metroatlantaexchange.org/event/national-conference-of-state-legislatures-ncsl-ems-and-overdose-prevention-innovative-strategies-to-save-lives/
LOCATION:GA
CATEGORIES:Virtual Event,Workforce Developer
END:VEVENT
BEGIN:VEVENT
DTSTART;TZID=America/New_York:20250509T140000
DTEND;TZID=America/New_York:20250509T150000
DTSTAMP:20260424T061247
CREATED:20250506T173414Z
LAST-MODIFIED:20250506T173414Z
UID:10033739-1746799200-1746802800@metroatlantaexchange.org
SUMMARY:National Conference of State Legislatures: Legislative Staff Week Webinar - Writing for a Legislative Audience
DESCRIPTION:The National Conference of State Legislatures (NCSL) is hosting a Legislative Staff Week Webinar: Writing for a Legislative Audience on Friday\, May 9th\, starting at 2:00 PM. \nLegislative staff create a wide variety of written products. From newsletters to emails to constituent correspondence—the list goes on and on. But regardless of the purpose\, certain tactics are essential to crafting concise\, efficient and easy-to-digest content. In this workshop\, you will learn how to effectively organize your thoughts and put them across in a form that maximizes the impact of your information. \nClick here to learn more and register.
URL:https://metroatlantaexchange.org/event/national-conference-of-state-legislatures-legislative-staff-week-webinar-writing-for-a-legislative-audience/
LOCATION:GA
CATEGORIES:Virtual Event,Workforce Developer
END:VEVENT
BEGIN:VEVENT
DTSTART;TZID=America/New_York:20250509T153000
DTEND;TZID=America/New_York:20250509T163000
DTSTAMP:20260424T061247
CREATED:20250506T173543Z
LAST-MODIFIED:20250506T173543Z
UID:10033740-1746804600-1746808200@metroatlantaexchange.org
SUMMARY:National Conference of State Legislatures (NCSL): Insurers of Last Resort - When You Can't Get Homeowners Insurance
DESCRIPTION:The National Conference of State Legislatures (NCSL) is hosting a webinar on Insurers of Last Resort: When You Can’t Get Homeowners Insurance on Friday\, May 9th\, starting at 3:30 PM. \nAt least 30 states have created residual market plans that help consumers obtain property insurance when they are unable to obtain insurance from the private market. These plans include Fair Access to Insurance Requirements Plans\, beach and windstorm plans\, two state-run insurance companies in Florida and Louisiana and other underwriting associations. Known as insurers of last resort\, how do these residual market plans work and how are they different from the private insurance market? This webinar is hosted by the NCSL Banking\, Financial Services & Insurance Standing Committee and the third in a 4-part series focused on Financial Services issues. \nClick here to learn more and register.
URL:https://metroatlantaexchange.org/event/national-conference-of-state-legislatures-ncsl-insurers-of-last-resort-when-you-cant-get-homeowners-insurance/
LOCATION:GA
CATEGORIES:Virtual Event,Workforce Developer
END:VEVENT
END:VCALENDAR