BEGIN:VCALENDAR
VERSION:2.0
PRODID:-//MAX - ECPv6.15.17.1//NONSGML v1.0//EN
CALSCALE:GREGORIAN
METHOD:PUBLISH
X-ORIGINAL-URL:https://metroatlantaexchange.org
X-WR-CALDESC:Events for MAX
REFRESH-INTERVAL;VALUE=DURATION:PT1H
X-Robots-Tag:noindex
X-PUBLISHED-TTL:PT1H
BEGIN:VTIMEZONE
TZID:America/New_York
BEGIN:DAYLIGHT
TZOFFSETFROM:-0500
TZOFFSETTO:-0400
TZNAME:EDT
DTSTART:20240310T070000
END:DAYLIGHT
BEGIN:STANDARD
TZOFFSETFROM:-0400
TZOFFSETTO:-0500
TZNAME:EST
DTSTART:20241103T060000
END:STANDARD
BEGIN:DAYLIGHT
TZOFFSETFROM:-0500
TZOFFSETTO:-0400
TZNAME:EDT
DTSTART:20250309T070000
END:DAYLIGHT
BEGIN:STANDARD
TZOFFSETFROM:-0400
TZOFFSETTO:-0500
TZNAME:EST
DTSTART:20251102T060000
END:STANDARD
BEGIN:DAYLIGHT
TZOFFSETFROM:-0500
TZOFFSETTO:-0400
TZNAME:EDT
DTSTART:20260308T070000
END:DAYLIGHT
BEGIN:STANDARD
TZOFFSETFROM:-0400
TZOFFSETTO:-0500
TZNAME:EST
DTSTART:20261101T060000
END:STANDARD
END:VTIMEZONE
BEGIN:VEVENT
DTSTART;TZID=America/New_York:20250510T100000
DTEND;TZID=America/New_York:20250510T140000
DTSTAMP:20260422T174147
CREATED:20250417T205527Z
LAST-MODIFIED:20250417T205527Z
UID:10033457-1746871200-1746885600@metroatlantaexchange.org
SUMMARY:Atlanta Department of Labor and Employment Services (ADOLES): Workforce Development Series
DESCRIPTION:The Atlanta Department of Labor and Employment Services (ADOLES) is hosting a Workforce Development Series on Saturday\, May 10th\, from 10:00 AM to 2:00 PM\, at the YMCA of Metropolitan Atlanta Leadership and Learning Center. \nADOLES is excited to introduce an exciting partnership between the City of Atlanta’s Summer Youth Employment Program (SYEP)\, US Department of Labor & the YMCA of Metro Atlanta. Our shared objective is to facilitate a 3-part Workforce Development series to prepare our youth for Summer Youth Employment and the seamless transition of SYEP participants into permanent employment opportunities. Featured workshops will include resume writing\, interviewing skills\, career exploration\, and more. \nClick here to learn more and register.
URL:https://metroatlantaexchange.org/event/atlanta-department-of-labor-and-employment-services-adoles-workforce-development-series/
LOCATION:YMCA of Metro Atlanta\, 569 Martin Luther King Jr. Drive\, NW\, Atlanta\, GA\, 30314\, United States
CATEGORIES:Career Development,In-Person Event,Job Seeker
END:VEVENT
END:VCALENDAR