BEGIN:VCALENDAR
VERSION:2.0
PRODID:-//MAX - ECPv6.15.17.1//NONSGML v1.0//EN
CALSCALE:GREGORIAN
METHOD:PUBLISH
X-WR-CALNAME:MAX
X-ORIGINAL-URL:https://metroatlantaexchange.org
X-WR-CALDESC:Events for MAX
REFRESH-INTERVAL;VALUE=DURATION:PT1H
X-Robots-Tag:noindex
X-PUBLISHED-TTL:PT1H
BEGIN:VTIMEZONE
TZID:America/New_York
BEGIN:DAYLIGHT
TZOFFSETFROM:-0500
TZOFFSETTO:-0400
TZNAME:EDT
DTSTART:20240310T070000
END:DAYLIGHT
BEGIN:STANDARD
TZOFFSETFROM:-0400
TZOFFSETTO:-0500
TZNAME:EST
DTSTART:20241103T060000
END:STANDARD
BEGIN:DAYLIGHT
TZOFFSETFROM:-0500
TZOFFSETTO:-0400
TZNAME:EDT
DTSTART:20250309T070000
END:DAYLIGHT
BEGIN:STANDARD
TZOFFSETFROM:-0400
TZOFFSETTO:-0500
TZNAME:EST
DTSTART:20251102T060000
END:STANDARD
BEGIN:DAYLIGHT
TZOFFSETFROM:-0500
TZOFFSETTO:-0400
TZNAME:EDT
DTSTART:20260308T070000
END:DAYLIGHT
BEGIN:STANDARD
TZOFFSETFROM:-0400
TZOFFSETTO:-0500
TZNAME:EST
DTSTART:20261101T060000
END:STANDARD
END:VTIMEZONE
BEGIN:VEVENT
DTSTART;TZID=America/New_York:20250511T080000
DTEND;TZID=America/New_York:20250517T170000
DTSTAMP:20260422T173326
CREATED:20250506T173706Z
LAST-MODIFIED:20250506T173706Z
UID:10033741-1746950400-1747501200@metroatlantaexchange.org
SUMMARY:International Economic Development Council (IEDC): 2025 Economic Development Week
DESCRIPTION:The International Economic Development Council (IEDC) is hosting 2025 Economic Development Week starting Sunday\, May 11th through Saturday\, May 17th. \nIEDC celebrates Economic Development Week each year to highlight the programs\, best practices\, and exceptional individuals that positively impact life in their communities. In just a few years #EconDevWeek has become one of the most widely recognized events of its kind\, validating the often-unheralded work of the profession and generating hours of media coverage along with thousands of social media impressions. \nClick here to learn more.
URL:https://metroatlantaexchange.org/event/international-economic-development-council-iedc-2025-economic-development-week/
LOCATION:GA
CATEGORIES:Virtual Event,Workforce Developer
END:VEVENT
BEGIN:VEVENT
DTSTART;TZID=America/New_York:20250512T091500
DTEND;TZID=America/New_York:20250512T150000
DTSTAMP:20260422T173326
CREATED:20250417T220846Z
LAST-MODIFIED:20250417T220846Z
UID:10033490-1747041300-1747062000@metroatlantaexchange.org
SUMMARY:Society for Human Resource Management (SHRM) - Atlanta: Demo Days - Mental Health & Employee Assistance Programs
DESCRIPTION:The Society for Human Resource Management (SHRM) – Atlanta is hosting a Demo Days: Mental Health & Employee Assistance Programs webinar on Monday\, May 12th\, from 9:15 AM to 3:00 PM. \nWhat kinds of mental health services are you providing your workforce? Join SHRM-Atlanta’s Demo Days program to learn how to bolster your HR strategies in this area! SHRM-Atlanta’s Demo Days offer a free and efficient opportunity to scan the marketplace via a compact schedule of short demonstrations and associated collateral. Members can then follow up with a company sales team for a discovery call or more comprehensive demonstration. \nClick here to learn more and register.
URL:https://metroatlantaexchange.org/event/society-for-human-resource-management-shrm-atlanta-demo-days-mental-health-employee-assistance-programs/
LOCATION:GA
CATEGORIES:Virtual Event,Workforce Developer
ORGANIZER;CN="The Society for Human Resource Management":MAILTO:info@shrmatlanta.org
END:VEVENT
BEGIN:VEVENT
DTSTART;TZID=America/New_York:20250512T150000
DTEND;TZID=America/New_York:20250512T160000
DTSTAMP:20260422T173326
CREATED:20250506T173835Z
LAST-MODIFIED:20250506T173835Z
UID:10033742-1747062000-1747065600@metroatlantaexchange.org
SUMMARY:National Association of Counties (NACo): Federal Reforms to Medicaid Financing: What Counties Should Know (Part Two)
DESCRIPTION:The National Association of Counties (NACo) is hosting a webinar on Federal Reforms to Medicaid Financing: What Counties Should Know (Part Two) on Monday\, May 12th\, from 3:00 PM to 4:00 PM. \nThis two-part webinar series will examine the vital role Medicaid plays in supporting county-administered behavioral health and primary care services. It will also explore how proposed and ongoing federal financing reforms could impact counties—fiscally\, operationally and in their ability to serve residents. The series will highlight key areas for county engagement and advocacy\, offering insights into how local leaders can help shape Medicaid’s future. \nClick here to learn more and register.
URL:https://metroatlantaexchange.org/event/national-association-of-counties-naco-federal-reforms-to-medicaid-financing-what-counties-should-know-part-two/
LOCATION:GA
CATEGORIES:Virtual Event,Workforce Developer
END:VEVENT
BEGIN:VEVENT
DTSTART;TZID=America/New_York:20250512T153000
DTEND;TZID=America/New_York:20250512T163000
DTSTAMP:20260422T173326
CREATED:20250506T174212Z
LAST-MODIFIED:20250506T174212Z
UID:10033744-1747063800-1747067400@metroatlantaexchange.org
SUMMARY:Manufacturing Institute: Heroes MAKE America for Manufacturers
DESCRIPTION:The Manufacturing Institute is hosting a Heroes MAKE America for Manufacturers webinar on Monday\, May 12th\, from 3:30 PM to 4:30 PM. \nThis webinar will feature an overview of the Heroes MAKE America initiative and offer company representatives insights to learn how to get involved. Participants will also learn how to connect with the incredibly diverse pool of veterans and military spouses as well as provide resources to help prepare your company to recruit\, hire\, and retain this talent. \nClick here to learn more and register.
URL:https://metroatlantaexchange.org/event/manufacturing-institute-heroes-make-america-for-manufacturers-4/
LOCATION:GA
CATEGORIES:Virtual Event,Workforce Developer
END:VEVENT
BEGIN:VEVENT
DTSTART;TZID=America/New_York:20250512T160000
DTEND;TZID=America/New_York:20250515T180000
DTSTAMP:20260422T173326
CREATED:20250506T174050Z
LAST-MODIFIED:20250506T174050Z
UID:10033743-1747065600-1747332000@metroatlantaexchange.org
SUMMARY:Aspen Institute: Spring 2025 Virtual Teen Socrates Seminar - The Odyssey of the Human Spirit: Sources of Vitality and Chaos
DESCRIPTION:The Aspen Institute is hosting a Spring 2025 Virtual Teen Socrates Seminar – The Odyssey of the Human Spirit: Sources of Vitality and Chaos starting Monday\, May 12th through Thursday\, May 15th\, from 4:00 PM to 6:00 PM. \nThe Aspen Institute offers its Teen Socrates Seminar to teens between the ages of 15-17 from the Roaring Fork Valley and beyond. Students convene to take part in this transformational experience and come away with a new perspective on their lives\, their futures\, and society. This four-day virtual seminar is dedicated to enhancing leadership\, problem solving\, and critical thinking skills for high school students in a setting conducive to thought and fellowship. Students are challenged to think more critically and deeply about their values and ideas\, and those that make the good society. Our proven method of text-based dialogue offers participants a neutral forum in which to reflect on timeless human values\, pursue common ground\, and cultivate a richer understanding of the human condition. Participants emerge from the seminar with a new perspective as they confront the difficult choices of our ever-changing world. \nClick here to learn more and register.
URL:https://metroatlantaexchange.org/event/aspen-institute-spring-2025-virtual-teen-socrates-seminar-the-odyssey-of-the-human-spirit-sources-of-vitality-and-chaos/
LOCATION:GA
CATEGORIES:Student,Virtual Event,Workforce Developer
END:VEVENT
END:VCALENDAR