BEGIN:VCALENDAR
VERSION:2.0
PRODID:-//MAX - ECPv6.15.17.1//NONSGML v1.0//EN
CALSCALE:GREGORIAN
METHOD:PUBLISH
X-ORIGINAL-URL:https://metroatlantaexchange.org
X-WR-CALDESC:Events for MAX
REFRESH-INTERVAL;VALUE=DURATION:PT1H
X-Robots-Tag:noindex
X-PUBLISHED-TTL:PT1H
BEGIN:VTIMEZONE
TZID:America/New_York
BEGIN:DAYLIGHT
TZOFFSETFROM:-0500
TZOFFSETTO:-0400
TZNAME:EDT
DTSTART:20240310T070000
END:DAYLIGHT
BEGIN:STANDARD
TZOFFSETFROM:-0400
TZOFFSETTO:-0500
TZNAME:EST
DTSTART:20241103T060000
END:STANDARD
BEGIN:DAYLIGHT
TZOFFSETFROM:-0500
TZOFFSETTO:-0400
TZNAME:EDT
DTSTART:20250309T070000
END:DAYLIGHT
BEGIN:STANDARD
TZOFFSETFROM:-0400
TZOFFSETTO:-0500
TZNAME:EST
DTSTART:20251102T060000
END:STANDARD
BEGIN:DAYLIGHT
TZOFFSETFROM:-0500
TZOFFSETTO:-0400
TZNAME:EDT
DTSTART:20260308T070000
END:DAYLIGHT
BEGIN:STANDARD
TZOFFSETFROM:-0400
TZOFFSETTO:-0500
TZNAME:EST
DTSTART:20261101T060000
END:STANDARD
END:VTIMEZONE
BEGIN:VEVENT
DTSTART;TZID=America/New_York:20250511T080000
DTEND;TZID=America/New_York:20250517T170000
DTSTAMP:20260422T135547
CREATED:20250506T173706Z
LAST-MODIFIED:20250506T173706Z
UID:10033741-1746950400-1747501200@metroatlantaexchange.org
SUMMARY:International Economic Development Council (IEDC): 2025 Economic Development Week
DESCRIPTION:The International Economic Development Council (IEDC) is hosting 2025 Economic Development Week starting Sunday\, May 11th through Saturday\, May 17th. \nIEDC celebrates Economic Development Week each year to highlight the programs\, best practices\, and exceptional individuals that positively impact life in their communities. In just a few years #EconDevWeek has become one of the most widely recognized events of its kind\, validating the often-unheralded work of the profession and generating hours of media coverage along with thousands of social media impressions. \nClick here to learn more.
URL:https://metroatlantaexchange.org/event/international-economic-development-council-iedc-2025-economic-development-week/
LOCATION:GA
CATEGORIES:Virtual Event,Workforce Developer
END:VEVENT
BEGIN:VEVENT
DTSTART;TZID=America/New_York:20250512T160000
DTEND;TZID=America/New_York:20250515T180000
DTSTAMP:20260422T135547
CREATED:20250506T174050Z
LAST-MODIFIED:20250506T174050Z
UID:10033743-1747065600-1747332000@metroatlantaexchange.org
SUMMARY:Aspen Institute: Spring 2025 Virtual Teen Socrates Seminar - The Odyssey of the Human Spirit: Sources of Vitality and Chaos
DESCRIPTION:The Aspen Institute is hosting a Spring 2025 Virtual Teen Socrates Seminar – The Odyssey of the Human Spirit: Sources of Vitality and Chaos starting Monday\, May 12th through Thursday\, May 15th\, from 4:00 PM to 6:00 PM. \nThe Aspen Institute offers its Teen Socrates Seminar to teens between the ages of 15-17 from the Roaring Fork Valley and beyond. Students convene to take part in this transformational experience and come away with a new perspective on their lives\, their futures\, and society. This four-day virtual seminar is dedicated to enhancing leadership\, problem solving\, and critical thinking skills for high school students in a setting conducive to thought and fellowship. Students are challenged to think more critically and deeply about their values and ideas\, and those that make the good society. Our proven method of text-based dialogue offers participants a neutral forum in which to reflect on timeless human values\, pursue common ground\, and cultivate a richer understanding of the human condition. Participants emerge from the seminar with a new perspective as they confront the difficult choices of our ever-changing world. \nClick here to learn more and register.
URL:https://metroatlantaexchange.org/event/aspen-institute-spring-2025-virtual-teen-socrates-seminar-the-odyssey-of-the-human-spirit-sources-of-vitality-and-chaos/
LOCATION:GA
CATEGORIES:Student,Virtual Event,Workforce Developer
END:VEVENT
BEGIN:VEVENT
DTSTART;TZID=America/New_York:20250514T113000
DTEND;TZID=America/New_York:20250514T130000
DTSTAMP:20260422T135547
CREATED:20250506T154613Z
LAST-MODIFIED:20250506T154613Z
UID:10033711-1747222200-1747227600@metroatlantaexchange.org
SUMMARY:Atlanta Ad Club: AAF Atlanta Inclusion Workshop Lunch
DESCRIPTION:The Atlanta Ad Club\, in partnership with Chemistry\, is hosting an AAF Atlanta Inclusion Workshop Lunch on Wednesday\, May 14th\, from 11:30 AM to 1:00 PM\, at Chemistry Agency. \nFor May\, we’re having Part 3 of our AAF Atlanta Spring 2025 Inclusion Workshop Lunch Series\, a dynamic three-part event dedicated to advancing diversity and inclusion in advertising. This series is bringing together industry leaders\, innovators\, and advocates to share insights and strategies for shaping a more inclusive and impactful advertising landscape. Our May 14th Workshop will focus on Diverse Leadership ‘s Workforce in Advertising: Driving Innovation presented by Chemistry. \nClick here to learn more and register.
URL:https://metroatlantaexchange.org/event/atlanta-ad-club-aaf-atlanta-inclusion-workshop-lunch/
LOCATION:Chemistry Agency\, 1045 West Marietta Street\, NW\, Atlanta\, GA\, 30318\, United States
CATEGORIES:In-Person Event,Workforce Developer
END:VEVENT
BEGIN:VEVENT
DTSTART;TZID=America/New_York:20250514T120000
DTEND;TZID=America/New_York:20250514T130000
DTSTAMP:20260422T135547
CREATED:20250506T174529Z
LAST-MODIFIED:20250506T174529Z
UID:10033746-1747224000-1747227600@metroatlantaexchange.org
SUMMARY:Aspen Institute: Communicating for Policy
DESCRIPTION:The Aspen Institute is hosting a webinar on Communicating for Policy on Wednesday\, May 14th\, from 12:00 PM to 1:00 PM. \nJoin us to learn the basics of communicating your ideas for policy impact to stakeholders both in and outside of government. This program will teach you broad principles for communicating to policymakers\, as well as tips on how to more effectively communicate — both in writing and orally — in order to achieve policy change on the issues you care about. \nClick here to learn more and register.
URL:https://metroatlantaexchange.org/event/aspen-institute-communicating-for-policy/
LOCATION:GA
CATEGORIES:Virtual Event,Workforce Developer
END:VEVENT
BEGIN:VEVENT
DTSTART;TZID=America/New_York:20250514T130000
DTEND;TZID=America/New_York:20250514T140000
DTSTAMP:20260422T135547
CREATED:20250506T174406Z
LAST-MODIFIED:20250506T174406Z
UID:10033745-1747227600-1747231200@metroatlantaexchange.org
SUMMARY:American College Testing (ACT): Fostering Inclusion - What Makes It Challenging and How Can We Do It?
DESCRIPTION:American College Testing (ACT) is hosting a webinar on Fostering Inclusion: What Makes It Challenging and How Can We Do It? on Wednesday\, May 14th\, starting at 1:00 PM. \nMany organizations and their leaders strive to foster inclusion\, recognizing its power to enhance collaboration and unlock the benefits of different perspectives. Yet\, achieving true inclusion isn’t always straightforward — it can present paradoxes that\, when misunderstood or mishandled\, can create division and stall progress. In this engaging webinar\, Dr. Bernardo Ferdman will explore these paradoxes of inclusion\, revealing how they may hinder organizational progress if left unaddressed. He will share practical solutions to navigate these complexities and introduce inclusive behaviors that everyone can adopt to create a more welcoming workplace. \nClick here to learn more and register.
URL:https://metroatlantaexchange.org/event/american-college-testing-act-fostering-inclusion-what-makes-it-challenging-and-how-can-we-do-it/
LOCATION:GA
CATEGORIES:Virtual Event,Workforce Developer
END:VEVENT
BEGIN:VEVENT
DTSTART;TZID=America/New_York:20250514T140000
DTEND;TZID=America/New_York:20250514T150000
DTSTAMP:20260422T135547
CREATED:20250506T174713Z
LAST-MODIFIED:20250506T174713Z
UID:10033747-1747231200-1747234800@metroatlantaexchange.org
SUMMARY:National Association of Counties (NACo): From Languishing to Flourishing - Strategies for County Professionals to Reclaim Joy and Wellbeing\, a NACo EDGE Webinar
DESCRIPTION:The National Association of Counties (NACo) is hosting From Languishing to Flourishing: Strategies for County Professionals to Reclaim Joy and Wellbeing\, a NACo EDGE Webinar on Wednesday\, May 14th\, from 2:00 PM to 3:00 PM. \nNavigating challenges can leave many county leaders and employees overwhelmed and disengaged. This state\, known as languishing\, can drain motivation\, hinder productivity and impact overall wellbeing. But there’s a path forward. Join the National Council for Mental Wellbeing and the National Association of Counties (NACo) for an engaging webinar specifically for U.S. county professionals. \nClick here to learn more and register.
URL:https://metroatlantaexchange.org/event/national-association-of-counties-naco-from-languishing-to-flourishing-strategies-for-county-professionals-to-reclaim-joy-and-wellbeing-a-naco-edge-webinar/
LOCATION:GA
CATEGORIES:Virtual Event,Workforce Developer
END:VEVENT
BEGIN:VEVENT
DTSTART;TZID=America/New_York:20250514T150000
DTEND;TZID=America/New_York:20250514T160000
DTSTAMP:20260422T135547
CREATED:20250506T174910Z
LAST-MODIFIED:20250506T174910Z
UID:10033748-1747234800-1747238400@metroatlantaexchange.org
SUMMARY:National League of Cities (NLC): How Police Departments Can Become Community Mental Health and Violence Prevention Leaders
DESCRIPTION:The National League of Cities (NLC) is hosting a webinar on How Police Departments Can Become Community Mental Health and Violence Prevention Leaders on Wednesday\, May 14th\, from 3:00 PM to 4:00 PM. \nThe Rapid City SD Police Department is on an innovative journey to improve public safety and deepen relationships with their community. By focusing on wellbeing and mental health and addressing the root causes of community violence\, the Department has successfully implemented a Quality of Life Unit. The unit works to serve people experiencing interconnected issues such as homelessness and substance use disorder. The department also implemented a Youth Outreach Team that offers afterschool programming and operates a food bank and other community-based programming. Join us for this webinar during National Mental Health Awareness Month to learn more. \nClick here to learn more and register.
URL:https://metroatlantaexchange.org/event/national-league-of-cities-nlc-how-police-departments-can-become-community-mental-health-and-violence-prevention-leaders/
LOCATION:GA
CATEGORIES:Virtual Event,Workforce Developer
ORGANIZER;CN="National League of Cities":MAILTO:info@nlc.org
END:VEVENT
END:VCALENDAR