BEGIN:VCALENDAR
VERSION:2.0
PRODID:-//MAX - ECPv6.15.17.1//NONSGML v1.0//EN
CALSCALE:GREGORIAN
METHOD:PUBLISH
X-ORIGINAL-URL:https://metroatlantaexchange.org
X-WR-CALDESC:Events for MAX
REFRESH-INTERVAL;VALUE=DURATION:PT1H
X-Robots-Tag:noindex
X-PUBLISHED-TTL:PT1H
BEGIN:VTIMEZONE
TZID:America/New_York
BEGIN:DAYLIGHT
TZOFFSETFROM:-0500
TZOFFSETTO:-0400
TZNAME:EDT
DTSTART:20240310T070000
END:DAYLIGHT
BEGIN:STANDARD
TZOFFSETFROM:-0400
TZOFFSETTO:-0500
TZNAME:EST
DTSTART:20241103T060000
END:STANDARD
BEGIN:DAYLIGHT
TZOFFSETFROM:-0500
TZOFFSETTO:-0400
TZNAME:EDT
DTSTART:20250309T070000
END:DAYLIGHT
BEGIN:STANDARD
TZOFFSETFROM:-0400
TZOFFSETTO:-0500
TZNAME:EST
DTSTART:20251102T060000
END:STANDARD
BEGIN:DAYLIGHT
TZOFFSETFROM:-0500
TZOFFSETTO:-0400
TZNAME:EDT
DTSTART:20260308T070000
END:DAYLIGHT
BEGIN:STANDARD
TZOFFSETFROM:-0400
TZOFFSETTO:-0500
TZNAME:EST
DTSTART:20261101T060000
END:STANDARD
END:VTIMEZONE
BEGIN:VEVENT
DTSTART;TZID=America/New_York:20250515T100000
DTEND;TZID=America/New_York:20250515T130000
DTSTAMP:20260422T173811
CREATED:20250511T182102Z
LAST-MODIFIED:20250511T182102Z
UID:10033778-1747303200-1747314000@metroatlantaexchange.org
SUMMARY:Goodwill of North Georgia: Summer Success Job Fair
DESCRIPTION:Goodwill of North Georgia is hosting a Summer Success Job Fair on Thursday\, May 15th\, from 10:00 AM to 1:00 PM\, at the South DeKalb Career Center. \nFor more information\, call 404-728-8605. Click here to learn more and register.
URL:https://metroatlantaexchange.org/event/goodwill-of-north-georgia-summer-success-job-fair/
LOCATION:Goodwill of North Georgia – South DeKalb Career Center\, 1295 Columbia Drive\, Decatur\, GA\, 30032\, United States
CATEGORIES:In-Person Event,Job Seeker
GEO:33.7510576;-84.2656565
X-APPLE-STRUCTURED-LOCATION;VALUE=URI;X-ADDRESS=Goodwill of North Georgia – South DeKalb Career Center 1295 Columbia Drive Decatur GA 30032 United States;X-APPLE-RADIUS=500;X-TITLE=1295 Columbia Drive:geo:-84.2656565,33.7510576
END:VEVENT
BEGIN:VEVENT
DTSTART;TZID=America/New_York:20250515T110000
DTEND;TZID=America/New_York:20250515T123000
DTSTAMP:20260422T173811
CREATED:20250506T154759Z
LAST-MODIFIED:20250506T154759Z
UID:10033712-1747306800-1747312200@metroatlantaexchange.org
SUMMARY:Collaborative Training Company: Typewriters to TikTok - Navigating Multi-Generational Teams
DESCRIPTION:The Collaborative Training Company is hosting a Typewriters to TikTok – Navigating Multi-Generational Teams event on Thursday\, May 15th\, from 11:00 AM to 12:30 PM\, at the Russell Innovation Center for Entrepreneurs. \nJoin us on May 15th for an engaging\, eye-opening workshop on navigating today’s multi-generational workplace. In this interactive session\, we’ll explore the defining traits of Boomers\, Gen X\, Millennials\, and Gen Z\, uncover the cultural influences that shaped them\, and take a deeper look at the stereotypes that can divide—or unite—teams. Through dynamic activities and real-world insights\, you’ll gain practical strategies to foster collaboration\, reduce friction\, and lead across generations with confidence. Whether you’re a team leader\, manager\, workforce or HR professional\, this workshop will equip you to build a more inclusive and productive workplace where every generation can thrive. Lunch will be provided. The event is free\, but registration is required. \nClick here to register.
URL:https://metroatlantaexchange.org/event/collaborative-training-company-typewriters-to-tiktok-navigating-multi-generational-teams/
LOCATION:Russell Innovation Center for Entrepreneurs\, 504 Fair Street\, Atlanta\, GA\, 30313\, United States
CATEGORIES:In-Person Event,Workforce Developer
END:VEVENT
BEGIN:VEVENT
DTSTART;TZID=America/New_York:20250515T180000
DTEND;TZID=America/New_York:20250515T210000
DTSTAMP:20260422T173811
CREATED:20250417T221512Z
LAST-MODIFIED:20250417T221512Z
UID:10033493-1747332000-1747342800@metroatlantaexchange.org
SUMMARY:United Way of Greater Atlanta: Toast to Her - Celebrating 25 Years of Women United
DESCRIPTION:United Way of Greater Atlanta is hosting a Toast to Her: Celebrating 25 Years of Women United on Thursday\, May 15th\, from 6:00 PM to 9:00 PM\, at the Dogwood at Westside Paper. \n“Toast to Her” is an annual celebration of powerful women who have made great strides in our community. This cocktail reception will feature networking\, live entertainment\, powerful programming\, and more. Beer and wine fit for a toast as well as heavy hors d’oeuvres will be served. Raise a glass while contributing to the legacy of change-making women in Atlanta. We cannot wait to spend this momentous evening with you! \nClick here to learn more and register.
URL:https://metroatlantaexchange.org/event/united-way-of-greater-atlanta-toast-to-her-celebrating-25-years-of-women-united/
LOCATION:Dogwood at Westside Paper\, 950 West Marietta Street\, NW\, Atlanta\, GA\, 30318\, United States
CATEGORIES:In-Person Event,Workforce Developer
END:VEVENT
END:VCALENDAR