BEGIN:VCALENDAR
VERSION:2.0
PRODID:-//MAX - ECPv6.15.17.1//NONSGML v1.0//EN
CALSCALE:GREGORIAN
METHOD:PUBLISH
X-WR-CALNAME:MAX
X-ORIGINAL-URL:https://metroatlantaexchange.org
X-WR-CALDESC:Events for MAX
REFRESH-INTERVAL;VALUE=DURATION:PT1H
X-Robots-Tag:noindex
X-PUBLISHED-TTL:PT1H
BEGIN:VTIMEZONE
TZID:America/New_York
BEGIN:DAYLIGHT
TZOFFSETFROM:-0500
TZOFFSETTO:-0400
TZNAME:EDT
DTSTART:20240310T070000
END:DAYLIGHT
BEGIN:STANDARD
TZOFFSETFROM:-0400
TZOFFSETTO:-0500
TZNAME:EST
DTSTART:20241103T060000
END:STANDARD
BEGIN:DAYLIGHT
TZOFFSETFROM:-0500
TZOFFSETTO:-0400
TZNAME:EDT
DTSTART:20250309T070000
END:DAYLIGHT
BEGIN:STANDARD
TZOFFSETFROM:-0400
TZOFFSETTO:-0500
TZNAME:EST
DTSTART:20251102T060000
END:STANDARD
BEGIN:DAYLIGHT
TZOFFSETFROM:-0500
TZOFFSETTO:-0400
TZNAME:EDT
DTSTART:20260308T070000
END:DAYLIGHT
BEGIN:STANDARD
TZOFFSETFROM:-0400
TZOFFSETTO:-0500
TZNAME:EST
DTSTART:20261101T060000
END:STANDARD
END:VTIMEZONE
BEGIN:VEVENT
DTSTART;TZID=America/New_York:20250515T130000
DTEND;TZID=America/New_York:20250515T140000
DTSTAMP:20260422T225304
CREATED:20250417T210505Z
LAST-MODIFIED:20250417T210505Z
UID:10033462-1747314000-1747317600@metroatlantaexchange.org
SUMMARY:Hiring Our Heroes: Veterans' Resume Virtual Lab - Showcasing Your Skills
DESCRIPTION:Hiring Our Heroes is hosting a Veterans’ Resume Virtual Lab: Showcasing Your Skills on Thursday\, May 15th\, starting at 1:00 PM. \nAre you a veteran looking to transition into a civilian career? Your military experience has equipped you with a unique set of skills and strengths that are highly valuable in the civilian job market. Join us for the Veterans’ Resume Lab\, a workshop designed to help you craft a resume that effectively showcases your unique skills and experiences. Whether you’re just starting your job search or looking to improve your existing resume\, this workshop will provide you with the tools and confidence you need to succeed. \nClick here to register via Zoom.
URL:https://metroatlantaexchange.org/event/hiring-our-heroes-veterans-resume-virtual-lab-showcasing-your-skills/
LOCATION:GA
CATEGORIES:Career Development,Job Seeker,Veterans/Military,Virtual Event
END:VEVENT
END:VCALENDAR