BEGIN:VCALENDAR
VERSION:2.0
PRODID:-//MAX - ECPv6.15.17.1//NONSGML v1.0//EN
CALSCALE:GREGORIAN
METHOD:PUBLISH
X-ORIGINAL-URL:https://metroatlantaexchange.org
X-WR-CALDESC:Events for MAX
REFRESH-INTERVAL;VALUE=DURATION:PT1H
X-Robots-Tag:noindex
X-PUBLISHED-TTL:PT1H
BEGIN:VTIMEZONE
TZID:America/New_York
BEGIN:DAYLIGHT
TZOFFSETFROM:-0500
TZOFFSETTO:-0400
TZNAME:EDT
DTSTART:20240310T070000
END:DAYLIGHT
BEGIN:STANDARD
TZOFFSETFROM:-0400
TZOFFSETTO:-0500
TZNAME:EST
DTSTART:20241103T060000
END:STANDARD
BEGIN:DAYLIGHT
TZOFFSETFROM:-0500
TZOFFSETTO:-0400
TZNAME:EDT
DTSTART:20250309T070000
END:DAYLIGHT
BEGIN:STANDARD
TZOFFSETFROM:-0400
TZOFFSETTO:-0500
TZNAME:EST
DTSTART:20251102T060000
END:STANDARD
BEGIN:DAYLIGHT
TZOFFSETFROM:-0500
TZOFFSETTO:-0400
TZNAME:EDT
DTSTART:20260308T070000
END:DAYLIGHT
BEGIN:STANDARD
TZOFFSETFROM:-0400
TZOFFSETTO:-0500
TZNAME:EST
DTSTART:20261101T060000
END:STANDARD
END:VTIMEZONE
BEGIN:VEVENT
DTSTART;TZID=America/New_York:20250511T080000
DTEND;TZID=America/New_York:20250517T170000
DTSTAMP:20260422T135542
CREATED:20250506T173706Z
LAST-MODIFIED:20250506T173706Z
UID:10033741-1746950400-1747501200@metroatlantaexchange.org
SUMMARY:International Economic Development Council (IEDC): 2025 Economic Development Week
DESCRIPTION:The International Economic Development Council (IEDC) is hosting 2025 Economic Development Week starting Sunday\, May 11th through Saturday\, May 17th. \nIEDC celebrates Economic Development Week each year to highlight the programs\, best practices\, and exceptional individuals that positively impact life in their communities. In just a few years #EconDevWeek has become one of the most widely recognized events of its kind\, validating the often-unheralded work of the profession and generating hours of media coverage along with thousands of social media impressions. \nClick here to learn more.
URL:https://metroatlantaexchange.org/event/international-economic-development-council-iedc-2025-economic-development-week/
LOCATION:GA
CATEGORIES:Virtual Event,Workforce Developer
END:VEVENT
BEGIN:VEVENT
DTSTART;TZID=America/New_York:20250515T090000
DTEND;TZID=America/New_York:20250516T170000
DTSTAMP:20260422T135542
CREATED:20250512T211953Z
LAST-MODIFIED:20250512T211953Z
UID:10033819-1747299600-1747414800@metroatlantaexchange.org
SUMMARY:National Association of Colleges and Employers (NACE): 2025 Virtual Capstone - Career Coaching Intensive
DESCRIPTION:The National Association of Colleges and Employers (NACE) is hosting a 2025 Virtual Capstone: Career Coaching Intensive on Thursday\, May 15th and Friday\, May 16th\, from 9:00 AM to 5:00 PM. \nJoin NACE at their Virtual Capstone: Career Coaching Intensive! In this two-day content rich webcast\, you’ll learn effective coaching techniques to use with groups as well as individuals\, learn how to select and apply the technique best suited for your clients\, and gain insight into leading practices in career coaching. Appropriate for practitioners at all levels\, the Career Coaching Intensive will empower you to effectively support your students in the career development process. \nClick here to learn more and register.
URL:https://metroatlantaexchange.org/event/national-association-of-colleges-and-employers-nace-2025-virtual-capstone-career-coaching-intensive/
LOCATION:GA
CATEGORIES:Virtual Event,Workforce Developer
END:VEVENT
BEGIN:VEVENT
DTSTART;TZID=America/New_York:20250516T130000
DTEND;TZID=America/New_York:20250516T140000
DTSTAMP:20260422T135542
CREATED:20250506T181536Z
LAST-MODIFIED:20250506T181536Z
UID:10033755-1747400400-1747404000@metroatlantaexchange.org
SUMMARY:National Association of Colleges and Employers (NACE): Be An Influence - Managing Your Internal and External Stakeholders
DESCRIPTION:The National Association of Colleges and Employers (NACE) is hosting Be An Influencer: Managing Your Internal and External Stakeholders webinar on Friday\, May 16th\, from 1:00 PM to 2:00 PM. \nDo you think you have influence over your stakeholders? Come join two recruiters from Bloomberg to learn how they generated buy-in from their key stakeholders to build successful programs. You will learn who your stakeholders are\, gain understanding of your communication style and learn to flex your communication style to create influence. \nClick here to learn more and register.
URL:https://metroatlantaexchange.org/event/national-association-of-colleges-and-employers-nace-be-an-influence-managing-your-internal-and-external-stakeholders/
LOCATION:GA
CATEGORIES:Virtual Event,Workforce Developer
END:VEVENT
END:VCALENDAR