BEGIN:VCALENDAR
VERSION:2.0
PRODID:-//MAX - ECPv6.15.17.1//NONSGML v1.0//EN
CALSCALE:GREGORIAN
METHOD:PUBLISH
X-ORIGINAL-URL:https://metroatlantaexchange.org
X-WR-CALDESC:Events for MAX
REFRESH-INTERVAL;VALUE=DURATION:PT1H
X-Robots-Tag:noindex
X-PUBLISHED-TTL:PT1H
BEGIN:VTIMEZONE
TZID:America/New_York
BEGIN:DAYLIGHT
TZOFFSETFROM:-0500
TZOFFSETTO:-0400
TZNAME:EDT
DTSTART:20240310T070000
END:DAYLIGHT
BEGIN:STANDARD
TZOFFSETFROM:-0400
TZOFFSETTO:-0500
TZNAME:EST
DTSTART:20241103T060000
END:STANDARD
BEGIN:DAYLIGHT
TZOFFSETFROM:-0500
TZOFFSETTO:-0400
TZNAME:EDT
DTSTART:20250309T070000
END:DAYLIGHT
BEGIN:STANDARD
TZOFFSETFROM:-0400
TZOFFSETTO:-0500
TZNAME:EST
DTSTART:20251102T060000
END:STANDARD
BEGIN:DAYLIGHT
TZOFFSETFROM:-0500
TZOFFSETTO:-0400
TZNAME:EDT
DTSTART:20260308T070000
END:DAYLIGHT
BEGIN:STANDARD
TZOFFSETFROM:-0400
TZOFFSETTO:-0500
TZNAME:EST
DTSTART:20261101T060000
END:STANDARD
END:VTIMEZONE
BEGIN:VEVENT
DTSTART;TZID=America/New_York:20250518T080000
DTEND;TZID=America/New_York:20250521T170000
DTSTAMP:20260422T192627
CREATED:20240718T165812Z
LAST-MODIFIED:20240718T165812Z
UID:10032005-1747555200-1747846800@metroatlantaexchange.org
SUMMARY:Association for Talent Development: ATD25 Conference
DESCRIPTION:The Association for Talent Development is hosting an ATD25 Conference on Sunday\, May 18th through Wednesday\, May 21st\, 2025\, in Washington\, D.C. \nPrepare to recharge your soul at ATD25\, the world’s largest learning and development conference\, uniting professionals from across the globe. Our mission is to refresh your expertise\, renew your enthusiasm\, and re-engage in meaningful connections within the community. With various educational opportunities\, cutting-edge solutions at the expo floor\, and networking at every turn\, ATD25 is your hub for revitalization and success. \nClick here to learn more and register.
URL:https://metroatlantaexchange.org/event/association-for-talent-development-atd25-conference/
LOCATION:GA
CATEGORIES:Conferences,In-Person Event,Workforce Developer
END:VEVENT
END:VCALENDAR