BEGIN:VCALENDAR
VERSION:2.0
PRODID:-//MAX - ECPv6.15.17.1//NONSGML v1.0//EN
CALSCALE:GREGORIAN
METHOD:PUBLISH
X-ORIGINAL-URL:https://metroatlantaexchange.org
X-WR-CALDESC:Events for MAX
REFRESH-INTERVAL;VALUE=DURATION:PT1H
X-Robots-Tag:noindex
X-PUBLISHED-TTL:PT1H
BEGIN:VTIMEZONE
TZID:America/New_York
BEGIN:DAYLIGHT
TZOFFSETFROM:-0500
TZOFFSETTO:-0400
TZNAME:EDT
DTSTART:20240310T070000
END:DAYLIGHT
BEGIN:STANDARD
TZOFFSETFROM:-0400
TZOFFSETTO:-0500
TZNAME:EST
DTSTART:20241103T060000
END:STANDARD
BEGIN:DAYLIGHT
TZOFFSETFROM:-0500
TZOFFSETTO:-0400
TZNAME:EDT
DTSTART:20250309T070000
END:DAYLIGHT
BEGIN:STANDARD
TZOFFSETFROM:-0400
TZOFFSETTO:-0500
TZNAME:EST
DTSTART:20251102T060000
END:STANDARD
BEGIN:DAYLIGHT
TZOFFSETFROM:-0500
TZOFFSETTO:-0400
TZNAME:EDT
DTSTART:20260308T070000
END:DAYLIGHT
BEGIN:STANDARD
TZOFFSETFROM:-0400
TZOFFSETTO:-0500
TZNAME:EST
DTSTART:20261101T060000
END:STANDARD
END:VTIMEZONE
BEGIN:VEVENT
DTSTART;TZID=America/New_York:20250519T093000
DTEND;TZID=America/New_York:20250519T120000
DTSTAMP:20260422T211615
CREATED:20250512T180513Z
LAST-MODIFIED:20250512T180513Z
UID:10033796-1747647000-1747656000@metroatlantaexchange.org
SUMMARY:Atlanta Center for Self-Sufficiency: CareerWorks Orientation
DESCRIPTION:The Atlanta Center for Self-Sufficiency is hosting a CareerWorks Orientation on Monday\, May 19th\, from 9:30 AM to 12:00 PM\, at Families First. \nJoin us for an informative session to kickstart your career journey. Our orientation will outline services and resources designed to help you navigate the job market successfully. Whether you’re unemployed\, a recent graduate\, considering a career change\, or looking to enhance your skills… the CareerWorks Orientation is the perfect place to start. Don’t miss out on this chance to take the next step towards your dream job! \nClick here to learn more and register.
URL:https://metroatlantaexchange.org/event/atlanta-center-for-self-sufficiency-careerworks-orientation/
LOCATION:Families First\, 80 Joseph E. Lowery Boulevard\, NW\, Atlanta\, GA\, 30314\, United States
CATEGORIES:Career Development,In-Person Event,Job Seeker
GEO:33.7570374;-84.4178949
X-APPLE-STRUCTURED-LOCATION;VALUE=URI;X-ADDRESS=Families First 80 Joseph E. Lowery Boulevard NW Atlanta GA 30314 United States;X-APPLE-RADIUS=500;X-TITLE=80 Joseph E. Lowery Boulevard\, NW:geo:-84.4178949,33.7570374
END:VEVENT
BEGIN:VEVENT
DTSTART;TZID=America/New_York:20250519T100000
DTEND;TZID=America/New_York:20250519T110000
DTSTAMP:20260422T211615
CREATED:20250512T180711Z
LAST-MODIFIED:20250512T180711Z
UID:10033797-1747648800-1747652400@metroatlantaexchange.org
SUMMARY:Goodwill of North Georgia: On-Site Basic Computer Skills Workshop
DESCRIPTION:Goodwill of North Georgia is hosting an On-Site Basic Computer Skills Workshop on Monday\, May 19th\, from 10:00 AM to 11:00 AM\, at the Metropolitan Parkway Career Center. \nFor more information\, call 770-795-4204. \nClick here to learn more and register.
URL:https://metroatlantaexchange.org/event/goodwill-of-north-georgia-on-site-basic-computer-skills-workshop/
LOCATION:Goodwill of North Georgia – Metropolitan Parkway Career Center\, 2160 Metropolitan Parkway\, Atlanta\, GA\, 30315\, United States
CATEGORIES:Career Development,In-Person Event,Job Seeker
END:VEVENT
END:VCALENDAR