BEGIN:VCALENDAR
VERSION:2.0
PRODID:-//MAX - ECPv6.15.17.1//NONSGML v1.0//EN
CALSCALE:GREGORIAN
METHOD:PUBLISH
X-ORIGINAL-URL:https://metroatlantaexchange.org
X-WR-CALDESC:Events for MAX
REFRESH-INTERVAL;VALUE=DURATION:PT1H
X-Robots-Tag:noindex
X-PUBLISHED-TTL:PT1H
BEGIN:VTIMEZONE
TZID:America/New_York
BEGIN:DAYLIGHT
TZOFFSETFROM:-0500
TZOFFSETTO:-0400
TZNAME:EDT
DTSTART:20240310T070000
END:DAYLIGHT
BEGIN:STANDARD
TZOFFSETFROM:-0400
TZOFFSETTO:-0500
TZNAME:EST
DTSTART:20241103T060000
END:STANDARD
BEGIN:DAYLIGHT
TZOFFSETFROM:-0500
TZOFFSETTO:-0400
TZNAME:EDT
DTSTART:20250309T070000
END:DAYLIGHT
BEGIN:STANDARD
TZOFFSETFROM:-0400
TZOFFSETTO:-0500
TZNAME:EST
DTSTART:20251102T060000
END:STANDARD
BEGIN:DAYLIGHT
TZOFFSETFROM:-0500
TZOFFSETTO:-0400
TZNAME:EDT
DTSTART:20260308T070000
END:DAYLIGHT
BEGIN:STANDARD
TZOFFSETFROM:-0400
TZOFFSETTO:-0500
TZNAME:EST
DTSTART:20261101T060000
END:STANDARD
END:VTIMEZONE
BEGIN:VEVENT
DTSTART;TZID=America/New_York:20250518T080000
DTEND;TZID=America/New_York:20250521T170000
DTSTAMP:20260422T174321
CREATED:20240718T165812Z
LAST-MODIFIED:20240718T165812Z
UID:10032005-1747555200-1747846800@metroatlantaexchange.org
SUMMARY:Association for Talent Development: ATD25 Conference
DESCRIPTION:The Association for Talent Development is hosting an ATD25 Conference on Sunday\, May 18th through Wednesday\, May 21st\, 2025\, in Washington\, D.C. \nPrepare to recharge your soul at ATD25\, the world’s largest learning and development conference\, uniting professionals from across the globe. Our mission is to refresh your expertise\, renew your enthusiasm\, and re-engage in meaningful connections within the community. With various educational opportunities\, cutting-edge solutions at the expo floor\, and networking at every turn\, ATD25 is your hub for revitalization and success. \nClick here to learn more and register.
URL:https://metroatlantaexchange.org/event/association-for-talent-development-atd25-conference/
LOCATION:GA
CATEGORIES:Conferences,In-Person Event,Workforce Developer
END:VEVENT
BEGIN:VEVENT
DTSTART;TZID=America/New_York:20250520T080000
DTEND;TZID=America/New_York:20250520T093000
DTSTAMP:20260422T174321
CREATED:20250506T155020Z
LAST-MODIFIED:20250506T155020Z
UID:10033713-1747728000-1747733400@metroatlantaexchange.org
SUMMARY:United Way of Greater Atlanta: Brewing Connections - Sip\, Share and Celebrate
DESCRIPTION:United Way of Greater Atlanta is hosting Brewing Connections: Sip\, Share and Celebrate on Tuesday\, May 20th\, from 8:00 AM to 9:30 AM\, at the Arts Clayton Gallery. \nJoin us for a delightful coffee chat hosted by United Way of Greater Atlanta in the Southern Crescent. This is a perfect chance to connect with fellow community members\, savor a delicious cup of coffee\, and discover the incredible work United Way is doing to make a difference in our community. Connecting Communities one sip at a time. Don’t miss this exciting opportunity to engage\, learn\, and enjoy! \nClick here to learn more and register.
URL:https://metroatlantaexchange.org/event/united-way-of-greater-atlanta-brewing-connections-sip-share-and-celebrate/
LOCATION:Arts Clayton Gallery\, 136 South Main Street\, Jonesboro\, GA\, 30236\, United States
CATEGORIES:In-Person Event,Workforce Developer
END:VEVENT
BEGIN:VEVENT
DTSTART;TZID=America/New_York:20250520T080000
DTEND;TZID=America/New_York:20250522T170000
DTSTAMP:20260422T174321
CREATED:20250506T181801Z
LAST-MODIFIED:20250506T181801Z
UID:10033756-1747728000-1747933200@metroatlantaexchange.org
SUMMARY:Manufacturing Institute: 2025 FAME National Conference
DESCRIPTION:The Manufacturing Institute is hosting the 2025 FAME National Conference on Tuesday\, May 20th through Thursday\, May 22nd\, at the Hilton Charlotte University Place Hotel. \nThe FAME National Conference is returning in 2025! Join us for three days of learning\, improving\, supporting\, and growing with the FAME USA network. This event will convene employers\, college representatives\, econ/workforce development professionals and others from around the FAME USA network (16 states and growing!) You will get the opportunity to workshop important topics with fellow FAME chapters and learn more about how chapters are adapting to changes in the workforce and economy. \nClick here to learn more and register.
URL:https://metroatlantaexchange.org/event/manufacturing-institute-2025-fame-national-conference/
LOCATION:Hilton Charlotte University Place Hotel\, 8629 JM Keynes Drive\, Charlotte\, NC\, 28262\, United States
CATEGORIES:Conferences,In-Person Event,Workforce Developer
END:VEVENT
BEGIN:VEVENT
DTSTART;TZID=America/New_York:20250520T100000
DTEND;TZID=America/New_York:20250520T140000
DTSTAMP:20260422T174321
CREATED:20250519T220307Z
LAST-MODIFIED:20250519T220307Z
UID:10033831-1747735200-1747749600@metroatlantaexchange.org
SUMMARY:Five Guys: Hiring Event
DESCRIPTION:Five Guys is hosting a Hiring Event on Tuesday\, May 20th and Wednesday\, May 21st\, from 10:00 AM to 2:00 PM and 4:00 PM to 6:00 PM\, at Five Guys. \nFive Guys is serving up excellent opportunities at our new store that is opening soon in Stockbridge\, GA and our already opened location in McDonough\, GA. We are currently interviewing for Crew Members\, Shift Leaders and Shift Managers to join our team. Sign up now to secure an interview to discuss the jobs you are interested in. If you’re not sure what time works for you\, walk-ins are also welcomed. Come talk to us about our opportunities\, all of which are eligible for base hourly pay + tips + bonus and a free employee shift meal. \nClick here to learn more and register for your interview slot.
URL:https://metroatlantaexchange.org/event/five-guys-hiring-event/2025-05-20/1/
LOCATION:Five Guys\, 1508 Highway 20\, McDonough\, GA\, 30253\, United States
CATEGORIES:In-Person Event,Job Seeker
END:VEVENT
BEGIN:VEVENT
DTSTART;TZID=America/New_York:20250520T110000
DTEND;TZID=America/New_York:20250520T140000
DTSTAMP:20260422T174321
CREATED:20250511T182521Z
LAST-MODIFIED:20250511T182521Z
UID:10033780-1747738800-1747749600@metroatlantaexchange.org
SUMMARY:Goodwill of North Georgia: Phillips State Prison Hiring Event
DESCRIPTION:Goodwill of North Georgia is hosting a Phillips State Prison Hiring Event on Tuesday\, May 20th\, from 11:00 AM to 2:00 PM\, at the South DeKalb Career Center. \nFor more information\, call 404-728-8605. \nClick here to learn more and register.
URL:https://metroatlantaexchange.org/event/goodwill-of-north-georgia-phillips-state-prison-hiring-event-3/
LOCATION:Goodwill of North Georgia – South DeKalb Career Center\, 1295 Columbia Drive\, Decatur\, GA\, 30032\, United States
CATEGORIES:In-Person Event,Job Seeker
GEO:33.7510576;-84.2656565
X-APPLE-STRUCTURED-LOCATION;VALUE=URI;X-ADDRESS=Goodwill of North Georgia – South DeKalb Career Center 1295 Columbia Drive Decatur GA 30032 United States;X-APPLE-RADIUS=500;X-TITLE=1295 Columbia Drive:geo:-84.2656565,33.7510576
END:VEVENT
BEGIN:VEVENT
DTSTART;TZID=America/New_York:20250520T130000
DTEND;TZID=America/New_York:20250520T140000
DTSTAMP:20260422T174321
CREATED:20250512T213004Z
LAST-MODIFIED:20250512T213004Z
UID:10033823-1747746000-1747749600@metroatlantaexchange.org
SUMMARY:National League of Cities (NLC): Info Session - New Community Health and Wellbeing Technical Assistance Opportunities
DESCRIPTION:The National League of Cities (NLC) is hosting an Info Session: New Community Health and Wellbeing Technical Assistance Opportunities on Tuesday\, May 20th\, starting at 1:00 PM. \nRegister now for an informational session on two new technical assistance opportunities designed to foster healthy communities through transformative coaching and peer engagement. \nClick here to learn more and register.
URL:https://metroatlantaexchange.org/event/national-league-of-cities-nlc-info-session-new-community-health-and-wellbeing-technical-assistance-opportunities/
LOCATION:GA
CATEGORIES:Virtual Event,Workforce Developer
ORGANIZER;CN="National League of Cities":MAILTO:info@nlc.org
END:VEVENT
BEGIN:VEVENT
DTSTART;TZID=America/New_York:20250520T140000
DTEND;TZID=America/New_York:20250520T153000
DTSTAMP:20260422T174321
CREATED:20250417T210805Z
LAST-MODIFIED:20250417T210805Z
UID:10033464-1747749600-1747755000@metroatlantaexchange.org
SUMMARY:Office of the Chief Human Capital Officer: VA Federal Application Webinar
DESCRIPTION:The Office of the Chief Human Capital Officer is hosting a VA Federal Application webinar on Tuesday\, May 20th\, from 2:00 PM to 3:30 PM. \nDuring this virtual session\, Veteran and Military Spouse Talent Engagement Program’s (VMSTEP) personnel will present on how to write a federal government resume\, set up a user account and navigate USAJOBS. Get ready to learn insider tips and tricks for crafting a standout federal application that will get you noticed by top federal employers. You will learn the diffmerence between a private sector and federal resume and tips to enhance describing your experience. Veterans\, transitioning service members\, military spouses and individuals qualified under Schedule A (People with Disabilities/People with Targeted Disabilities) will leave this session armed with information on how to develop a competitive application and how to craft an effective resume for use in applying for positions with VA and other federal agencies. \nClick here to learn more and register.
URL:https://metroatlantaexchange.org/event/office-of-the-chief-human-capital-officer-va-federal-application-webinar/
LOCATION:GA
CATEGORIES:Career Development,Job Seeker,Virtual Event
END:VEVENT
BEGIN:VEVENT
DTSTART;TZID=America/New_York:20250520T140000
DTEND;TZID=America/New_York:20250520T153000
DTSTAMP:20260422T174321
CREATED:20250512T180845Z
LAST-MODIFIED:20250512T180845Z
UID:10033798-1747749600-1747755000@metroatlantaexchange.org
SUMMARY:Hiring Our Heroes: VA Federal Application Webinar
DESCRIPTION:Hiring Our Heroes is hosting a VA Federal Application Webinar on Tuesday\, May 20th\, from 2:00 PM to 3:30 PM. \nDuring this virtual session\, Veteran and Military Spouse Talent Engagement Program’s (VMSTEP) personnel will present on how to write a federal government resume\, set up a user account and navigate USAJOBS. Get ready to learn insider tips and tricks for crafting a standout federal application that will get you noticed by top federal employers. You will learn the difference between a private sector and federal resume and tips to enhance describing your experience. Veterans\, transitioning service members\, military spouses and individuals qualified under Schedule A (People with Disabilities/People with Targeted Disabilities) will leave this session armed with information on how to develop a competitive application and how to craft an effective resume for use in applying for positions with VA and other federal agencies. \nClick here to learn more and register.
URL:https://metroatlantaexchange.org/event/hiring-our-heroes-va-federal-application-webinar/
LOCATION:GA
CATEGORIES:Career Development,Job Seeker,Virtual Event
END:VEVENT
BEGIN:VEVENT
DTSTART;TZID=America/New_York:20250520T160000
DTEND;TZID=America/New_York:20250520T170000
DTSTAMP:20260422T174321
CREATED:20250417T210632Z
LAST-MODIFIED:20250417T210632Z
UID:10033463-1747756800-1747760400@metroatlantaexchange.org
SUMMARY:Hiring Our Heroes: Strategic Networking for Veterans - Making the Most of Hiring Events
DESCRIPTION:Hiring Our Heroes is hosting a webinar on Strategic Networking for Veterans: Making the Most of Hiring Events on Tuesday\, May 20th\, starting at 4:00 PM. \nNavigating the civilian job market can be challenging\, but strategic networking can open doors to new career opportunities. Join us for a workshop designed to help you make the most of networking and hiring events. Whether you’re attending your first event or looking to improve your networking skills\, this workshop will provide you with the tools and confidence you need to succeed. \nClick here to register via Zoom.
URL:https://metroatlantaexchange.org/event/hiring-our-heroes-strategic-networking-for-veterans-making-the-most-of-hiring-events-2/
LOCATION:GA
CATEGORIES:Career Development,Job Seeker,Veterans/Military,Virtual Event
END:VEVENT
BEGIN:VEVENT
DTSTART;TZID=America/New_York:20250520T160000
DTEND;TZID=America/New_York:20250520T180000
DTSTAMP:20260422T174321
CREATED:20250519T220307Z
LAST-MODIFIED:20250519T220307Z
UID:10033832-1747756800-1747764000@metroatlantaexchange.org
SUMMARY:Five Guys: Hiring Event
DESCRIPTION:Five Guys is hosting a Hiring Event on Tuesday\, May 20th and Wednesday\, May 21st\, from 10:00 AM to 2:00 PM and 4:00 PM to 6:00 PM\, at Five Guys. \nFive Guys is serving up excellent opportunities at our new store that is opening soon in Stockbridge\, GA and our already opened location in McDonough\, GA. We are currently interviewing for Crew Members\, Shift Leaders and Shift Managers to join our team. Sign up now to secure an interview to discuss the jobs you are interested in. If you’re not sure what time works for you\, walk-ins are also welcomed. Come talk to us about our opportunities\, all of which are eligible for base hourly pay + tips + bonus and a free employee shift meal. \nClick here to learn more and register for your interview slot.
URL:https://metroatlantaexchange.org/event/five-guys-hiring-event/2025-05-20/2/
LOCATION:Five Guys\, 1508 Highway 20\, McDonough\, GA\, 30253\, United States
CATEGORIES:In-Person Event,Job Seeker
END:VEVENT
BEGIN:VEVENT
DTSTART;TZID=America/New_York:20250520T170000
DTEND;TZID=America/New_York:20250520T190000
DTSTAMP:20260422T174321
CREATED:20250417T211026Z
LAST-MODIFIED:20250417T211026Z
UID:10033465-1747760400-1747767600@metroatlantaexchange.org
SUMMARY:StartUp Fayette: SEO and Content Marketing - Driving Organic Growth
DESCRIPTION:StartUp Fayette is hosting SEO and Content Marketing: Driving Organic Growth on Tuesday\, May 20th\, from 5:00 PM to 7:00 PM\, at StartUp Fayette. \nDuring this session\, we’ll take a deep dive into search engine optimization and content strategies that help startups build a strong online presence without hefty ad spending. StartUp Fayette is a monthly program featuring entrepreneurs\, big thinkers and people that offer services that support new business. Join us at Startup Fayette and gain access to everything you need to start your small business. Get the best local training to help you build your startup and succeed in your entrepreneurial journey. \nClick here to learn more and register.
URL:https://metroatlantaexchange.org/event/startup-fayette-seo-and-content-marketing-driving-organic-growth/
LOCATION:StartUp Fayette\, 250 South Peachtree Parkway\, Peachtree City\, GA\, 30269\, United States
CATEGORIES:Career Development,In-Person Event,Job Seeker
END:VEVENT
END:VCALENDAR