BEGIN:VCALENDAR
VERSION:2.0
PRODID:-//MAX - ECPv6.15.17.1//NONSGML v1.0//EN
CALSCALE:GREGORIAN
METHOD:PUBLISH
X-WR-CALNAME:MAX
X-ORIGINAL-URL:https://metroatlantaexchange.org
X-WR-CALDESC:Events for MAX
REFRESH-INTERVAL;VALUE=DURATION:PT1H
X-Robots-Tag:noindex
X-PUBLISHED-TTL:PT1H
BEGIN:VTIMEZONE
TZID:America/New_York
BEGIN:DAYLIGHT
TZOFFSETFROM:-0500
TZOFFSETTO:-0400
TZNAME:EDT
DTSTART:20240310T070000
END:DAYLIGHT
BEGIN:STANDARD
TZOFFSETFROM:-0400
TZOFFSETTO:-0500
TZNAME:EST
DTSTART:20241103T060000
END:STANDARD
BEGIN:DAYLIGHT
TZOFFSETFROM:-0500
TZOFFSETTO:-0400
TZNAME:EDT
DTSTART:20250309T070000
END:DAYLIGHT
BEGIN:STANDARD
TZOFFSETFROM:-0400
TZOFFSETTO:-0500
TZNAME:EST
DTSTART:20251102T060000
END:STANDARD
BEGIN:DAYLIGHT
TZOFFSETFROM:-0500
TZOFFSETTO:-0400
TZNAME:EDT
DTSTART:20260308T070000
END:DAYLIGHT
BEGIN:STANDARD
TZOFFSETFROM:-0400
TZOFFSETTO:-0500
TZNAME:EST
DTSTART:20261101T060000
END:STANDARD
END:VTIMEZONE
BEGIN:VEVENT
DTSTART;TZID=America/New_York:20250521T100000
DTEND;TZID=America/New_York:20250521T130000
DTSTAMP:20260423T004823
CREATED:20250511T182657Z
LAST-MODIFIED:20250511T182657Z
UID:10033781-1747821600-1747832400@metroatlantaexchange.org
SUMMARY:Goodwill of North Georgia: Essential Staffing Solutions Hiring Event
DESCRIPTION:Goodwill of North Georgia is hosting an Essential Staffing Solutions Hiring Event on Wednesday\, May 21st\, from 10:00 AM to 1:00 PM\, at the Metropolitan Parkway Career Center. \nFor more information\, call 770-795-4204. \nClick here to learn more and register.
URL:https://metroatlantaexchange.org/event/goodwill-of-north-georgia-essential-staffing-solutions-hiring-event/
LOCATION:Goodwill of North Georgia – Metropolitan Parkway Career Center\, 2160 Metropolitan Parkway\, Atlanta\, GA\, 30315\, United States
CATEGORIES:In-Person Event,Job Seeker
END:VEVENT
BEGIN:VEVENT
DTSTART;TZID=America/New_York:20250521T100000
DTEND;TZID=America/New_York:20250521T140000
DTSTAMP:20260423T004823
CREATED:20250519T220307Z
LAST-MODIFIED:20250519T220307Z
UID:10033833-1747821600-1747836000@metroatlantaexchange.org
SUMMARY:Five Guys: Hiring Event
DESCRIPTION:Five Guys is hosting a Hiring Event on Tuesday\, May 20th and Wednesday\, May 21st\, from 10:00 AM to 2:00 PM and 4:00 PM to 6:00 PM\, at Five Guys. \nFive Guys is serving up excellent opportunities at our new store that is opening soon in Stockbridge\, GA and our already opened location in McDonough\, GA. We are currently interviewing for Crew Members\, Shift Leaders and Shift Managers to join our team. Sign up now to secure an interview to discuss the jobs you are interested in. If you’re not sure what time works for you\, walk-ins are also welcomed. Come talk to us about our opportunities\, all of which are eligible for base hourly pay + tips + bonus and a free employee shift meal. \nClick here to learn more and register for your interview slot.
URL:https://metroatlantaexchange.org/event/five-guys-hiring-event/2025-05-21/1/
LOCATION:Five Guys\, 1508 Highway 20\, McDonough\, GA\, 30253\, United States
CATEGORIES:In-Person Event,Job Seeker
END:VEVENT
BEGIN:VEVENT
DTSTART;TZID=America/New_York:20250521T120000
DTEND;TZID=America/New_York:20250521T140000
DTSTAMP:20260423T004823
CREATED:20250511T182845Z
LAST-MODIFIED:20250511T182845Z
UID:10033782-1747828800-1747836000@metroatlantaexchange.org
SUMMARY:Goodwill of North Georgia: Match Staffing Hiring Event
DESCRIPTION:Goodwill of North Georgia is hosting a Match Staffing Hiring Event on Wednesday\, May 21st\, from 12:00 PM to 2:00 PM\, at the Metropolitan Parkway Career Center. \nFor more information\, call 770-795-4204. \nClick here to learn more and register.
URL:https://metroatlantaexchange.org/event/goodwill-of-north-georgia-match-staffing-hiring-event/
LOCATION:Goodwill of North Georgia – Metropolitan Parkway Career Center\, 2160 Metropolitan Parkway\, Atlanta\, GA\, 30315\, United States
CATEGORIES:In-Person Event,Job Seeker
END:VEVENT
BEGIN:VEVENT
DTSTART;TZID=America/New_York:20250521T140000
DTEND;TZID=America/New_York:20250521T150000
DTSTAMP:20260423T004823
CREATED:20250512T180124Z
LAST-MODIFIED:20250512T180124Z
UID:10033794-1747836000-1747839600@metroatlantaexchange.org
SUMMARY:Goodwill of North Georgia: Goodwill Training Program Information Session
DESCRIPTION:Goodwill of North Georgia is hosting a Goodwill Training Program Information Session every Wednesday\, from 2:00 PM to 3:00 PM\, at the South DeKalb Career Center. \nFor more information\, call 404-728-8605. \nClick here to learn more and register.
URL:https://metroatlantaexchange.org/event/goodwill-of-north-georgia-goodwill-training-program-information-session-7/2025-05-21/
LOCATION:Goodwill of North Georgia – South DeKalb Career Center\, 1295 Columbia Drive\, Decatur\, GA\, 30032\, United States
CATEGORIES:Career Development,In-Person Event,Job Seeker
GEO:33.7510576;-84.2656565
X-APPLE-STRUCTURED-LOCATION;VALUE=URI;X-ADDRESS=Goodwill of North Georgia – South DeKalb Career Center 1295 Columbia Drive Decatur GA 30032 United States;X-APPLE-RADIUS=500;X-TITLE=1295 Columbia Drive:geo:-84.2656565,33.7510576
END:VEVENT
BEGIN:VEVENT
DTSTART;TZID=America/New_York:20250521T150000
DTEND;TZID=America/New_York:20250521T160000
DTSTAMP:20260423T004823
CREATED:20250417T212324Z
LAST-MODIFIED:20250417T212324Z
UID:10033466-1747839600-1747843200@metroatlantaexchange.org
SUMMARY:Manufacturing Institute: Heroes Connect - LP Building Solutions
DESCRIPTION:The Manufacturing Institute is hosting a virtual Heroes Connect: LP Building Solutions on Wednesday\, May 21st\, from 3:00 PM to 4:00 PM. \nAs a proven leader in high-performance building solutions\, LP Building Solutions manufactures uniquely engineered\, innovative building products to meet customer and industry challenges head-on. This session brings a unique opportunity for participants engage directly with company leaders about their operations\, locations\, Veteran-friendly culture\, and current career opportunities. \nClick here to learn more and register.
URL:https://metroatlantaexchange.org/event/manufacturing-institute-heroes-connect-lp-building-solutions/
LOCATION:GA
CATEGORIES:Career Development,Job Seeker,Virtual Event
END:VEVENT
BEGIN:VEVENT
DTSTART;TZID=America/New_York:20250521T160000
DTEND;TZID=America/New_York:20250521T180000
DTSTAMP:20260423T004823
CREATED:20250519T220307Z
LAST-MODIFIED:20250519T220307Z
UID:10033834-1747843200-1747850400@metroatlantaexchange.org
SUMMARY:Five Guys: Hiring Event
DESCRIPTION:Five Guys is hosting a Hiring Event on Tuesday\, May 20th and Wednesday\, May 21st\, from 10:00 AM to 2:00 PM and 4:00 PM to 6:00 PM\, at Five Guys. \nFive Guys is serving up excellent opportunities at our new store that is opening soon in Stockbridge\, GA and our already opened location in McDonough\, GA. We are currently interviewing for Crew Members\, Shift Leaders and Shift Managers to join our team. Sign up now to secure an interview to discuss the jobs you are interested in. If you’re not sure what time works for you\, walk-ins are also welcomed. Come talk to us about our opportunities\, all of which are eligible for base hourly pay + tips + bonus and a free employee shift meal. \nClick here to learn more and register for your interview slot.
URL:https://metroatlantaexchange.org/event/five-guys-hiring-event/2025-05-21/2/
LOCATION:Five Guys\, 1508 Highway 20\, McDonough\, GA\, 30253\, United States
CATEGORIES:In-Person Event,Job Seeker
END:VEVENT
END:VCALENDAR