BEGIN:VCALENDAR
VERSION:2.0
PRODID:-//MAX - ECPv6.15.17.1//NONSGML v1.0//EN
CALSCALE:GREGORIAN
METHOD:PUBLISH
X-ORIGINAL-URL:https://metroatlantaexchange.org
X-WR-CALDESC:Events for MAX
REFRESH-INTERVAL;VALUE=DURATION:PT1H
X-Robots-Tag:noindex
X-PUBLISHED-TTL:PT1H
BEGIN:VTIMEZONE
TZID:America/New_York
BEGIN:DAYLIGHT
TZOFFSETFROM:-0500
TZOFFSETTO:-0400
TZNAME:EDT
DTSTART:20240310T070000
END:DAYLIGHT
BEGIN:STANDARD
TZOFFSETFROM:-0400
TZOFFSETTO:-0500
TZNAME:EST
DTSTART:20241103T060000
END:STANDARD
BEGIN:DAYLIGHT
TZOFFSETFROM:-0500
TZOFFSETTO:-0400
TZNAME:EDT
DTSTART:20250309T070000
END:DAYLIGHT
BEGIN:STANDARD
TZOFFSETFROM:-0400
TZOFFSETTO:-0500
TZNAME:EST
DTSTART:20251102T060000
END:STANDARD
BEGIN:DAYLIGHT
TZOFFSETFROM:-0500
TZOFFSETTO:-0400
TZNAME:EDT
DTSTART:20260308T070000
END:DAYLIGHT
BEGIN:STANDARD
TZOFFSETFROM:-0400
TZOFFSETTO:-0500
TZNAME:EST
DTSTART:20261101T060000
END:STANDARD
END:VTIMEZONE
BEGIN:VEVENT
DTSTART;TZID=America/New_York:20250527T070000
DTEND;TZID=America/New_York:20250527T090000
DTSTAMP:20260422T160220
CREATED:20250524T150835Z
LAST-MODIFIED:20250524T150835Z
UID:10033842-1748329200-1748336400@metroatlantaexchange.org
SUMMARY:Georgia Driving Academy: Covenant Truck Driver Recruiting Event
DESCRIPTION:Georgia Driving Academy is hosting a Covenant Truck Driver Recruiting Event on Tuesday\, May 27th\, starting at 7:00 AM\, at the Conyers Campus. \nAttend a free\, no-obligation information session with a representative from Covenant at our Conyers Campus. Learn more about our CDL training courses\, receive a campus tour\, and hear about the many job opportunities for recent graduates. Find out how Covenant is ready to jump-start your new trucking career with on-the-job training and support. \nClick here to learn more.
URL:https://metroatlantaexchange.org/event/georgia-driving-academy-covenant-truck-driver-recruiting-event/
LOCATION:Georgia Driving Academy\, 1035 Sigman Road\, NE\, Conyers\, GA\, 30012\, United States
CATEGORIES:In-Person Event,Job Seeker
END:VEVENT
BEGIN:VEVENT
DTSTART;TZID=America/New_York:20250527T090000
DTEND;TZID=America/New_York:20250527T160000
DTSTAMP:20260422T160220
CREATED:20250524T150443Z
LAST-MODIFIED:20250524T150443Z
UID:10033840-1748336400-1748361600@metroatlantaexchange.org
SUMMARY:DaVita: Meet and Greet Registered Nurse (RN) Hiring Event
DESCRIPTION:DaVita is hosting a Meet and Greet Registered Nurse (RN) Hiring Event on Tuesday\, May 27th\, from 9:00 AM to 4:00 PM\, at the DaVita Conyers Dialysis Center. \nDaVita is seeking compassionate Registered Nurses (RN) to fill full-time positions at locations in and around Conyers\, GA. Join us for an opportunity to talk to some of our area leadership about nursing careers with DaVita – dialysis experience is not required! We will be conducting on-site interviews\, with the potential for same-day offers! Apply & upload your current resume\, then complete the mandatory assessment (emailed to you after you apply). Click here to learn more and register.
URL:https://metroatlantaexchange.org/event/davita-meet-and-greet-registered-nurse-rn-hiring-event/
LOCATION:DaVita Conyers Dialysis Center\, 1501 Milstead Road\, NE\, Conyers\, GA\, 30012\, United States
CATEGORIES:In-Person Event,Job Seeker
END:VEVENT
BEGIN:VEVENT
DTSTART;TZID=America/New_York:20250527T094500
DTEND;TZID=America/New_York:20250527T120000
DTSTAMP:20260422T160220
CREATED:20250512T181341Z
LAST-MODIFIED:20250512T181341Z
UID:10033799-1748339100-1748347200@metroatlantaexchange.org
SUMMARY:Atlanta Center for Self-Sufficiency (ACSS): Career Accelerator Boot Camp
DESCRIPTION:The Atlanta Center for Self Sufficiency (ACSS) is hosting a Career Accelerator Boot Camp on Tuesday\, May 27th\, from 9:45 AM to 12:00 PM\, at Families First. \nJoin us for our next Career Accelerator Boot Camp at the Atlanta Center for Self Sufficiency! Whether you’re a recent graduate\, changing careers\, or looking to enhance your skills… this training is perfect for you. Our 1-week boot camp will cover resume building\, interview skills\, networking\, and more to help you succeed in your job search. \nClick here to learn more and register.
URL:https://metroatlantaexchange.org/event/atlanta-center-for-self-sufficiency-acss-career-accelerator-boot-camp/
LOCATION:Families First\, 80 Joseph E. Lowery Boulevard\, NW\, Atlanta\, GA\, 30314\, United States
CATEGORIES:Career Development,In-Person Event,Job Seeker
GEO:33.7570374;-84.4178949
X-APPLE-STRUCTURED-LOCATION;VALUE=URI;X-ADDRESS=Families First 80 Joseph E. Lowery Boulevard NW Atlanta GA 30314 United States;X-APPLE-RADIUS=500;X-TITLE=80 Joseph E. Lowery Boulevard\, NW:geo:-84.4178949,33.7570374
END:VEVENT
BEGIN:VEVENT
DTSTART;TZID=America/New_York:20250527T100000
DTEND;TZID=America/New_York:20250527T120000
DTSTAMP:20260422T160220
CREATED:20250524T151018Z
LAST-MODIFIED:20250524T151018Z
UID:10033843-1748340000-1748347200@metroatlantaexchange.org
SUMMARY:Goodwill of North Georgia: Multi-Employer Job Fair
DESCRIPTION:Goodwill of North Georgia is hosting a Multi-Employer Job Fair on Tuesday\, May 27th\, from 10:00 AM to 12:00 PM\, at the Cartersville Career Center. \nFor more information\, call 770-276-7036. \nClick here to learn more and register.
URL:https://metroatlantaexchange.org/event/goodwill-of-north-georgia-multi-employer-job-fair/
LOCATION:Goodwill of North Georgia – Cartersville Career Center\, 929 Joe Frank Harris Parkway\, Cartersville\, GA\, 30120\, United States
CATEGORIES:In-Person Event,Job Seeker
GEO:34.1974793;-84.7941559
X-APPLE-STRUCTURED-LOCATION;VALUE=URI;X-ADDRESS=Goodwill of North Georgia – Cartersville Career Center 929 Joe Frank Harris Parkway Cartersville GA 30120 United States;X-APPLE-RADIUS=500;X-TITLE=929 Joe Frank Harris Parkway:geo:-84.7941559,34.1974793
END:VEVENT
BEGIN:VEVENT
DTSTART;TZID=America/New_York:20250527T100000
DTEND;TZID=America/New_York:20250527T140000
DTSTAMP:20260422T160220
CREATED:20250511T183611Z
LAST-MODIFIED:20250511T183611Z
UID:10033783-1748340000-1748354400@metroatlantaexchange.org
SUMMARY:Goodwill of North Georgia: Unifi Hiring Event
DESCRIPTION:Goodwill of North Georgia is hosting a Unifi Hiring Event on Tuesday\, May 27th\, from 10:00 AM to 2:00 PM\, at the Metropolitan Parkway Career Center. \nFor more information\, call 770-795-4204. \nClick here to learn more and register.
URL:https://metroatlantaexchange.org/event/goodwill-of-north-georgia-unifi-hiring-event-3/
LOCATION:Goodwill of North Georgia – Metropolitan Parkway Career Center\, 2160 Metropolitan Parkway\, Atlanta\, GA\, 30315\, United States
CATEGORIES:In-Person Event,Job Seeker
END:VEVENT
BEGIN:VEVENT
DTSTART;TZID=America/New_York:20250527T163000
DTEND;TZID=America/New_York:20250527T183000
DTSTAMP:20260422T160220
CREATED:20250524T150635Z
LAST-MODIFIED:20250524T150635Z
UID:10033841-1748363400-1748370600@metroatlantaexchange.org
SUMMARY:Fulton County Schools (FCS): Special Education Virtual Career Fair
DESCRIPTION:Fulton County Schools (FCS) is hosting a Special Education Virtual Career Fair on Tuesday\, May 27th\, from 4:30 PM to 6:00 PM. \nAre you interested in a teaching or paraprofessional position? Chat with representatives from FCS about available positions focused on services for exceptional children. FCS offers competitive salaries\, world-class training\, opportunities for growth\, an employee wellness program and more. \nClick here to learn more and register.
URL:https://metroatlantaexchange.org/event/fulton-county-schools-fcs-special-education-virtual-career-fair-2/
LOCATION:GA
CATEGORIES:Job Seeker,Virtual Event
END:VEVENT
END:VCALENDAR