BEGIN:VCALENDAR
VERSION:2.0
PRODID:-//MAX - ECPv6.15.17.1//NONSGML v1.0//EN
CALSCALE:GREGORIAN
METHOD:PUBLISH
X-ORIGINAL-URL:https://metroatlantaexchange.org
X-WR-CALDESC:Events for MAX
REFRESH-INTERVAL;VALUE=DURATION:PT1H
X-Robots-Tag:noindex
X-PUBLISHED-TTL:PT1H
BEGIN:VTIMEZONE
TZID:America/New_York
BEGIN:DAYLIGHT
TZOFFSETFROM:-0500
TZOFFSETTO:-0400
TZNAME:EDT
DTSTART:20240310T070000
END:DAYLIGHT
BEGIN:STANDARD
TZOFFSETFROM:-0400
TZOFFSETTO:-0500
TZNAME:EST
DTSTART:20241103T060000
END:STANDARD
BEGIN:DAYLIGHT
TZOFFSETFROM:-0500
TZOFFSETTO:-0400
TZNAME:EDT
DTSTART:20250309T070000
END:DAYLIGHT
BEGIN:STANDARD
TZOFFSETFROM:-0400
TZOFFSETTO:-0500
TZNAME:EST
DTSTART:20251102T060000
END:STANDARD
BEGIN:DAYLIGHT
TZOFFSETFROM:-0500
TZOFFSETTO:-0400
TZNAME:EDT
DTSTART:20260308T070000
END:DAYLIGHT
BEGIN:STANDARD
TZOFFSETFROM:-0400
TZOFFSETTO:-0500
TZNAME:EST
DTSTART:20261101T060000
END:STANDARD
END:VTIMEZONE
BEGIN:VEVENT
DTSTART;TZID=America/New_York:20250528T140000
DTEND;TZID=America/New_York:20250528T150000
DTSTAMP:20260422T155445
CREATED:20250512T180124Z
LAST-MODIFIED:20250512T180124Z
UID:10033795-1748440800-1748444400@metroatlantaexchange.org
SUMMARY:Goodwill of North Georgia: Goodwill Training Program Information Session
DESCRIPTION:Goodwill of North Georgia is hosting a Goodwill Training Program Information Session every Wednesday\, from 2:00 PM to 3:00 PM\, at the South DeKalb Career Center. \nFor more information\, call 404-728-8605. \nClick here to learn more and register.
URL:https://metroatlantaexchange.org/event/goodwill-of-north-georgia-goodwill-training-program-information-session-7/2025-05-28/
LOCATION:Goodwill of North Georgia – South DeKalb Career Center\, 1295 Columbia Drive\, Decatur\, GA\, 30032\, United States
CATEGORIES:Career Development,In-Person Event,Job Seeker
GEO:33.7510576;-84.2656565
X-APPLE-STRUCTURED-LOCATION;VALUE=URI;X-ADDRESS=Goodwill of North Georgia – South DeKalb Career Center 1295 Columbia Drive Decatur GA 30032 United States;X-APPLE-RADIUS=500;X-TITLE=1295 Columbia Drive:geo:-84.2656565,33.7510576
END:VEVENT
BEGIN:VEVENT
DTSTART;TZID=America/New_York:20250528T180000
DTEND;TZID=America/New_York:20250528T203000
DTSTAMP:20260422T155446
CREATED:20250512T181646Z
LAST-MODIFIED:20250512T181646Z
UID:10033800-1748455200-1748464200@metroatlantaexchange.org
SUMMARY:Activate and Implement: Women of Faith Working in Corporate - Blazing Trails\, Making Impact
DESCRIPTION:Activate and Implement is hosting a Women of Faith Working in Corporate: Blazing Trails\, Making Impact event on Wednesday\, May 28th\, from 6:00 PM to 8:30 PM\, at the George Restaurant – Chandler Hotel. \nWhether you’re a leader in the boardroom\, managing teams\, or climbing the corporate ladder\, this event is an opportunity to connect with like-minded professionals who operate with excellence and unshakable faith. This is more than just business cards\, it’s about meaningful connections\, shared values\, faith-filled empowerment and career-elevating discussions. You will gain valuable insights and network with successful professionals. \nClick here to learn more and register.
URL:https://metroatlantaexchange.org/event/activate-and-implement-women-of-faith-working-in-corporate-blazing-trails-making-impact/
LOCATION:George Restaurant – Chandler Hotel\, 127 Peachtree Road\, NE\, Atlanta\, GA\, 30303\, United States
CATEGORIES:Career Development,In-Person Event,Job Seeker
END:VEVENT
END:VCALENDAR