BEGIN:VCALENDAR
VERSION:2.0
PRODID:-//MAX - ECPv6.15.17.1//NONSGML v1.0//EN
CALSCALE:GREGORIAN
METHOD:PUBLISH
X-ORIGINAL-URL:https://metroatlantaexchange.org
X-WR-CALDESC:Events for MAX
REFRESH-INTERVAL;VALUE=DURATION:PT1H
X-Robots-Tag:noindex
X-PUBLISHED-TTL:PT1H
BEGIN:VTIMEZONE
TZID:America/New_York
BEGIN:DAYLIGHT
TZOFFSETFROM:-0500
TZOFFSETTO:-0400
TZNAME:EDT
DTSTART:20240310T070000
END:DAYLIGHT
BEGIN:STANDARD
TZOFFSETFROM:-0400
TZOFFSETTO:-0500
TZNAME:EST
DTSTART:20241103T060000
END:STANDARD
BEGIN:DAYLIGHT
TZOFFSETFROM:-0500
TZOFFSETTO:-0400
TZNAME:EDT
DTSTART:20250309T070000
END:DAYLIGHT
BEGIN:STANDARD
TZOFFSETFROM:-0400
TZOFFSETTO:-0500
TZNAME:EST
DTSTART:20251102T060000
END:STANDARD
BEGIN:DAYLIGHT
TZOFFSETFROM:-0500
TZOFFSETTO:-0400
TZNAME:EDT
DTSTART:20260308T070000
END:DAYLIGHT
BEGIN:STANDARD
TZOFFSETFROM:-0400
TZOFFSETTO:-0500
TZNAME:EST
DTSTART:20261101T060000
END:STANDARD
END:VTIMEZONE
BEGIN:VEVENT
DTSTART;TZID=America/New_York:20250527T080000
DTEND;TZID=America/New_York:20250530T170000
DTSTAMP:20260422T174322
CREATED:20250417T222039Z
LAST-MODIFIED:20250417T222039Z
UID:10033495-1748332800-1748624400@metroatlantaexchange.org
SUMMARY:Georgia Association of Colleges and Employers (GACE): GACE Conference 2025
DESCRIPTION:The Georgia Association of Colleges and Employers (GACE) is hosting a GACE Conference 2025 starting Tuesday\, May 27th through Friday\, May 30th\, at the Brasstown Valley Resort. \nDon’t miss your chance to network with career services\, talent acquisition\, and human resources professionals at this unique event. Participants will have the opportunity to explore new and emerging trends in the field\, share challenges and solutions to recruiting issues\, while engaging in professional development activities. \nClick here to learn more and register.
URL:https://metroatlantaexchange.org/event/georgia-association-of-colleges-and-employers-gace-gace-conference-2025/
LOCATION:Brasstown Valley Resort\, 6321 U.S. Highway 76\, Young Harris\, GA\, 30582\, United States
CATEGORIES:Conferences,In-Person Event,Workforce Developer
END:VEVENT
BEGIN:VEVENT
DTSTART;TZID=America/New_York:20250528T080000
DTEND;TZID=America/New_York:20250530T170000
DTSTAMP:20260422T174322
CREATED:20250506T183401Z
LAST-MODIFIED:20250506T183401Z
UID:10033763-1748419200-1748624400@metroatlantaexchange.org
SUMMARY:National League of Cities (NLC): Women in Municipal Government (WIMG) 2025 Summer Conference
DESCRIPTION:The National League of Cities (NLC) is hosting its Women in Municipal Government (WIMG) 2025 Summer Conference starting Wednesday\, May 28th through Friday\, May 30th\, in San Antonio\, TX. \nThis annual event is a premier gathering of women in local government\, offering attendees an opportunity to learn about local policy issues\, engage in meaningful discussions\, expand your network\, strengthen your governance skills\, and more. During two impactful days\, attendees will engage in interactive sessions and workshops\, participate in leadership-building activities and explore various city projects through exciting mobile tours. You will also have an opportunity to connect with fellow leaders through peer-led discussions\, share best practices and continue advancing the group’s vital efforts to raise awareness about key issues affecting women in local government. \nClick here to learn more and register.
URL:https://metroatlantaexchange.org/event/national-league-of-cities-nlc-women-in-municipal-government-wimg-2025-summer-conference/
LOCATION:GA
CATEGORIES:Conferences,In-Person Event,Workforce Developer
ORGANIZER;CN="National League of Cities":MAILTO:info@nlc.org
END:VEVENT
BEGIN:VEVENT
DTSTART;TZID=America/New_York:20250529T090000
DTEND;TZID=America/New_York:20250529T140000
DTSTAMP:20260422T174322
CREATED:20250524T153143Z
LAST-MODIFIED:20250524T153143Z
UID:10033852-1748509200-1748527200@metroatlantaexchange.org
SUMMARY:Preferred Personnel Solutions: Experienced Forklift Operator Hiring Event
DESCRIPTION:Preferred Personnel Solutions\, in partnership with Atlanta Bonded Warehouse is hosting an Experienced Forklift Operator Hiring Event on Thursday\, May 29th\, from 9:00 AM to 2:00 PM\, at Atlanta Bonded Warehouse. \nOver 25 open spots exist for experienced Forklift Operators needed to fill day\, night and weekend positions. Hiring managers will be on-site and available to meet with you in order to make job offers on the same day. Qualified candidates will have an opportunity to tour the facility and ask any questions about the hiring process\, current openings\, and advancement opportunities and learn more about this amazing opportunity with ABW Logistics! Minimum pay starts at over $20 per hour! \nClick here to learn more and register.
URL:https://metroatlantaexchange.org/event/preferred-personnel-solutions-experienced-forklift-operator-hiring-event/
LOCATION:Atlanta Bonded Warehouse\, 7000 Cobb International Boulevard\, Kennesaw\, GA\, 30152\, United States
CATEGORIES:In-Person Event,Job Seeker
ORGANIZER;CN="Preferred Personnel Solutions":MAILTO:gwinnett@preferredpersonnel.com
END:VEVENT
BEGIN:VEVENT
DTSTART;TZID=America/New_York:20250529T100000
DTEND;TZID=America/New_York:20250529T130000
DTSTAMP:20260422T174322
CREATED:20250524T152053Z
LAST-MODIFIED:20250524T152053Z
UID:10033848-1748512800-1748523600@metroatlantaexchange.org
SUMMARY:Goodwill of North Georgia: Department of Corrections Hiring Event for the Metro Area
DESCRIPTION:Goodwill of North Georgia is hosting a Department of Corrections Hiring Event for the Metro Area on Thursday\, May 29th\, from 10:00 AM to 1:00 PM\, at the Stockbridge Career Center. \nFor more information\, call 678-514-0670. \nClick here to learn more and register.
URL:https://metroatlantaexchange.org/event/goodwill-of-north-georgia-department-of-corrections-hiring-event-for-the-metro-area/
LOCATION:GA
CATEGORIES:In-Person Event,Job Seeker
END:VEVENT
BEGIN:VEVENT
DTSTART;TZID=America/New_York:20250529T100000
DTEND;TZID=America/New_York:20250529T150000
DTSTAMP:20260422T174322
CREATED:20250524T151808Z
LAST-MODIFIED:20250524T151808Z
UID:10033847-1748512800-1748530800@metroatlantaexchange.org
SUMMARY:Assured Comfort Heating & Air: HVAC Sales Hiring Event
DESCRIPTION:Assured Comfort Heating & Air is hosting an HVAC Sales Hiring Event on Thursday\, May 29th\, from 10:00 AM to 3:00 PM\, at Assured Comfort Heating & Air. \nAre you ready to be Part of Something BIGGER! Assured Comfort Heating & Air is seeking motivated professions to fill the position of Home Comfort Advisor. We offer a rewarding career path with great benefits\, flexible schedules\, professional and on-the-job training\, and growth plans. Be a part of the team our customers call the finest in the industry. Come professionally dressed with a copy of your resume. \nClick here to learn more. \nClick here to register.
URL:https://metroatlantaexchange.org/event/assured-comfort-heating-air-hvac-sales-hiring-event/
LOCATION:Assured Comfort Heating & Air\, 3894 King Drive\, Douglasville\, GA\, 30135\, United States
CATEGORIES:In-Person Event,Job Seeker
END:VEVENT
BEGIN:VEVENT
DTSTART;TZID=America/New_York:20250529T100000
DTEND;TZID=America/New_York:20250529T150000
DTSTAMP:20260422T174322
CREATED:20250524T152418Z
LAST-MODIFIED:20250524T152418Z
UID:10033849-1748512800-1748530800@metroatlantaexchange.org
SUMMARY:Goodwill of North Georgia: Q-Cells Open Interviews
DESCRIPTION:Goodwill of North Georgia is hosting Q-Cells Open Interviews every Thursday\, from 10:00 AM to 3:00 PM\, at the Cartersville Career Center. \nFor more information\, call 770-276-7036. \nClick here to learn more and register.
URL:https://metroatlantaexchange.org/event/goodwill-of-north-georgia-q-cells-open-interviews-2/
LOCATION:Goodwill of North Georgia – Cartersville Career Center\, 929 Joe Frank Harris Parkway\, Cartersville\, GA\, 30120\, United States
CATEGORIES:In-Person Event,Job Seeker
GEO:34.1974793;-84.7941559
X-APPLE-STRUCTURED-LOCATION;VALUE=URI;X-ADDRESS=Goodwill of North Georgia – Cartersville Career Center 929 Joe Frank Harris Parkway Cartersville GA 30120 United States;X-APPLE-RADIUS=500;X-TITLE=929 Joe Frank Harris Parkway:geo:-84.7941559,34.1974793
END:VEVENT
BEGIN:VEVENT
DTSTART;TZID=America/New_York:20250529T101500
DTEND;TZID=America/New_York:20250529T111500
DTSTAMP:20260422T174322
CREATED:20250524T200653Z
LAST-MODIFIED:20250524T200653Z
UID:10033910-1748513700-1748517300@metroatlantaexchange.org
SUMMARY:Brookings: Navigating Economic Resilience and Growth in Small Island States
DESCRIPTION:Brookings is hosting a webinar on Navigating Economic Resilience and Growth in Small Island States on Thursday\, May 29th\, from 10:15 AM to 11:15 AM. \nSmall island states face unique economic challenges\, climate vulnerability\, dependence on a narrow export base\, and exposure to external shocks\, while high-capital costs\, transaction fees and risk-appetite barriers from lenders hinder access to affordable financing. However\, these nations also host distinctive opportunities for innovation\, sustainable development\, and global partnerships. On Thursday\, May 29\, the Africa Growth Initiative at Brookings Global will host a fireside chat between Brookings Senior Fellow and Director of the Africa Growth Initiative Pierre Nguimkeu and His Excellency the Prime Minister of Cabo Verde José Ulisses de Pina Correia e Silva on the country’s experience\, goals\, and priorities. \nClick here to learn more and register.
URL:https://metroatlantaexchange.org/event/brookings-navigating-economic-resilience-and-growth-in-small-island-states/
LOCATION:GA
CATEGORIES:Job Seeker,Workforce Developer
END:VEVENT
BEGIN:VEVENT
DTSTART;TZID=America/New_York:20250529T110000
DTEND;TZID=America/New_York:20250529T113000
DTSTAMP:20260422T174322
CREATED:20250524T175704Z
LAST-MODIFIED:20250524T175704Z
UID:10033882-1748516400-1748518200@metroatlantaexchange.org
SUMMARY:Career Agility System: How to Master Five Keys for a Successful Career
DESCRIPTION:Career Agility System is hosting a webinar on How to Master Five Keys for a Successful Career on Thursday\, May 29th\, from 11:00 AM to 11:30 AM. \nAre you ready to take your career to the next level\, but not sure where to focus your energy? Join us for an online event where we’ll dive into the Five Keys that can unlock your pathway to success. Don’t miss this opportunity to learn from Career Coach and Resume Writer Jaime Chambron\, who has seen firsthand the habits and mindsets that set successful professionals apart. She will share the five essential skills and strategies you need to master to thrive in today’s dynamic workplace. Whether you’re just starting out\, pivoting to a new field\, or aiming for that next big promotion\, this session will give you practical insights and actionable steps to accelerate your growth. \nClick here to learn more and register.
URL:https://metroatlantaexchange.org/event/career-agility-system-how-to-master-five-keys-for-a-successful-career/
LOCATION:GA
CATEGORIES:Career Development,Job Seeker,Virtual Event
END:VEVENT
BEGIN:VEVENT
DTSTART;TZID=America/New_York:20250529T120000
DTEND;TZID=America/New_York:20250529T130000
DTSTAMP:20260422T174322
CREATED:20250506T155213Z
LAST-MODIFIED:20250506T155213Z
UID:10033714-1748520000-1748523600@metroatlantaexchange.org
SUMMARY:Society for Human Resource Management (SHRM) - Atlanta: Helping Companies Manage Risk with Their 401(k)
DESCRIPTION:The Society for Human Resource Management (SHRM) – Atlanta is hosting a webinar on Helping Companies Manage Risk with Their 401(k) on Thursday\, May 29th\, from 12:00 PM to 1:00 PM. \nOffering a 401(k) plan can be a powerful benefit—but it also carries responsibilities for employers. In this webinar\, we’ll explore the key legal\, regulatory\, and fiduciary risks associated with 401(k) plans and equip HR professionals with tools to identify and mitigate potential exposure. You’ll gain a deeper understanding of compliance requirements\, learn how to spot risk areas before they become liabilities\, and discover ways to help your employees get the most value from their retirement benefit. \nClick here to learn more and register.
URL:https://metroatlantaexchange.org/event/society-for-human-resource-management-shrm-atlanta-helping-companies-manage-risk-with-their-401k/
LOCATION:GA
CATEGORIES:Virtual Event,Workforce Developer
ORGANIZER;CN="The Society for Human Resource Management":MAILTO:info@shrmatlanta.org
END:VEVENT
BEGIN:VEVENT
DTSTART;TZID=America/New_York:20250529T130000
DTEND;TZID=America/New_York:20250529T140000
DTSTAMP:20260422T174322
CREATED:20250417T212643Z
LAST-MODIFIED:20250417T212643Z
UID:10033468-1748523600-1748527200@metroatlantaexchange.org
SUMMARY:Hiring Our Heroes: Essentials for Interview Preparation
DESCRIPTION:Hiring Our Heroes is hosting a webinar on Essentials for Interview Preparation on Thursday\, May 29th\, starting at 1:00 PM. \nLearn how to prepare for your next job interview\, receive tips for answering those tough questions\, and connect with interview coaching resources. \nClick here to register via Zoom.
URL:https://metroatlantaexchange.org/event/hiring-our-heroes-essentials-for-interview-preparation/
LOCATION:GA
CATEGORIES:Career Development,Job Seeker,Veterans/Military,Virtual Event
END:VEVENT
BEGIN:VEVENT
DTSTART;TZID=America/New_York:20250529T130000
DTEND;TZID=America/New_York:20250529T140000
DTSTAMP:20260422T174322
CREATED:20250524T200826Z
LAST-MODIFIED:20250524T200826Z
UID:10033911-1748523600-1748527200@metroatlantaexchange.org
SUMMARY:Hiring Our Heroes: LinkedIn Strategies for Employers - Connecting with Military Talent
DESCRIPTION:Hiring Our Heroes is hosting a webinar on LinkedIn Strategies for Employers: Connecting with Military Talent on Thursday\, May 29th\, starting at 1:00 PM. \nLooking to recruit veterans\, transitioning service members\, or military spouses? This session will show you how to use LinkedIn to highlight your company’s commitment to the military community\, build a strong and inclusive employer brand\, and attract exceptional talent. \nClick here to learn more and register.
URL:https://metroatlantaexchange.org/event/hiring-our-heroes-linkedin-strategies-for-employers-connecting-with-military-talent/
LOCATION:GA
CATEGORIES:Virtual Event,Workforce Developer
END:VEVENT
BEGIN:VEVENT
DTSTART;TZID=America/New_York:20250529T130000
DTEND;TZID=America/New_York:20250529T140000
DTSTAMP:20260422T174322
CREATED:20250524T201046Z
LAST-MODIFIED:20250524T201046Z
UID:10033912-1748523600-1748527200@metroatlantaexchange.org
SUMMARY:National Association of Counties (NACo): Chart Your Course - Real Stories of Counties Advancing with AI Online Learning
DESCRIPTION:The National Association of Counties (NACo) is hosting Chart Your Course: Real Stories of Counties Advancing with AI Online Learning on Thursday\, May 29th\, from 1:00 PM to 2:00 PM. \nA continuation of our “Chart Your Course” digital learning program\, this webinar will highlight how counties are leveraging the Microsoft online learning platform to upskill their workforce in artificial intelligence and related technologies. Hear directly from county representatives as they share real-world examples\, practical strategies\, and lessons learned from integrating digital learning into their staff development efforts. Whether you’re just getting started or looking to strengthen existing programs\, this session will offer valuable insights to support your journey. \nClick here to learn more and register.
URL:https://metroatlantaexchange.org/event/national-association-of-counties-naco-chart-your-course-real-stories-of-counties-advancing-with-ai-online-learning/
LOCATION:GA
CATEGORIES:Virtual Event,Workforce Developer
END:VEVENT
BEGIN:VEVENT
DTSTART;TZID=America/New_York:20250529T130000
DTEND;TZID=America/New_York:20250529T140000
DTSTAMP:20260422T174322
CREATED:20250524T201459Z
LAST-MODIFIED:20250524T201459Z
UID:10033914-1748523600-1748527200@metroatlantaexchange.org
SUMMARY:Society for Human Resource Management (SHRM): Evolve to Solve - The Collective Effort to Drive Talent Optimization
DESCRIPTION:The Society for Human Resource Management (SHRM) is hosting a webinar on Evolve to Solve: The Collective Effort to Drive Talent Optimization on Thursday\, May 29th\, starting at 1:00 PM. \nIt takes a collective effort to create workplaces where all can thrive and drive results. Join four experts on talent development for an insightful conversation on the value of purposeful leadership and the power of collaboration. Plus\, gain a sneak peek into how the SHRM Linkage Institute has evolved to serve a variety of experiences — including women leaders\, male leaders\, former military service members\, and seasoned senior executives. \nClick here to learn more and register.
URL:https://metroatlantaexchange.org/event/society-for-human-resource-management-shrm-evolve-to-solve-the-collective-effort-to-drive-talent-optimization/
LOCATION:GA
CATEGORIES:Virtual Event,Workforce Developer
ORGANIZER;CN="The Society for Human Resource Management":MAILTO:info@shrmatlanta.org
END:VEVENT
BEGIN:VEVENT
DTSTART;TZID=America/New_York:20250529T130000
DTEND;TZID=America/New_York:20250529T150000
DTSTAMP:20260422T174322
CREATED:20250524T201302Z
LAST-MODIFIED:20250524T201302Z
UID:10033913-1748523600-1748530800@metroatlantaexchange.org
SUMMARY:National League of Cities (NLC): Developing a Policy Change Roadmap to Advance Systems Change Part Two
DESCRIPTION:The National League of Cities (NLC) is hosting a webinar on Developing a Policy Change Roadmap to Advance Systems Change Part Two on Thursday\, May 29th\, from 1:00 PM to 3:00 PM. \nIn this two-part virtual workshop\, the National League of Cities (NLC)\, in partnership with the Urban Institute (Urban)\, will introduce participants to the Policy and Systems Change Compass\,an emerging framework for guiding local government officials through a more deliberate policymaking process. Participants will focus on three of the Compass’ critical steps: (1) Identifying the Root Causes\, (2) Mapping the Local Policy Ecosystem\, and (3) Assessing the Impact and Feasibility of Promising Policy Proposals. \nClick here to register via Zoom.
URL:https://metroatlantaexchange.org/event/national-league-of-cities-nlc-developing-a-policy-change-roadmap-to-advance-systems-change-part-two/
LOCATION:GA
CATEGORIES:Virtual Event,Workforce Developer
ORGANIZER;CN="National League of Cities":MAILTO:info@nlc.org
END:VEVENT
BEGIN:VEVENT
DTSTART;TZID=America/New_York:20250529T140000
DTEND;TZID=America/New_York:20250529T150000
DTSTAMP:20260422T174322
CREATED:20250506T183525Z
LAST-MODIFIED:20250506T183525Z
UID:10033764-1748527200-1748530800@metroatlantaexchange.org
SUMMARY:Manufacturing Institute: MFG Day 2025 - Sponsorship Opportunities
DESCRIPTION:The Manufacturing Institute is hosting MFG Day 2025: Sponsorships Opportunities on Thursday\, May 29th\, from 2:00 PM to 3:00 PM. \nCelebrated nationally on the first Friday in October\, MFG Day is manufacturing’s biggest annual opportunity to build the foundation for the manufacturing workforce of today and tomorrow. This webinar will highlight the impact of MFG Day\, the levels of sponsorship available for 2025\, and the benefits of being an official sponsor of the national MFG Day initiative. You can also ask questions and speak directly with representatives from the Manufacturing Institute. Through the generous support of our national sponsors\, the MI ensures that manufacturers and their partners have the tools\, resources and expertise needed to plan and produce impactful student experiences. On average\, around 300\,000 students participate in MFG Day events each year. \nClick here to learn more and register.
URL:https://metroatlantaexchange.org/event/manufacturing-institute-mfg-day-2025-sponsorship-opportunities/
LOCATION:GA
CATEGORIES:Virtual Event,Workforce Developer
END:VEVENT
BEGIN:VEVENT
DTSTART;TZID=America/New_York:20250529T140000
DTEND;TZID=America/New_York:20250529T160000
DTSTAMP:20260422T174322
CREATED:20250524T152649Z
LAST-MODIFIED:20250524T152649Z
UID:10033850-1748527200-1748534400@metroatlantaexchange.org
SUMMARY:Goodwill of North Georgia: Spherion Hiring Event
DESCRIPTION:Goodwill of North Georgia is hosting a Spherion Hiring Event every Thursday\, from 2:00 PM to 4:00 PM\, at the Cornelia Career Center. \nFor more information\, call 706-894-4905. \nClick here to learn more and register.
URL:https://metroatlantaexchange.org/event/goodwill-of-north-georgia-spherion-hiring-event-3/
LOCATION:Goodwill of North Georgia – Cornelia Career Center\, 308 Habersham Hills Circle\, Cornelia\, GA\, 30531\, United States
CATEGORIES:In-Person Event,Job Seeker
END:VEVENT
BEGIN:VEVENT
DTSTART;TZID=America/New_York:20250529T150000
DTEND;TZID=America/New_York:20250529T183000
DTSTAMP:20260422T174322
CREATED:20250524T152927Z
LAST-MODIFIED:20250524T152927Z
UID:10033851-1748530800-1748543400@metroatlantaexchange.org
SUMMARY:Northside Hospital: Cherokee Physician Enterprise Hiring Event
DESCRIPTION:Northside Hospital is hosting a Cherokee Physician Enterprise Hiring Event on Thursday\, May 29th\, from 3:00 PM to 6:30 PM\, at Queenie’s. \nNorthside Hospital is seeking Medical Assistants\, Licensed Practical Nurses\, Radiation Techs\, Front Office Assistants and Schedulers. Working within our Physician Practice group offers the stability and resources of a leading healthcare system along with the close-knit atmosphere of a smaller practice. You will enjoy meaningful patient interactions and professional growth opportunities — within a culture of innovation and excellence that prioritizes both patient well-being and employee development. Join us for growth potential\, consistent Monday through Friday schedules\, excellent benefits and more. Register now to secure your on-the-spot interview! \nClick here to learn more and register.
URL:https://metroatlantaexchange.org/event/northside-hospital-cherokee-physician-enterprise-hiring-event/
LOCATION:Queenie’s Restaurant\, Bar\, & Events\, 151 West Main Street\, Canton\, GA\, 30114\, United States
CATEGORIES:In-Person Event,Job Seeker
END:VEVENT
END:VCALENDAR