BEGIN:VCALENDAR
VERSION:2.0
PRODID:-//MAX - ECPv6.15.17.1//NONSGML v1.0//EN
CALSCALE:GREGORIAN
METHOD:PUBLISH
X-ORIGINAL-URL:https://metroatlantaexchange.org
X-WR-CALDESC:Events for MAX
REFRESH-INTERVAL;VALUE=DURATION:PT1H
X-Robots-Tag:noindex
X-PUBLISHED-TTL:PT1H
BEGIN:VTIMEZONE
TZID:America/New_York
BEGIN:DAYLIGHT
TZOFFSETFROM:-0500
TZOFFSETTO:-0400
TZNAME:EDT
DTSTART:20240310T070000
END:DAYLIGHT
BEGIN:STANDARD
TZOFFSETFROM:-0400
TZOFFSETTO:-0500
TZNAME:EST
DTSTART:20241103T060000
END:STANDARD
BEGIN:DAYLIGHT
TZOFFSETFROM:-0500
TZOFFSETTO:-0400
TZNAME:EDT
DTSTART:20250309T070000
END:DAYLIGHT
BEGIN:STANDARD
TZOFFSETFROM:-0400
TZOFFSETTO:-0500
TZNAME:EST
DTSTART:20251102T060000
END:STANDARD
BEGIN:DAYLIGHT
TZOFFSETFROM:-0500
TZOFFSETTO:-0400
TZNAME:EDT
DTSTART:20260308T070000
END:DAYLIGHT
BEGIN:STANDARD
TZOFFSETFROM:-0400
TZOFFSETTO:-0500
TZNAME:EST
DTSTART:20261101T060000
END:STANDARD
END:VTIMEZONE
BEGIN:VEVENT
DTSTART;TZID=America/New_York:20250603T080000
DTEND;TZID=America/New_York:20250603T093000
DTSTAMP:20260422T140432
CREATED:20250506T155441Z
LAST-MODIFIED:20250506T155441Z
UID:10033715-1748937600-1748943000@metroatlantaexchange.org
SUMMARY:United Way of Greater Atlanta: Coffee. Conversations. Community.
DESCRIPTION:United Way of Greater Atlanta is hosting a  Conversations. Community on Tuesday\, June 3rd\, from 8:00 AM to 9:30 AM\, at Finca to Filter Old Fourth Ward. \nJoin us for our quarterly event to connect and network with current and prospective YPL and LINC members. Hosted by Finca to Filter\, this event promises to be a morning full of networking\, connections\, and collaborating with a community of professionals who are passionate about impacting our community. The coffee is on us\, the conversations are on you. \nClick here to learn more and register.
URL:https://metroatlantaexchange.org/event/united-way-of-greater-atlanta-coffee-conversations-community/
LOCATION:Finca to Filter Old Fourth Ward\, 652 Angier Avenue\, NE\, Atlanta\, GA\, 30308\, United States
CATEGORIES:In-Person Event,Workforce Developer
END:VEVENT
END:VCALENDAR