BEGIN:VCALENDAR
VERSION:2.0
PRODID:-//MAX - ECPv6.15.17.1//NONSGML v1.0//EN
CALSCALE:GREGORIAN
METHOD:PUBLISH
X-ORIGINAL-URL:https://metroatlantaexchange.org
X-WR-CALDESC:Events for MAX
REFRESH-INTERVAL;VALUE=DURATION:PT1H
X-Robots-Tag:noindex
X-PUBLISHED-TTL:PT1H
BEGIN:VTIMEZONE
TZID:America/New_York
BEGIN:DAYLIGHT
TZOFFSETFROM:-0500
TZOFFSETTO:-0400
TZNAME:EDT
DTSTART:20240310T070000
END:DAYLIGHT
BEGIN:STANDARD
TZOFFSETFROM:-0400
TZOFFSETTO:-0500
TZNAME:EST
DTSTART:20241103T060000
END:STANDARD
BEGIN:DAYLIGHT
TZOFFSETFROM:-0500
TZOFFSETTO:-0400
TZNAME:EDT
DTSTART:20250309T070000
END:DAYLIGHT
BEGIN:STANDARD
TZOFFSETFROM:-0400
TZOFFSETTO:-0500
TZNAME:EST
DTSTART:20251102T060000
END:STANDARD
BEGIN:DAYLIGHT
TZOFFSETFROM:-0500
TZOFFSETTO:-0400
TZNAME:EDT
DTSTART:20260308T070000
END:DAYLIGHT
BEGIN:STANDARD
TZOFFSETFROM:-0400
TZOFFSETTO:-0500
TZNAME:EST
DTSTART:20261101T060000
END:STANDARD
END:VTIMEZONE
BEGIN:VEVENT
DTSTART;TZID=America/New_York:20250604T083000
DTEND;TZID=America/New_York:20250604T100000
DTSTAMP:20260422T104953
CREATED:20250512T204628Z
LAST-MODIFIED:20250512T204628Z
UID:10033810-1749025800-1749031200@metroatlantaexchange.org
SUMMARY:Federal Reserve Bank of Atlanta: Fed Listens
DESCRIPTION:The Federal Reserve Bank of Atlanta is hosting a Fed Listens online event on Wednesday\, June 4th\, from 8:30 AM to 10:00 AM. \nThe Atlanta Fed will host a listening session to explore how monetary policy\, and macroeconomic conditions affect individuals and businesses. This Fed Listensevent\, part of a series of discussions held nationwide\, will contribute to the Atlanta Fed’s ongoing conversation with stakeholders throughout the diverse region we serve. As the Federal Reserve strives to support an economy that works for everyone\, understanding the perspectives of a broad range of community members is critical. Hear a range of perspectives from stakeholders about the job market\, inflation\, and the transmission of monetary policy to the broader economy. \nClick here to learn more.
URL:https://metroatlantaexchange.org/event/federal-reserve-bank-of-atlanta-fed-listens/
LOCATION:GA
CATEGORIES:Virtual Event,Workforce Developer
END:VEVENT
BEGIN:VEVENT
DTSTART;TZID=America/New_York:20250604T113000
DTEND;TZID=America/New_York:20250604T133000
DTSTAMP:20260422T104953
CREATED:20250506T155737Z
LAST-MODIFIED:20250506T155737Z
UID:10033716-1749036600-1749043800@metroatlantaexchange.org
SUMMARY:Society for Human Resource Management (SHRM) - Atlanta: Chapter Meeting
DESCRIPTION:The Society for Human Resource Management (SHRM) – Atlanta is hosting a Chapter Meeting on Wednesday\, June 4th\, from 11:30 AM to 1:30 PM\, at Agnes Scott College – Letitia Pate Evans Hall. \nBeing a leader in today’s ever-changing workplace is requiring leaders tap into their values\, lean on their epic listening skills and seek ways to create cultures of curiosity built on trust. This session is a must-attend for those interested in bridging the gap between leadership\, values\, and trust and a co-created dialogue on how to get there. \nClick here to learn more and register.
URL:https://metroatlantaexchange.org/event/society-for-human-resource-management-shrm-atlanta-chapter-meeting-2/
LOCATION:Agnes Scott College – Letitia Pate Evans Hall\, 213 South Candler Street\, Decatur\, 30030\, United States
CATEGORIES:In-Person Event,Workforce Developer
ORGANIZER;CN="The Society for Human Resource Management":MAILTO:info@shrmatlanta.org
END:VEVENT
BEGIN:VEVENT
DTSTART;TZID=America/New_York:20250604T120000
DTEND;TZID=America/New_York:20250604T153000
DTSTAMP:20260422T104953
CREATED:20250524T202738Z
LAST-MODIFIED:20250524T202738Z
UID:10033920-1749038400-1749051000@metroatlantaexchange.org
SUMMARY:REMI: Dallas Luncheon
DESCRIPTION:REMI is hosting a Dallas Luncheon on Wednesday\, June 4th\, from 12:00 PM to 3:30 PM\, at the Hilton Arlington. \nREMI is thrilled to announce an upcoming luncheon at the Hilton Arlington! This event will feature multiple presentations on the use of REMI and other integrated resources for impact analysis. Presentations will be conducted by the REMI team and guest speakers. A draft agenda will be shared soon. This event is free of charge\, and we hope you will choose to join! \nClick here to learn more and register.
URL:https://metroatlantaexchange.org/event/remi-dallas-luncheon/
LOCATION:Hilton Arlington\, 2401 East Lamar Boulevard\, Arlington\, TX\, 76006\, United States
CATEGORIES:In-Person Event,Workforce Developer
END:VEVENT
BEGIN:VEVENT
DTSTART;TZID=America/New_York:20250604T130000
DTEND;TZID=America/New_York:20250604T140000
DTSTAMP:20260422T104953
CREATED:20250524T202847Z
LAST-MODIFIED:20250524T202847Z
UID:10033921-1749042000-1749045600@metroatlantaexchange.org
SUMMARY:Society of Human Resource Management (SHRM): From Statue to Standard: How Courts Interpret Title VII and Other Workplace Discrimination Laws
DESCRIPTION:The Society of Human Resource Management (SHRM) is hosting From Statue to Standard: How Courts Interpret Title VII and Other Workplace Discrimination Laws on Wednesday\, June 4th\, starting at 1:00 PM. \nCourts bring laws to life\, transforming statutes into real-world decisions that shape workplaces nationwide. The U.S. judiciary\, especially the Supreme Court\, plays a pivotal and evolving role in defining the scope of equal employment opportunity (EEO) laws such as Title VII of the Civil Rights Act. This webinar will examine how courts implement and interpret Title VII and other key EEO laws\, shaping what constitutes discrimination\, how it’s proven\, and how it affects employers and employees alike. We’ll also examine how lower courts apply these precedents\, balancing the text of the law with evolving understandings of how discrimination manifests in the real world — and how the judiciary works to fulfill the promises of EEO laws. Finally\, we’ll consider the judiciary’s interaction with the executive branch and what this dynamic means for the future of EEO enforcement and litigation. \nClick here to learn more and register.
URL:https://metroatlantaexchange.org/event/society-of-human-resource-management-shrm-from-statue-to-standard-how-courts-interpret-title-vii-and-other-workplace-discrimination-laws/
LOCATION:GA
CATEGORIES:Virtual Event,Workforce Developer
ORGANIZER;CN="The Society for Human Resource Management":MAILTO:info@shrmatlanta.org
END:VEVENT
BEGIN:VEVENT
DTSTART;TZID=America/New_York:20250604T140000
DTEND;TZID=America/New_York:20250604T150000
DTSTAMP:20260422T104953
CREATED:20250524T202534Z
LAST-MODIFIED:20250524T202534Z
UID:10033919-1749045600-1749049200@metroatlantaexchange.org
SUMMARY:National League of Cities (NLC): Innovative Capacity Building with the Lincoln Vibrant Communities Teams Program
DESCRIPTION:The National League of Cities (NLC) is hosting a webinar on Innovative Capacity Building with the Lincoln Vibrant Communities Teams Program on Wednesday\, June 4th\, from 2:00 PM to 3:00 PM. \nTransform your city’s future with bold\, actionable solutions — created not by consultants\, but by your own rising stars. Join us for an inspiring and high-impact webinar unveiling the powerful results of the Lincoln Vibrant Communities Teams program — a groundbreaking initiative from Claremont Lincoln University designed to supercharge local government talent and drive meaningful change from within. Hear directly from the dedicated teams of Pomona and Rancho Cucamonga\, as they showcase the strategic\, consultant-level plans developed during this 6-month online program.0 \nClick here to learn more and register via Zoom.
URL:https://metroatlantaexchange.org/event/national-league-of-cities-nlc-innovative-capacity-building-with-the-lincoln-vibrant-communities-teams-program/
LOCATION:GA
CATEGORIES:Virtual Event,Workforce Developer
ORGANIZER;CN="National League of Cities":MAILTO:info@nlc.org
END:VEVENT
END:VCALENDAR