BEGIN:VCALENDAR
VERSION:2.0
PRODID:-//MAX - ECPv6.15.17.1//NONSGML v1.0//EN
CALSCALE:GREGORIAN
METHOD:PUBLISH
X-WR-CALNAME:MAX
X-ORIGINAL-URL:https://metroatlantaexchange.org
X-WR-CALDESC:Events for MAX
REFRESH-INTERVAL;VALUE=DURATION:PT1H
X-Robots-Tag:noindex
X-PUBLISHED-TTL:PT1H
BEGIN:VTIMEZONE
TZID:America/New_York
BEGIN:DAYLIGHT
TZOFFSETFROM:-0500
TZOFFSETTO:-0400
TZNAME:EDT
DTSTART:20240310T070000
END:DAYLIGHT
BEGIN:STANDARD
TZOFFSETFROM:-0400
TZOFFSETTO:-0500
TZNAME:EST
DTSTART:20241103T060000
END:STANDARD
BEGIN:DAYLIGHT
TZOFFSETFROM:-0500
TZOFFSETTO:-0400
TZNAME:EDT
DTSTART:20250309T070000
END:DAYLIGHT
BEGIN:STANDARD
TZOFFSETFROM:-0400
TZOFFSETTO:-0500
TZNAME:EST
DTSTART:20251102T060000
END:STANDARD
BEGIN:DAYLIGHT
TZOFFSETFROM:-0500
TZOFFSETTO:-0400
TZNAME:EDT
DTSTART:20260308T070000
END:DAYLIGHT
BEGIN:STANDARD
TZOFFSETFROM:-0400
TZOFFSETTO:-0500
TZNAME:EST
DTSTART:20261101T060000
END:STANDARD
END:VTIMEZONE
BEGIN:VEVENT
DTSTART;TZID=America/New_York:20250604T090000
DTEND;TZID=America/New_York:20250605T150000
DTSTAMP:20260422T140208
CREATED:20250417T212815Z
LAST-MODIFIED:20250417T212902Z
UID:10033469-1749027600-1749135600@metroatlantaexchange.org
SUMMARY:Hiring Our Heroes: Virtual Amplify
DESCRIPTION:Hiring Our Heroes is hosting a Virtual Amplify event on Wednesday\, June 4th and Thursday\, June 5th\, from 9:00 AM to 3:00 PM each day. \nRegister now for this two-day virtual event for military spouses focused on career development.Event content includes professional development on topics such as resume building\, interviewing skills\, LinkedIn\, compensation negotiation\, strategic networking\, and more. Engage with employers and military organizations\, gain access to nationwide resources\, learn about volunteer and employment opportunities\, get information regarding upcoming events\, and network with fellow military spouses. \nClick here to learn more and register.
URL:https://metroatlantaexchange.org/event/hiring-our-heroes-virtual-amplify-2/
LOCATION:GA
CATEGORIES:Career Development,Job Seeker,Veterans/Military,Virtual Event
END:VEVENT
BEGIN:VEVENT
DTSTART;TZID=America/New_York:20250605T110000
DTEND;TZID=America/New_York:20250605T150000
DTSTAMP:20260422T140208
CREATED:20250524T154216Z
LAST-MODIFIED:20250524T154216Z
UID:10033857-1749121200-1749135600@metroatlantaexchange.org
SUMMARY:JobFairX: Atlanta Diversity Virtual Job Fair
DESCRIPTION:JobFairX is hosting an Atlanta Diversity Virtual Job Fair on Thursday\, June 5th\, from 11:00 AM to 3:00 PM. \nAt JobFairX\, we match job seekers like you with employers who have registered for the virtual job fair. When you sign up and create a profile\, we collect information about your qualifications\, skills\, and preferences. Our advanced matching algorithm analyzes this data to identify suitable job opportunities. If your qualifications align with a job\, you’ll receive an email invitation to schedule an interview with the employer during the fair. Our streamlined process saves you time on your job search. \nClick here to register.
URL:https://metroatlantaexchange.org/event/jobfairx-atlanta-diversity-virtual-job-fair/
LOCATION:GA
CATEGORIES:Job Seeker,Virtual Event
END:VEVENT
BEGIN:VEVENT
DTSTART;TZID=America/New_York:20250605T160000
DTEND;TZID=America/New_York:20250605T170000
DTSTAMP:20260422T140208
CREATED:20250524T181601Z
LAST-MODIFIED:20250524T181601Z
UID:10033893-1749139200-1749142800@metroatlantaexchange.org
SUMMARY:Hiring Our Heroes: LinkedIn Profile Review
DESCRIPTION:Hiring Our Heroes is hosting a virtual LinkedIn Profile Review on Thursday\, June 5th\, starting at 4:00 PM. \nHow well does your LinkedIn profile tell your professional story? Meet with talent acquisition professionals in small group breakout rooms who will review your LinkedIn profile and provide feedback. Advance preparation is recommended. Resources provided upon registration. \nClick here to learn more and register.
URL:https://metroatlantaexchange.org/event/hiring-our-heroes-linkedin-profile-review/
LOCATION:GA
CATEGORIES:Career Development,Job Seeker,Veterans/Military,Virtual Event
END:VEVENT
END:VCALENDAR