BEGIN:VCALENDAR
VERSION:2.0
PRODID:-//MAX - ECPv6.15.17.1//NONSGML v1.0//EN
CALSCALE:GREGORIAN
METHOD:PUBLISH
X-ORIGINAL-URL:https://metroatlantaexchange.org
X-WR-CALDESC:Events for MAX
REFRESH-INTERVAL;VALUE=DURATION:PT1H
X-Robots-Tag:noindex
X-PUBLISHED-TTL:PT1H
BEGIN:VTIMEZONE
TZID:America/New_York
BEGIN:DAYLIGHT
TZOFFSETFROM:-0500
TZOFFSETTO:-0400
TZNAME:EDT
DTSTART:20240310T070000
END:DAYLIGHT
BEGIN:STANDARD
TZOFFSETFROM:-0400
TZOFFSETTO:-0500
TZNAME:EST
DTSTART:20241103T060000
END:STANDARD
BEGIN:DAYLIGHT
TZOFFSETFROM:-0500
TZOFFSETTO:-0400
TZNAME:EDT
DTSTART:20250309T070000
END:DAYLIGHT
BEGIN:STANDARD
TZOFFSETFROM:-0400
TZOFFSETTO:-0500
TZNAME:EST
DTSTART:20251102T060000
END:STANDARD
BEGIN:DAYLIGHT
TZOFFSETFROM:-0500
TZOFFSETTO:-0400
TZNAME:EDT
DTSTART:20260308T070000
END:DAYLIGHT
BEGIN:STANDARD
TZOFFSETFROM:-0400
TZOFFSETTO:-0500
TZNAME:EST
DTSTART:20261101T060000
END:STANDARD
END:VTIMEZONE
BEGIN:VEVENT
DTSTART;TZID=America/New_York:20250609T090000
DTEND;TZID=America/New_York:20250609T120000
DTSTAMP:20260422T123839
CREATED:20250524T182006Z
LAST-MODIFIED:20250524T182006Z
UID:10033895-1749459600-1749470400@metroatlantaexchange.org
SUMMARY:City of Refuge & NPursuit Career Partners: 4-Day Interactive Program
DESCRIPTION:The City of Refuge\, in partnership with NPursuit Career Partners\, is offering a 4-Day Interactive Program starting Monday\, June 9th\, from 9:00 AM to 12:00 PM. \nThis program allows job seekers to receive hands-on experience with AI-powered tools in order to streamline their job search.  Learn basic digital literacy skills\, professional resume and headshot\, intro to AI and job search tools\, one-on-one career coaching and mock interviewing\, LinkedIn and portfolio development and more! Participants will have the opportunity to earn a complimentary device from InspiredEDU. \nClick here to register. \nClick here for a flyer.
URL:https://metroatlantaexchange.org/event/city-of-refuge-npursuit-career-partners-4-day-interactive-program/
LOCATION:City of Refuge Workforce Innovation Hub\, 1300 Joseph E. Boone Blvd NW\, Atlanta\, GA\, 30314\, United States
CATEGORIES:Career Development,In-Person Event,Job Seeker
GEO:33.7623158;-84.4302296
X-APPLE-STRUCTURED-LOCATION;VALUE=URI;X-ADDRESS=City of Refuge Workforce Innovation Hub 1300 Joseph E. Boone Blvd NW Atlanta GA 30314 United States;X-APPLE-RADIUS=500;X-TITLE=1300 Joseph E. Boone Blvd NW:geo:-84.4302296,33.7623158
END:VEVENT
BEGIN:VEVENT
DTSTART;TZID=America/New_York:20250609T123000
DTEND;TZID=America/New_York:20250609T130000
DTSTAMP:20260422T123839
CREATED:20250524T182136Z
LAST-MODIFIED:20250524T182136Z
UID:10033896-1749472200-1749474000@metroatlantaexchange.org
SUMMARY:Manufacturing Institute: Heroes MAKE America SkillBridge Information Session
DESCRIPTION:The Manufacturing Institute is hosting a Heroes MAKE America SkillBridge Information Session on Monday\, June 9th\, from 12:30 PM to 1:00 PM. \nThis overview of the Heroes MAKE America initiative will offer insight into diverse carer opportunities in manufacturing. Participants will also learn the in-person and remote training pathways available and information to engage directly with industry leaders through our Heroes Connect virtual events. \nClick here to learn more and register.
URL:https://metroatlantaexchange.org/event/manufacturing-institute-heroes-make-america-skillbridge-information-session/
LOCATION:GA
CATEGORIES:Career Development,Job Seeker,Virtual Event
END:VEVENT
BEGIN:VEVENT
DTSTART;TZID=America/New_York:20250609T140000
DTEND;TZID=America/New_York:20250609T170000
DTSTAMP:20260422T123840
CREATED:20250524T154719Z
LAST-MODIFIED:20250524T154719Z
UID:10033860-1749477600-1749488400@metroatlantaexchange.org
SUMMARY:Schneider: Truck Driver and Owner-Operator Recruiting Event
DESCRIPTION:Schneider is hosting a Truck Driver and Owner-Operator Recruiting Event on Monday\, June 9th\, from 2:00 PM to 5:00 PM\, at Katlaw. \nExperienced truck driver looking for a change? Recent driving school graduate or looking to get your CDL? Whatever your level of truck driving experience\, get a chance to have all your truck driving related questions answered at one of our casual truck driver and owner-operator recruiting events. Speak to one of our knowledgeable and personable recruiters about driving opportunities\, pay and benefits\, military programs\, requirements\, terminology clarification\, CDL questions and any other questions you may have. \nClick here to learn more and register.
URL:https://metroatlantaexchange.org/event/schneider-truck-driver-and-owner-operator-recruiting-event-4/
LOCATION:Katlaw School\, 5000 Austell Powder Springs Road\, Austell\, GA\, 30106\, United States
CATEGORIES:In-Person Event,Job Seeker
END:VEVENT
END:VCALENDAR