BEGIN:VCALENDAR
VERSION:2.0
PRODID:-//MAX - ECPv6.15.17.1//NONSGML v1.0//EN
CALSCALE:GREGORIAN
METHOD:PUBLISH
X-WR-CALNAME:MAX
X-ORIGINAL-URL:https://metroatlantaexchange.org
X-WR-CALDESC:Events for MAX
REFRESH-INTERVAL;VALUE=DURATION:PT1H
X-Robots-Tag:noindex
X-PUBLISHED-TTL:PT1H
BEGIN:VTIMEZONE
TZID:America/New_York
BEGIN:DAYLIGHT
TZOFFSETFROM:-0500
TZOFFSETTO:-0400
TZNAME:EDT
DTSTART:20240310T070000
END:DAYLIGHT
BEGIN:STANDARD
TZOFFSETFROM:-0400
TZOFFSETTO:-0500
TZNAME:EST
DTSTART:20241103T060000
END:STANDARD
BEGIN:DAYLIGHT
TZOFFSETFROM:-0500
TZOFFSETTO:-0400
TZNAME:EDT
DTSTART:20250309T070000
END:DAYLIGHT
BEGIN:STANDARD
TZOFFSETFROM:-0400
TZOFFSETTO:-0500
TZNAME:EST
DTSTART:20251102T060000
END:STANDARD
BEGIN:DAYLIGHT
TZOFFSETFROM:-0500
TZOFFSETTO:-0400
TZNAME:EDT
DTSTART:20260308T070000
END:DAYLIGHT
BEGIN:STANDARD
TZOFFSETFROM:-0400
TZOFFSETTO:-0500
TZNAME:EST
DTSTART:20261101T060000
END:STANDARD
END:VTIMEZONE
BEGIN:VEVENT
DTSTART;TZID=America/New_York:20250610T084500
DTEND;TZID=America/New_York:20250610T180000
DTSTAMP:20260422T072918
CREATED:20250524T182459Z
LAST-MODIFIED:20250524T182459Z
UID:10033897-1749545100-1749578400@metroatlantaexchange.org
SUMMARY:Brandywine Cares: CareerBuild 2025
DESCRIPTION:Brandywine Cares is hosting CareerBuild 2025 on Tuesday\, June 10th\, from 8:45 AM to 6:00 PM\, at the City of Refuge. \nThis exciting\, free in-person event\, hosted in collaboration with City of Refuge\, is designed to help participants prepare for a successful career in property management and related fields. Whether you’re interested in becoming a maintenance technician\, HVAC technician\, leasing consultant\, or pursuing other roles within the industry—this event is for you. If you’ve recently completed a certification or career training program related to these fields\, or hold a relevant credential\, we especially encourage you to attend. This workshop is ideal for individuals looking to strengthen their skills\, explore career pathways\, and connect with professionals in the field of property management. \nIf you have any questions or need additional information\, email helen@brandywinecares.org. \nClick here for a flyer that contains a QRC code to register.
URL:https://metroatlantaexchange.org/event/brandywine-cares-careerbuild-2025/
LOCATION:City of Refuge Workforce Innovation Hub\, 1300 Joseph E. Boone Blvd NW\, Atlanta\, GA\, 30314\, United States
CATEGORIES:Career Development,In-Person Event,Job Seeker
GEO:33.7623158;-84.4302296
X-APPLE-STRUCTURED-LOCATION;VALUE=URI;X-ADDRESS=City of Refuge Workforce Innovation Hub 1300 Joseph E. Boone Blvd NW Atlanta GA 30314 United States;X-APPLE-RADIUS=500;X-TITLE=1300 Joseph E. Boone Blvd NW:geo:-84.4302296,33.7623158
END:VEVENT
BEGIN:VEVENT
DTSTART;TZID=America/New_York:20250610T160000
DTEND;TZID=America/New_York:20250610T170000
DTSTAMP:20260422T072918
CREATED:20250524T185027Z
LAST-MODIFIED:20250524T185027Z
UID:10033898-1749571200-1749574800@metroatlantaexchange.org
SUMMARY:Hiring Our Heroes: Exploring Careers in Aviation and Aerospace
DESCRIPTION:Hiring Our Heroes is hosting Exploring Careers in Aviation and Aerospace on Tuesday\, June 10th\, starting at 4:00 PM. \nJoin Hiring Our Heroes and representatives from multiple employers in the aviation and aerospace industries to learn about in-demand skillsets\, available roles and career paths\, hiring processes\, resume and interview tips\, licensing and certification requirements\, how to be successful in a hiring fair\, and more. Bring your questions for live Q&A! \nClick here to learn more and register.
URL:https://metroatlantaexchange.org/event/hiring-our-heroes-exploring-careers-in-aviation-and-aerospace/
LOCATION:GA
CATEGORIES:Career Development,Job Seeker,Veterans/Military,Virtual Event
END:VEVENT
BEGIN:VEVENT
DTSTART;TZID=America/New_York:20250610T190000
DTEND;TZID=America/New_York:20250610T200000
DTSTAMP:20260422T072918
CREATED:20250524T191229Z
LAST-MODIFIED:20250524T191229Z
UID:10033899-1749582000-1749585600@metroatlantaexchange.org
SUMMARY:Hiring Our Heroes: Corporate Fellowship Program Information Session
DESCRIPTION:Hiring Our Heroes is hosting a Corporate Fellowship Program Information Session on Tuesday\, June 10th\, starting at 7:00 PM. \nWe invite transitioning service members to learn more about our SkillBridge fellowships\, which provide professional training and hands-on experience in the civilian workforce. These fellowships are designed to prepare you for a smooth transition into meaningful civilian careers. \nClick here to learn more and register.
URL:https://metroatlantaexchange.org/event/hiring-our-heroes-corporate-fellowship-program-information-session-2/
LOCATION:GA
CATEGORIES:Career Development,Job Seeker,Veterans/Military,Virtual Event
END:VEVENT
END:VCALENDAR