BEGIN:VCALENDAR
VERSION:2.0
PRODID:-//MAX - ECPv6.15.17.1//NONSGML v1.0//EN
CALSCALE:GREGORIAN
METHOD:PUBLISH
X-WR-CALNAME:MAX
X-ORIGINAL-URL:https://metroatlantaexchange.org
X-WR-CALDESC:Events for MAX
REFRESH-INTERVAL;VALUE=DURATION:PT1H
X-Robots-Tag:noindex
X-PUBLISHED-TTL:PT1H
BEGIN:VTIMEZONE
TZID:America/New_York
BEGIN:DAYLIGHT
TZOFFSETFROM:-0500
TZOFFSETTO:-0400
TZNAME:EDT
DTSTART:20240310T070000
END:DAYLIGHT
BEGIN:STANDARD
TZOFFSETFROM:-0400
TZOFFSETTO:-0500
TZNAME:EST
DTSTART:20241103T060000
END:STANDARD
BEGIN:DAYLIGHT
TZOFFSETFROM:-0500
TZOFFSETTO:-0400
TZNAME:EDT
DTSTART:20250309T070000
END:DAYLIGHT
BEGIN:STANDARD
TZOFFSETFROM:-0400
TZOFFSETTO:-0500
TZNAME:EST
DTSTART:20251102T060000
END:STANDARD
BEGIN:DAYLIGHT
TZOFFSETFROM:-0500
TZOFFSETTO:-0400
TZNAME:EDT
DTSTART:20260308T070000
END:DAYLIGHT
BEGIN:STANDARD
TZOFFSETFROM:-0400
TZOFFSETTO:-0500
TZNAME:EST
DTSTART:20261101T060000
END:STANDARD
END:VTIMEZONE
BEGIN:VEVENT
DTSTART;TZID=America/New_York:20250611T150000
DTEND;TZID=America/New_York:20250611T160000
DTSTAMP:20260422T073129
CREATED:20250512T182418Z
LAST-MODIFIED:20250512T182418Z
UID:10033802-1749654000-1749657600@metroatlantaexchange.org
SUMMARY:Manufacturing Institute: Heroes Connect - The Kinetic Group
DESCRIPTION:The Manufacturing Institute is hosting a virtual Heroes Connect: The Kinetic Group on Wednesday\, June 11th\, from 3:00 PM to 4:00 PM. \nThe Kinetic Group is a collection of the most trusted\, most respected\, and most in demand brands of ammunition in the world. This session brings a unique opportunity for participants engage directly with company leaders about their operations\, locations\, Veteran-friendly culture\, and current career opportunities. \nClick here to learn more and register.
URL:https://metroatlantaexchange.org/event/manufacturing-institute-heroes-connect-the-kinetic-group/
LOCATION:GA
CATEGORIES:Career Development,Job Seeker,Veterans/Military,Virtual Event
END:VEVENT
BEGIN:VEVENT
DTSTART;TZID=America/New_York:20250611T150000
DTEND;TZID=America/New_York:20250611T160000
DTSTAMP:20260422T073129
CREATED:20250524T191523Z
LAST-MODIFIED:20250524T191523Z
UID:10033900-1749654000-1749657600@metroatlantaexchange.org
SUMMARY:Hiring Our Heroes: Career Forward Information Session
DESCRIPTION:Hiring Our Heroes is hosting a Career Forward Information Session on Wednesday\, June 11th\, starting at 3:00 PM. \nTransitioning service members\, veterans\, military spouses\, and military caregivers; learn how you can earn a Google Career Certificate and level up your career with Career Forward. \nClick here to learn more and register.
URL:https://metroatlantaexchange.org/event/hiring-our-heroes-career-forward-information-session-5/
LOCATION:GA
CATEGORIES:Career Development,Job Seeker,Veterans/Military,Virtual Event
END:VEVENT
END:VCALENDAR