BEGIN:VCALENDAR
VERSION:2.0
PRODID:-//MAX - ECPv6.15.17.1//NONSGML v1.0//EN
CALSCALE:GREGORIAN
METHOD:PUBLISH
X-WR-CALNAME:MAX
X-ORIGINAL-URL:https://metroatlantaexchange.org
X-WR-CALDESC:Events for MAX
REFRESH-INTERVAL;VALUE=DURATION:PT1H
X-Robots-Tag:noindex
X-PUBLISHED-TTL:PT1H
BEGIN:VTIMEZONE
TZID:America/New_York
BEGIN:DAYLIGHT
TZOFFSETFROM:-0500
TZOFFSETTO:-0400
TZNAME:EDT
DTSTART:20240310T070000
END:DAYLIGHT
BEGIN:STANDARD
TZOFFSETFROM:-0400
TZOFFSETTO:-0500
TZNAME:EST
DTSTART:20241103T060000
END:STANDARD
BEGIN:DAYLIGHT
TZOFFSETFROM:-0500
TZOFFSETTO:-0400
TZNAME:EDT
DTSTART:20250309T070000
END:DAYLIGHT
BEGIN:STANDARD
TZOFFSETFROM:-0400
TZOFFSETTO:-0500
TZNAME:EST
DTSTART:20251102T060000
END:STANDARD
BEGIN:DAYLIGHT
TZOFFSETFROM:-0500
TZOFFSETTO:-0400
TZNAME:EDT
DTSTART:20260308T070000
END:DAYLIGHT
BEGIN:STANDARD
TZOFFSETFROM:-0400
TZOFFSETTO:-0500
TZNAME:EST
DTSTART:20261101T060000
END:STANDARD
END:VTIMEZONE
BEGIN:VEVENT
DTSTART;TZID=America/New_York:20250608T080000
DTEND;TZID=America/New_York:20250611T170000
DTSTAMP:20260422T085926
CREATED:20250506T183927Z
LAST-MODIFIED:20250506T183927Z
UID:10033766-1749369600-1749661200@metroatlantaexchange.org
SUMMARY:National Association of Regional Councils (NARC): 2025 NARC Annual Conference
DESCRIPTION:The National Association of Regional Councils (NARC) is hosting the 2025 NARC Annual Conference starting Sunday\, June 8th through Wednesday\, June 11th\, at the Renaissance Seattle Hotel. \nThe NARC Annual Conference and Exhibition is the largest national event focused on promoting effective regional cooperation and solutions through interaction and education. NARC’s Annual Conference is the premier event focused on regions and regional collaboration. Representatives of Councils of Government and Metropolitan Planning Organizations — leadership\, professional staff\, board members\, local elected officials\, technical and program staff — share best practices and learn about relevant issues. Speakers include experts from the public and private sector\, congressional and state lawmakers\, and individuals from universities and non-profit organizations. \nClick here to learn more and register.
URL:https://metroatlantaexchange.org/event/national-association-of-regional-councils-narc-2025-narc-annual-conference/
LOCATION:Renaissance Seattle Hotel\, 515 Madison Street\, Seattle\, WA\, 98104\, United States
CATEGORIES:Conferences,In-Person Event,Workforce Developer
END:VEVENT
BEGIN:VEVENT
DTSTART;TZID=America/New_York:20250609T180000
DTEND;TZID=America/New_York:20250611T210000
DTSTAMP:20260422T085926
CREATED:20250512T205213Z
LAST-MODIFIED:20250512T205213Z
UID:10033812-1749492000-1749675600@metroatlantaexchange.org
SUMMARY:Society for Human Resource Management (SHRM) – Atlanta: Boot Camp - SHRM Certification Prep Intensive Study Session
DESCRIPTION:The Society for Human Resource Management (SHRM) – Atlanta is hosting a virtual Boot Camp – SHRM Certification Prep Intensive Study Session starting Monday\, June 9th through Wednesday\, June 11th\, from 6:00 PM to 9:00 PM. \nOur SHRM Certification Boot Camp will help you to apply your knowledge of the SHRM BASK and your existing HR expertise to your test-taking approach. In this three-part\, intensive virtual seminar\, you will review the hardest sections of the SHRM learning modules and tackle obstacles to a successful exam day. Led by a highly experienced and engaging SHRM-certified instructor\, this virtual classroom environment will keep you focused and accountable. \nClick here to learn more and register.
URL:https://metroatlantaexchange.org/event/society-for-human-resource-management-shrm-atlanta-boot-camp-shrm-certification-prep-intensive-study-session-2/
LOCATION:GA
CATEGORIES:Virtual Event,Workforce Developer
ORGANIZER;CN="The Society for Human Resource Management":MAILTO:info@shrmatlanta.org
END:VEVENT
BEGIN:VEVENT
DTSTART;TZID=America/New_York:20250610T080000
DTEND;TZID=America/New_York:20250611T170000
DTSTAMP:20260422T085926
CREATED:20241222T212210Z
LAST-MODIFIED:20241222T212210Z
UID:10032994-1749542400-1749661200@metroatlantaexchange.org
SUMMARY:Jobs for the Future (JFF): Horizons 2025 - Dare to be Brave
DESCRIPTION:Jobs for the Future (JFF) is hosting Horizons 2025 – Dare to be Brave on Tuesday\, June 10th and Wednesday\, June 11th\, from 8:00 AM to 5:00 PM\, at the New Orleans Marriot. \nJoin us at our annual summit when we return to New Orleans to ignite change and take bold steps toward creating a future that works for everyone. This summit goes beyond networking—it’s a space where a diverse array of voices come together to spark ideas and drive change. Join us as we work to overcome challenges and progress toward a future that benefits everyone. \nClick here to learn more and register.
URL:https://metroatlantaexchange.org/event/jobs-for-the-future-jff-horizons-2025-dare-to-be-brave/
LOCATION:New Orleans Marriott\, 555 Canal Street\, New Orleans\, LA\, 70130\, United States
CATEGORIES:Conferences,In-Person Event,Workforce Developer
END:VEVENT
BEGIN:VEVENT
DTSTART;TZID=America/New_York:20250611T100000
DTEND;TZID=America/New_York:20250611T160000
DTSTAMP:20260422T085926
CREATED:20250524T195440Z
LAST-MODIFIED:20250524T195440Z
UID:10033905-1749636000-1749657600@metroatlantaexchange.org
SUMMARY:Society for Human Resource Management (SHRM) – Atlanta: UKG HR & Payroll Virtual eSymposium - Make the Case
DESCRIPTION:The Society for Human Resource Management (SHRM) – Atlanta is hosting a UKG HR & Payroll Virtual eSymposium – Make the Case on Wednesday\, June 11th\, from 10:00 AM to 4:00 PM. \nTime and information are precious resources ― use them wisely to build momentum\, secure buy-in\, and lead your organization forward. At the next UKG HR & Payroll eSymposium\, we’re spotlighting how to leverage powerful workforce intelligence to make the case with your stakeholders\, build compelling insights\, and create impactful conversations to drive meaningful initiatives and growth. This one-day event brings professionals and executives to the forefront of the discussion. Plan a virtual team-building day\, network with peers\, and earn up to 14 credits from the comfort of your home or office. \nClick here to learn more and register.
URL:https://metroatlantaexchange.org/event/society-for-human-resource-management-shrm-atlanta-ukg-hr-payroll-virtual-esymposium-make-the-case/
LOCATION:GA
CATEGORIES:Virtual Event,Workforce Developer
ORGANIZER;CN="The Society for Human Resource Management":MAILTO:info@shrmatlanta.org
END:VEVENT
BEGIN:VEVENT
DTSTART;TZID=America/New_York:20250611T110000
DTEND;TZID=America/New_York:20250611T120000
DTSTAMP:20260422T085926
CREATED:20250524T203208Z
LAST-MODIFIED:20250524T203208Z
UID:10033922-1749639600-1749643200@metroatlantaexchange.org
SUMMARY:Lightcast: Tree of Value - Using Data to Break Down HR Silos
DESCRIPTION:Lightcast is hosting a webinar on the Tree of Value: Using Data to Break Down HR Silos on Wednesday\, June 11th\, starting at 11:00 AM. \nHR trends come and go\, but four disciplines within the field—people analytics\, talent intelligence\, workforce planning\, and behavioral science—have proven increasingly valuable. These are the four branches of the “Tree of Value\,” and by understanding how human capital data informs all of them\, we can make even better workforce decisions. Learn how to see your own field from a new perspective\, create better strategies using better data\, and use it to break down silos within HR organizations. \nClick here to learn more and register.
URL:https://metroatlantaexchange.org/event/lightcast-tree-of-value-using-data-to-break-down-hr-silos/
LOCATION:GA
CATEGORIES:Virtual Event,Workforce Developer
END:VEVENT
BEGIN:VEVENT
DTSTART;TZID=America/New_York:20250611T120000
DTEND;TZID=America/New_York:20250611T130000
DTSTAMP:20260422T085926
CREATED:20250506T191319Z
LAST-MODIFIED:20250506T191319Z
UID:10033769-1749643200-1749646800@metroatlantaexchange.org
SUMMARY:Aspen Institute: Writing an Op-Ed
DESCRIPTION:The Aspen Institute is hosting a webinar on Writing an Op-Ed on Wednesday\, June 11th\, from 12:00 PM to 1:00 PM. \nIn our Writing an Op-Ed instructional webinar\, participants will learn how to draft an op-ed — or any kind of opinion piece\, whether in print or digital media — in order to advance a broader goal of policy change. An effective op-ed requires having a clear point\, an understanding of your audience\, and the unique voice of the writer. This webinar will go into the basics for achieving all of those points\, as well as discuss strategies for pitching an op-ed to media stakeholders to reach the audiences that matter most for impacting policy. \nClick here to learn more and register.
URL:https://metroatlantaexchange.org/event/aspen-institute-writing-an-op-ed/
LOCATION:GA
CATEGORIES:Virtual Event,Workforce Developer
END:VEVENT
BEGIN:VEVENT
DTSTART;TZID=America/New_York:20250611T130000
DTEND;TZID=America/New_York:20250611T140000
DTSTAMP:20260422T085926
CREATED:20250524T203408Z
LAST-MODIFIED:20250524T203408Z
UID:10033923-1749646800-1749650400@metroatlantaexchange.org
SUMMARY:Society of Human Resource Management (SHRM): Better Leaders\, Better Workplaces - Elevating Purposeful Leadership with SHRM and SHRM Linkage
DESCRIPTION:The Society of Human Resource Management (SHRM) is hosting a webinar on Better Leaders\, Better Workplaces: Elevating Purposeful Leadership with SHRM and SHRM Linkage on Wednesday\, June 11th\, starting at 1:00 PM. \nIn this engaging webinar\, SHRM and SHRM Linkage explore how their combined expertise is creating more effective workplaces with tangible business results. As organizations navigate increasing complexity\, burnout\, and talent disruption\, the demand for strong\, values-driven leadership has never been more critical. Discover how SHRM Linkage’s research-backed Purposeful Leadership model is equipping leaders to meet these challenges head-on. \nClick here to learn more and register.
URL:https://metroatlantaexchange.org/event/society-of-human-resource-management-shrm-better-leaders-better-workplaces-elevating-purposeful-leadership-with-shrm-and-shrm-linkage/
LOCATION:GA
CATEGORIES:Virtual Event,Workforce Developer
ORGANIZER;CN="The Society for Human Resource Management":MAILTO:info@shrmatlanta.org
END:VEVENT
END:VCALENDAR