BEGIN:VCALENDAR
VERSION:2.0
PRODID:-//MAX - ECPv6.15.17.1//NONSGML v1.0//EN
CALSCALE:GREGORIAN
METHOD:PUBLISH
X-WR-CALNAME:MAX
X-ORIGINAL-URL:https://metroatlantaexchange.org
X-WR-CALDESC:Events for MAX
REFRESH-INTERVAL;VALUE=DURATION:PT1H
X-Robots-Tag:noindex
X-PUBLISHED-TTL:PT1H
BEGIN:VTIMEZONE
TZID:America/New_York
BEGIN:DAYLIGHT
TZOFFSETFROM:-0500
TZOFFSETTO:-0400
TZNAME:EDT
DTSTART:20240310T070000
END:DAYLIGHT
BEGIN:STANDARD
TZOFFSETFROM:-0400
TZOFFSETTO:-0500
TZNAME:EST
DTSTART:20241103T060000
END:STANDARD
BEGIN:DAYLIGHT
TZOFFSETFROM:-0500
TZOFFSETTO:-0400
TZNAME:EDT
DTSTART:20250309T070000
END:DAYLIGHT
BEGIN:STANDARD
TZOFFSETFROM:-0400
TZOFFSETTO:-0500
TZNAME:EST
DTSTART:20251102T060000
END:STANDARD
BEGIN:DAYLIGHT
TZOFFSETFROM:-0500
TZOFFSETTO:-0400
TZNAME:EDT
DTSTART:20260308T070000
END:DAYLIGHT
BEGIN:STANDARD
TZOFFSETFROM:-0400
TZOFFSETTO:-0500
TZNAME:EST
DTSTART:20261101T060000
END:STANDARD
END:VTIMEZONE
BEGIN:VEVENT
DTSTART;TZID=America/New_York:20250612T140000
DTEND;TZID=America/New_York:20250612T150000
DTSTAMP:20260422T104840
CREATED:20250524T203534Z
LAST-MODIFIED:20250524T203534Z
UID:10033924-1749736800-1749740400@metroatlantaexchange.org
SUMMARY:National Association of Counties (NACo): Efficiency in Action: Saving Millions\, Serving Better – Summit County’s Success Story
DESCRIPTION:The National Association of Counties (NACo) is hosting a webinar on Efficiency in Action: Saving Millions\, Serving Better – Summit County’s Success Story on Thursday\, June 12th\, from 2:00 PM to 3:00 PM. \nJoin us for an insightful webinar that explores the transformative impact of the NEXT program in Summit County\, Ohio. This workforce development initiative\, powered by Unite Us technology\, has not only helped working families achieve economic self-sufficiency but has also delivered millions of dollars in cost savings and hundreds of administrative hours saved. Learn how outdated manual processes slowed progress and created inefficiencies—until the program adopted secure data sharing\, closed-loop referrals\, and streamlined billing solutions to drive faster\, more effective support. \nClick here to learn more and register.
URL:https://metroatlantaexchange.org/event/national-association-of-counties-naco-efficiency-in-action-saving-millions-serving-better-summit-countys-success-story/
LOCATION:GA
CATEGORIES:Virtual Event,Workforce Developer
END:VEVENT
BEGIN:VEVENT
DTSTART;TZID=America/New_York:20250612T140000
DTEND;TZID=America/New_York:20250612T150000
DTSTAMP:20260422T104840
CREATED:20250524T204129Z
LAST-MODIFIED:20250524T204129Z
UID:10033925-1749736800-1749740400@metroatlantaexchange.org
SUMMARY:National Association of State Workforce Agencies (NASWA): MSDC learn-and-Share Session: Utilizing Job Data to Enhance Labor Market Insights Focus Group
DESCRIPTION:The National Association of State Workforce Agencies (NASWA) is hosting an MSDC learn-and-Share Session: Utilizing Job Data to Enhance Labor Market Insights Focus Group on Thursday\, June 12th\, from 2:00 PM to 3:00 PM. \nThe National Labor Exchange (NLx) Research Hub and the Coleridge Initiative are hosting a focus group to gather states’ ideas on utilizing jobs data to enhance labor market insights. Feedback gathered will be used to create improved information sharing and communications throughout the workforce and education system\, as well as a better understanding of labor demand across markets. The purpose of the focus group is to better understand how these identified methods and visualizations align with states’ needs in understanding labor demand and the nature of work. \nClick here to learn more and register.
URL:https://metroatlantaexchange.org/event/national-association-of-state-workforce-agencies-naswa-msdc-learn-and-share-session-utilizing-job-data-to-enhance-labor-market-insights-focus-group/
LOCATION:GA
CATEGORIES:Virtual Event,Workforce Developer
ORGANIZER;CN="National Association of State Workforce Agencies (NASWA)":MAILTO:naswa@naswa.org
END:VEVENT
BEGIN:VEVENT
DTSTART;TZID=America/New_York:20250612T160000
DTEND;TZID=America/New_York:20250612T170000
DTSTAMP:20260422T104840
CREATED:20250524T204417Z
LAST-MODIFIED:20250524T204417Z
UID:10033926-1749744000-1749747600@metroatlantaexchange.org
SUMMARY:National League of Cities (NLC): Pride Month 2025: Actions Cities Can Take to Support Your LGBTQ+ Community
DESCRIPTION:The National League of Cities (NLC) is hosting Pride Month 2025: Actions Cities Can Take to Support Your LGBTQ+ Community on Thursday\, June 12th\, from 4:00 PM to 5:00 PM. \nThis June\, NLC’s LGBTQ+ Local Officials Constituency Group invites local leaders and city staff to a meaningful webinar on how cities can take action within city hall to help ensure LGBTQ+ residents and employees feel welcome and safe in their communities. Now more than ever\, communities are looking to local leaders to be at the forefront in ensuring that the government creates policies that protect and uplift its constituents. Join us to hear about available resources and successful city efforts and participate in a thoughtful discussion. \nClick here to learn more and register.
URL:https://metroatlantaexchange.org/event/national-league-of-cities-nlc-pride-month-2025-actions-cities-can-take-to-support-your-lgbtq-community/
LOCATION:GA
CATEGORIES:Virtual Event,Workforce Developer
ORGANIZER;CN="National League of Cities":MAILTO:info@nlc.org
END:VEVENT
END:VCALENDAR