BEGIN:VCALENDAR
VERSION:2.0
PRODID:-//MAX - ECPv6.15.17.1//NONSGML v1.0//EN
CALSCALE:GREGORIAN
METHOD:PUBLISH
X-WR-CALNAME:MAX
X-ORIGINAL-URL:https://metroatlantaexchange.org
X-WR-CALDESC:Events for MAX
REFRESH-INTERVAL;VALUE=DURATION:PT1H
X-Robots-Tag:noindex
X-PUBLISHED-TTL:PT1H
BEGIN:VTIMEZONE
TZID:America/New_York
BEGIN:DAYLIGHT
TZOFFSETFROM:-0500
TZOFFSETTO:-0400
TZNAME:EDT
DTSTART:20240310T070000
END:DAYLIGHT
BEGIN:STANDARD
TZOFFSETFROM:-0400
TZOFFSETTO:-0500
TZNAME:EST
DTSTART:20241103T060000
END:STANDARD
BEGIN:DAYLIGHT
TZOFFSETFROM:-0500
TZOFFSETTO:-0400
TZNAME:EDT
DTSTART:20250309T070000
END:DAYLIGHT
BEGIN:STANDARD
TZOFFSETFROM:-0400
TZOFFSETTO:-0500
TZNAME:EST
DTSTART:20251102T060000
END:STANDARD
BEGIN:DAYLIGHT
TZOFFSETFROM:-0500
TZOFFSETTO:-0400
TZNAME:EDT
DTSTART:20260308T070000
END:DAYLIGHT
BEGIN:STANDARD
TZOFFSETFROM:-0400
TZOFFSETTO:-0500
TZNAME:EST
DTSTART:20261101T060000
END:STANDARD
END:VTIMEZONE
BEGIN:VEVENT
DTSTART;TZID=America/New_York:20250629T080000
DTEND;TZID=America/New_York:20250702T170000
DTSTAMP:20260422T105004
CREATED:20250524T212401Z
LAST-MODIFIED:20250524T212401Z
UID:10033941-1751184000-1751475600@metroatlantaexchange.org
SUMMARY:Society for Human Resource Management (SHRM): SHRM 2025
DESCRIPTION:The Society for Human Resource Management (SHRM) is hosting SHRM 2025 starting Sunday\, June 29th through Wednesday\, July 2nd\, in San Diego\, CA. \nHR is changing faster than ever\, and the future of work waits for no one. Staying ahead means more than just keeping up—it means leading the charge. At SHRM25\, hosted in the beautiful\, sunny San Diego\, you have an unmatched opportunity to connect with top industry experts and peers who understand your challenges. With over 375 handpicked sessions\, you’ll dive deep into cutting-edge insights into AI advancements\, emerging regulations\, and the latest best practices reshaping our field. Engage in dynamic discussions\, practical workshops\, and inspiring keynotes that cover everything from managing a diverse workforce to innovative HR technologies. This is not just a conference; it’s a catalyst for your professional growth and a chance to future-proof your career. Network with thought leaders and HR professionals from around the globe\, share experiences\, and gather actionable strategies to take back to your organization. \nClick here to learn more and register.
URL:https://metroatlantaexchange.org/event/society-for-human-resource-management-shrm-shrm-2025/
LOCATION:San Diego Convention Center\, 111 West Harbor Drive\, San Diego\, CA\, 92101\, United States
CATEGORIES:Conferences,In-Person Event,Workforce Developer
ORGANIZER;CN="The Society for Human Resource Management":MAILTO:info@shrmatlanta.org
END:VEVENT
END:VCALENDAR