BEGIN:VCALENDAR
VERSION:2.0
PRODID:-//MAX - ECPv6.15.17.1//NONSGML v1.0//EN
CALSCALE:GREGORIAN
METHOD:PUBLISH
X-ORIGINAL-URL:https://metroatlantaexchange.org
X-WR-CALDESC:Events for MAX
REFRESH-INTERVAL;VALUE=DURATION:PT1H
X-Robots-Tag:noindex
X-PUBLISHED-TTL:PT1H
BEGIN:VTIMEZONE
TZID:America/New_York
BEGIN:DAYLIGHT
TZOFFSETFROM:-0500
TZOFFSETTO:-0400
TZNAME:EDT
DTSTART:20240310T070000
END:DAYLIGHT
BEGIN:STANDARD
TZOFFSETFROM:-0400
TZOFFSETTO:-0500
TZNAME:EST
DTSTART:20241103T060000
END:STANDARD
BEGIN:DAYLIGHT
TZOFFSETFROM:-0500
TZOFFSETTO:-0400
TZNAME:EDT
DTSTART:20250309T070000
END:DAYLIGHT
BEGIN:STANDARD
TZOFFSETFROM:-0400
TZOFFSETTO:-0500
TZNAME:EST
DTSTART:20251102T060000
END:STANDARD
BEGIN:DAYLIGHT
TZOFFSETFROM:-0500
TZOFFSETTO:-0400
TZNAME:EDT
DTSTART:20260308T070000
END:DAYLIGHT
BEGIN:STANDARD
TZOFFSETFROM:-0400
TZOFFSETTO:-0500
TZNAME:EST
DTSTART:20261101T060000
END:STANDARD
END:VTIMEZONE
BEGIN:VEVENT
DTSTART;TZID=America/New_York:20250708T100000
DTEND;TZID=America/New_York:20250708T140000
DTSTAMP:20260422T121640
CREATED:20250705T190510Z
LAST-MODIFIED:20250705T190510Z
UID:10034035-1751968800-1751983200@metroatlantaexchange.org
SUMMARY:Walmart: On-Site Hiring Event
DESCRIPTION:Walmart is hosting an On-Site Hiring Event on Tuesday\, July 8th\, from 10:00 AM to 2:00 PM\, at the Hyatt House Atlanta Perimeter Center. \nWalmart is hiring Exterior Services (Landscape) Technicians\, Exterior Services (Landscape) Technicians DOT Operators\, Lead (Landscape) Technicians\, General Maintenance & Senior General Maintenance Technicians and Senior Technician\, Refrigeration/HVAC in the Atlanta\, Georgia area! As a technician on our team\, you will make an impact by keeping our facilities and equipment in clean and safe working order. Whether you’re working at one of our thousands of stores and clubs\, distribution centers\, corporate campuses\, or somewhere in-between\, your skills will help people save money and live better. We offer regular schedules\, robust benefits and career growth. Walmart gives driven skilled trade technicians stability and opportunity. You’ll find more than just a job – you’ll find a place to learn\, grow\, and succeed. \nClick here to learn more. \nClick here to register.
URL:https://metroatlantaexchange.org/event/walmart-on-site-hiring-event/
LOCATION:Hyatt House Atlanta – Perimeter\, 5785 Peachtree Dunwoody Road\, Atlanta\, GA\, 30342\, United States
CATEGORIES:Employer,In-Person Event
END:VEVENT
END:VCALENDAR