BEGIN:VCALENDAR
VERSION:2.0
PRODID:-//MAX - ECPv6.15.17.1//NONSGML v1.0//EN
CALSCALE:GREGORIAN
METHOD:PUBLISH
X-WR-CALNAME:MAX
X-ORIGINAL-URL:https://metroatlantaexchange.org
X-WR-CALDESC:Events for MAX
REFRESH-INTERVAL;VALUE=DURATION:PT1H
X-Robots-Tag:noindex
X-PUBLISHED-TTL:PT1H
BEGIN:VTIMEZONE
TZID:America/New_York
BEGIN:DAYLIGHT
TZOFFSETFROM:-0500
TZOFFSETTO:-0400
TZNAME:EDT
DTSTART:20240310T070000
END:DAYLIGHT
BEGIN:STANDARD
TZOFFSETFROM:-0400
TZOFFSETTO:-0500
TZNAME:EST
DTSTART:20241103T060000
END:STANDARD
BEGIN:DAYLIGHT
TZOFFSETFROM:-0500
TZOFFSETTO:-0400
TZNAME:EDT
DTSTART:20250309T070000
END:DAYLIGHT
BEGIN:STANDARD
TZOFFSETFROM:-0400
TZOFFSETTO:-0500
TZNAME:EST
DTSTART:20251102T060000
END:STANDARD
BEGIN:DAYLIGHT
TZOFFSETFROM:-0500
TZOFFSETTO:-0400
TZNAME:EDT
DTSTART:20260308T070000
END:DAYLIGHT
BEGIN:STANDARD
TZOFFSETFROM:-0400
TZOFFSETTO:-0500
TZNAME:EST
DTSTART:20261101T060000
END:STANDARD
END:VTIMEZONE
BEGIN:VEVENT
DTSTART;TZID=America/New_York:20250714T080000
DTEND;TZID=America/New_York:20250717T140000
DTSTAMP:20260422T135809
CREATED:20250417T213556Z
LAST-MODIFIED:20250417T213556Z
UID:10033472-1752480000-1752760800@metroatlantaexchange.org
SUMMARY:Women in Technology (WIT): Girls Job Shadow Week
DESCRIPTION:Women in Technology (WIT) is hosting a Girls Job Shadow Week starting Monday\, July 14th through Thursday\, July 17th\, from 8:00 AM to 2:00 PM. \nTeenage girls are provided with a glimpse of the day-to-day excitement of a career in technology. For one week in the summer\, high school girls are paired with various technology centered organizations to experience the possibilities of a career in a STEM field. Volunteers at these organizations share their education and career path with the girls\, giving them an idea of what it takes to succeed. \nClick here to learn more and register.
URL:https://metroatlantaexchange.org/event/women-in-technology-wit-girls-job-shadow-week/
LOCATION:GA
CATEGORIES:Career Development,In-Person Event,Job Seeker
END:VEVENT
BEGIN:VEVENT
DTSTART;TZID=America/New_York:20250715T080000
DTEND;TZID=America/New_York:20250717T170000
DTSTAMP:20260422T135809
CREATED:20241222T212400Z
LAST-MODIFIED:20241222T212400Z
UID:10032995-1752566400-1752771600@metroatlantaexchange.org
SUMMARY:American College Testing (ACT): ACT Summit 2025
DESCRIPTION:American College Testing (ACT) is hosting the ACT Summit 2025 on Tuesday\, July 15th through Thursday\, July 17th\, in Nashville\, Tennessee. \nThe ACT Summit is your opportunity to share innovative ideas\, best practices\, and insights with leaders in K-12 education\, higher education\, and workforce development. These sessions are designed for professionals and peers in your field. This event is more than just a gathering – it’s a dynamic platform for actionable insights and cutting-edge strategies across these interconnected fields. Attendees will have the opportunity to engage with peers\, share experiences\, and collaborate on innovative solutions that span the K-career spectrum. Dive into cross-sector sessions designed to spark collaboration\, foster problem-solving\, and shape the future of education and the workforce. Registration is not open at this time. \nClick here to learn more.
URL:https://metroatlantaexchange.org/event/american-college-testing-act-act-summit-2025/
LOCATION:GA
CATEGORIES:Conferences,In-Person Event,Workforce Developer
END:VEVENT
BEGIN:VEVENT
DTSTART;TZID=America/New_York:20250716T100000
DTEND;TZID=America/New_York:20250716T110000
DTSTAMP:20260422T135809
CREATED:20250706T200247Z
LAST-MODIFIED:20250706T200247Z
UID:10034087-1752660000-1752663600@metroatlantaexchange.org
SUMMARY:Goodwill of North Georgia: Training Program Information Session
DESCRIPTION:Goodwill of North Georgia is hosting a Training Program Information Session every Wednesday from 10:00 AM to 11:00 AM\, at the Cartersville Career Center. \nFor more information\, call 770-276-7036. \nClick here to learn more and register.
URL:https://metroatlantaexchange.org/event/goodwill-of-north-georgia-training-program-information-session/2025-07-16/
LOCATION:Goodwill of North Georgia – Cartersville Career Center\, 929 Joe Frank Harris Parkway\, Cartersville\, GA\, 30120\, United States
CATEGORIES:Career Development,In-Person Event,Job Seeker
GEO:34.1974793;-84.7941559
X-APPLE-STRUCTURED-LOCATION;VALUE=URI;X-ADDRESS=Goodwill of North Georgia – Cartersville Career Center 929 Joe Frank Harris Parkway Cartersville GA 30120 United States;X-APPLE-RADIUS=500;X-TITLE=929 Joe Frank Harris Parkway:geo:-84.7941559,34.1974793
END:VEVENT
BEGIN:VEVENT
DTSTART;TZID=America/New_York:20250716T100000
DTEND;TZID=America/New_York:20250716T120000
DTSTAMP:20260422T135809
CREATED:20250706T200440Z
LAST-MODIFIED:20250706T200440Z
UID:10034091-1752660000-1752667200@metroatlantaexchange.org
SUMMARY:Goodwill of North Georgia: On-Site Application Assistance Class
DESCRIPTION:Goodwill of North Georgia is hosting an On-Site Application Assistance Class every Wednesday\, from 10:00 AM to 12:00 PM\, at the Oakwood Career Center. \nFor more information\, call 770-538-4209. \nClick here to learn more and register.
URL:https://metroatlantaexchange.org/event/goodwill-of-north-georgia-on-site-application-assistance-class/2025-07-16/
LOCATION:Goodwill of North Georgia – Oakwood Career Center\, 3715 Mundy Mill Road\, Oakwood\, GA\, 30566\, United States
CATEGORIES:Career Development,In-Person Event,Job Seeker
GEO:34.2290795;-83.8701636
X-APPLE-STRUCTURED-LOCATION;VALUE=URI;X-ADDRESS=Goodwill of North Georgia – Oakwood Career Center 3715 Mundy Mill Road Oakwood GA 30566 United States;X-APPLE-RADIUS=500;X-TITLE=3715 Mundy Mill Road:geo:-83.8701636,34.2290795
END:VEVENT
BEGIN:VEVENT
DTSTART;TZID=America/New_York:20250716T110000
DTEND;TZID=America/New_York:20250716T130000
DTSTAMP:20260422T135809
CREATED:20250705T210234Z
LAST-MODIFIED:20250705T210234Z
UID:10034049-1752663600-1752670800@metroatlantaexchange.org
SUMMARY:Goodwill of North Georgia: Job and Resource Fair
DESCRIPTION:Goodwill of North Georgia is hosting a Job and Resource Fair on Wednesday\, July 16th\, from 11:00 AM to 1:00 PM\, at the South DeKalb Career Center. \nFor more information\, call 404-728-8605. \nClick here to learn more and register.
URL:https://metroatlantaexchange.org/event/goodwill-of-north-georgia-job-and-resource-fair-3/
LOCATION:Goodwill of North Georgia – South DeKalb Career Center\, 1295 Columbia Drive\, Decatur\, GA\, 30032\, United States
CATEGORIES:In-Person Event,Job Seeker
GEO:33.7510576;-84.2656565
X-APPLE-STRUCTURED-LOCATION;VALUE=URI;X-ADDRESS=Goodwill of North Georgia – South DeKalb Career Center 1295 Columbia Drive Decatur GA 30032 United States;X-APPLE-RADIUS=500;X-TITLE=1295 Columbia Drive:geo:-84.2656565,33.7510576
END:VEVENT
BEGIN:VEVENT
DTSTART;TZID=America/New_York:20250716T130000
DTEND;TZID=America/New_York:20250716T160000
DTSTAMP:20260422T135809
CREATED:20250705T210854Z
LAST-MODIFIED:20250705T210854Z
UID:10034050-1752670800-1752681600@metroatlantaexchange.org
SUMMARY:TeamWork Online: 18th Annual AMB Sports and Entertainment Career Expo
DESCRIPTION:TeamWork Online is hosting the 18th Annual AMB Sports and Entertainment Career Expo on Wednesday\, July 16th\, from 1:00 PM to 4:00 PM\, at the Mercedes-Benz Stadium. \nDon’t miss this unique opportunity to meet and network with executives from organizations in the sports industry. This is your chance to learn about entry-level and part-time positions and internships that are currently available! All attendees will receive a ticket to the game on Wednesday\, July 16th for the Atlanta United FC match vs. the Chicago Fire at 7:30 PM. Don’t forget to bring copies of your resume. \nClick here to learn more and register.
URL:https://metroatlantaexchange.org/event/teamwork-online-18th-annual-amb-sports-and-entertainment-career-expo/
LOCATION:Mercedes-Benz Stadium\, 1 Amb Drive\, NW\, Atlanta\, GA\, 30313\, United States
CATEGORIES:Career Development,In-Person Event,Job Seeker
GEO:33.7558058;-84.3986572
X-APPLE-STRUCTURED-LOCATION;VALUE=URI;X-ADDRESS=Mercedes-Benz Stadium 1 Amb Drive NW Atlanta GA 30313 United States;X-APPLE-RADIUS=500;X-TITLE=1 Amb Drive\, NW:geo:-84.3986572,33.7558058
END:VEVENT
END:VCALENDAR