BEGIN:VCALENDAR
VERSION:2.0
PRODID:-//MAX - ECPv6.15.17.1//NONSGML v1.0//EN
CALSCALE:GREGORIAN
METHOD:PUBLISH
X-ORIGINAL-URL:https://metroatlantaexchange.org
X-WR-CALDESC:Events for MAX
REFRESH-INTERVAL;VALUE=DURATION:PT1H
X-Robots-Tag:noindex
X-PUBLISHED-TTL:PT1H
BEGIN:VTIMEZONE
TZID:America/New_York
BEGIN:DAYLIGHT
TZOFFSETFROM:-0500
TZOFFSETTO:-0400
TZNAME:EDT
DTSTART:20240310T070000
END:DAYLIGHT
BEGIN:STANDARD
TZOFFSETFROM:-0400
TZOFFSETTO:-0500
TZNAME:EST
DTSTART:20241103T060000
END:STANDARD
BEGIN:DAYLIGHT
TZOFFSETFROM:-0500
TZOFFSETTO:-0400
TZNAME:EDT
DTSTART:20250309T070000
END:DAYLIGHT
BEGIN:STANDARD
TZOFFSETFROM:-0400
TZOFFSETTO:-0500
TZNAME:EST
DTSTART:20251102T060000
END:STANDARD
BEGIN:DAYLIGHT
TZOFFSETFROM:-0500
TZOFFSETTO:-0400
TZNAME:EDT
DTSTART:20260308T070000
END:DAYLIGHT
BEGIN:STANDARD
TZOFFSETFROM:-0400
TZOFFSETTO:-0500
TZNAME:EST
DTSTART:20261101T060000
END:STANDARD
END:VTIMEZONE
BEGIN:VEVENT
DTSTART;TZID=America/New_York:20250719T070000
DTEND;TZID=America/New_York:20250719T130000
DTSTAMP:20260422T174146
CREATED:20250711T004258Z
LAST-MODIFIED:20250711T013753Z
UID:10034178-1752908400-1752930000@metroatlantaexchange.org
SUMMARY:Southwire Company: Two Day Lineman Hiring Event
DESCRIPTION:Southwire Company is hosting a Two-Day Lineman Hiring Event on Thursday\, July 18th from 12:00 PM to 7:00 PM and Friday\, July 19th from 7:00 AM to 1:00 PM. \nSouthwire is looking to grow their underground linemen crews. If you are willing to travel (at the company’s expense)\, usually for no more than 2 weeks at a time\, have underground experience\, and are looking for a long-term career with benefits\, this may be the job for you. \n Click here to learn more and register.
URL:https://metroatlantaexchange.org/event/southwire-company-two-day-lineman-hiring-event/2025-07-19/
LOCATION:Fairfield Inn and Suites – Marietta\, 2490 Delk Road\, Marietta\, GA\, 30067\, United States
CATEGORIES:In-Person Event,Job Seeker
END:VEVENT
END:VCALENDAR