BEGIN:VCALENDAR
VERSION:2.0
PRODID:-//MAX - ECPv6.15.17.1//NONSGML v1.0//EN
CALSCALE:GREGORIAN
METHOD:PUBLISH
X-WR-CALNAME:MAX
X-ORIGINAL-URL:https://metroatlantaexchange.org
X-WR-CALDESC:Events for MAX
REFRESH-INTERVAL;VALUE=DURATION:PT1H
X-Robots-Tag:noindex
X-PUBLISHED-TTL:PT1H
BEGIN:VTIMEZONE
TZID:America/New_York
BEGIN:DAYLIGHT
TZOFFSETFROM:-0500
TZOFFSETTO:-0400
TZNAME:EDT
DTSTART:20240310T070000
END:DAYLIGHT
BEGIN:STANDARD
TZOFFSETFROM:-0400
TZOFFSETTO:-0500
TZNAME:EST
DTSTART:20241103T060000
END:STANDARD
BEGIN:DAYLIGHT
TZOFFSETFROM:-0500
TZOFFSETTO:-0400
TZNAME:EDT
DTSTART:20250309T070000
END:DAYLIGHT
BEGIN:STANDARD
TZOFFSETFROM:-0400
TZOFFSETTO:-0500
TZNAME:EST
DTSTART:20251102T060000
END:STANDARD
BEGIN:DAYLIGHT
TZOFFSETFROM:-0500
TZOFFSETTO:-0400
TZNAME:EDT
DTSTART:20260308T070000
END:DAYLIGHT
BEGIN:STANDARD
TZOFFSETFROM:-0400
TZOFFSETTO:-0500
TZNAME:EST
DTSTART:20261101T060000
END:STANDARD
END:VTIMEZONE
BEGIN:VEVENT
DTSTART;TZID=America/New_York:20250811T090000
DTEND;TZID=America/New_York:20250811T120000
DTSTAMP:20260422T192312
CREATED:20250726T212953Z
LAST-MODIFIED:20250726T212953Z
UID:10034277-1754902800-1754913600@metroatlantaexchange.org
SUMMARY:City of Refuge: 4-Day Interactive Program
DESCRIPTION:The City of Refuge\, in partnership with NPursuit Career Partners\, is offering a 4-Day Interactive Program starting Monday\, August 11th\, from 9:00 AM to 12:00 PM. \nThis program allows job seekers to receive hands-on experience with AI-powered tools in order to streamline their job search.  Learn basic digital literacy skills\, professional resume and headshot\, intro to AI and job search tools\, one-on-one career coaching and mock interviewing\, LinkedIn and portfolio development and more! Participants will have the opportunity to earn a complimentary device from InspiredEDU. \nClick here to register. \nClick here for a flyer.
URL:https://metroatlantaexchange.org/event/city-of-refuge-4-day-interactive-program-2/
LOCATION:City of Refuge\, 1300 Joseph E. Boone Blvd NE Atlanta\, GA 30314\, Atlanta\, 30314
CATEGORIES:Career Development,In-Person Event,Job Seeker
END:VEVENT
BEGIN:VEVENT
DTSTART;TZID=America/New_York:20250811T094500
DTEND;TZID=America/New_York:20250811T120000
DTSTAMP:20260422T192312
CREATED:20250726T212751Z
LAST-MODIFIED:20250726T212751Z
UID:10034276-1754905500-1754913600@metroatlantaexchange.org
SUMMARY:Atlanta Center for Self Sufficiency (ACSS): Career Accelerator Boot Camp
DESCRIPTION:The Atlanta Center for Self Sufficiency (ACSS) is hosting a Career Accelerator Boot Camp on Monday\, August 11th\, from 9:45 AM to 12:00 PM\, at Families First. \nWhether you’re a recent graduate\, changing careers\, or looking to enhance your skills\, this training is perfect for you. Our boot camp will cover resume building\, interview skills\, networking\, and more to help you succeed in your job search. \nClick here to learn more and register.
URL:https://metroatlantaexchange.org/event/atlanta-center-for-self-sufficiency-acss-career-accelerator-boot-camp-2/
LOCATION:Families First\, 80 Joseph E. Lowery Boulevard\, NW\, Atlanta\, 30314\, United States
CATEGORIES:Career Development,In-Person Event,Job Seeker
END:VEVENT
BEGIN:VEVENT
DTSTART;TZID=America/New_York:20250811T103000
DTEND;TZID=America/New_York:20250811T113000
DTSTAMP:20260422T192312
CREATED:20250802T173236Z
LAST-MODIFIED:20250802T173328Z
UID:10034852-1754908200-1754911800@metroatlantaexchange.org
SUMMARY:Goodwill of North Georgia: Training Information Session
DESCRIPTION:Goodwill of North Georgia is hosting a Training Information Session every Monday\, from 10:30 AM to 11:30 AM\, at the East Athens Career Center. \nFor more information\, call 706-395-1558. \nClick here to learn more and register.
URL:https://metroatlantaexchange.org/event/goodwill-of-north-georgia-training-information-session/2025-08-11/
LOCATION:Goodwill of North Georgia – East Athens Career Center\, 4070 Lexington Road\, Athens\, GA\, 30605\, United States
CATEGORIES:Career Development,In-Person Event,Job Seeker
END:VEVENT
BEGIN:VEVENT
DTSTART;TZID=America/New_York:20250811T103000
DTEND;TZID=America/New_York:20250811T143000
DTSTAMP:20260422T192312
CREATED:20250802T172917Z
LAST-MODIFIED:20250802T173007Z
UID:10034810-1754908200-1754922600@metroatlantaexchange.org
SUMMARY:Goodwill of North Georgia: GED Class
DESCRIPTION:Goodwill of North Georgia is hosting a GED Class\, facilitated by Athens Tech\, every Monday through Thursday\, from 10:30 AM to 2:30 PM\, at the East Athens Career Center. \nFor more information\, call 706-395-1558. \nClick here to learn more and register.
URL:https://metroatlantaexchange.org/event/goodwill-of-north-georgia-ged-class-2/2025-08-11/
LOCATION:Goodwill of North Georgia – East Athens Career Center\, 4070 Lexington Road\, Athens\, GA\, 30605\, United States
CATEGORIES:Career Development,In-Person Event,Job Seeker
END:VEVENT
BEGIN:VEVENT
DTSTART;TZID=America/New_York:20250811T110000
DTEND;TZID=America/New_York:20250811T130000
DTSTAMP:20260422T192312
CREATED:20250802T173513Z
LAST-MODIFIED:20250802T173513Z
UID:10034861-1754910000-1754917200@metroatlantaexchange.org
SUMMARY:Goodwill of North Georgia: On-Site Resume Assistance Workshop
DESCRIPTION:Goodwill of North Georgia is hosting an On-Site Resume Assistance Workshop every Monday\, from 11:00 AM to 1:00 PM\, at the South DeKalb Career Center. \nFor more information\, call 404-728-8605. \nClick here to learn more and register.
URL:https://metroatlantaexchange.org/event/goodwill-of-north-georgia-on-site-resume-assistance-workshop-2/2025-08-11/
LOCATION:Goodwill of North Georgia – South DeKalb Career Center\, 1295 Columbia Drive\, Decatur\, GA\, 30032\, United States
CATEGORIES:Career Development,In-Person Event,Job Seeker
GEO:33.7510576;-84.2656565
X-APPLE-STRUCTURED-LOCATION;VALUE=URI;X-ADDRESS=Goodwill of North Georgia – South DeKalb Career Center 1295 Columbia Drive Decatur GA 30032 United States;X-APPLE-RADIUS=500;X-TITLE=1295 Columbia Drive:geo:-84.2656565,33.7510576
END:VEVENT
BEGIN:VEVENT
DTSTART;TZID=America/New_York:20250811T140000
DTEND;TZID=America/New_York:20250811T170000
DTSTAMP:20260422T192312
CREATED:20250802T134058Z
LAST-MODIFIED:20250802T134058Z
UID:10034707-1754920800-1754931600@metroatlantaexchange.org
SUMMARY:Schneider: Truck Driver and Owner-Operator Recruiting Event
DESCRIPTION:Schneider is hosting a Truck Driver and Owner-Operator Recruiting Event on Monday\, August 11th\, from 2:00 PM to 5:00 PM\, at Katlaw. \nAre you an experienced truck driver looking for a change? Recent driving school graduate or looking to get your CDL? Whatever your level of truck driving experience\, get a chance to have all your truck driving related questions answered at one of our casual truck driver and owner-operator recruiting events. Speak to one of our knowledgeable and personable recruiters about driving opportunities\, pay and benefits\, military programs\, requirements\, terminology clarification\, CDL questions and any other questions you may have. \nClick here to learn more and register.
URL:https://metroatlantaexchange.org/event/schneider-truck-driver-and-owner-operator-recruiting-event-13/
LOCATION:Katlaw School\, 5000 Austell Powder Springs Road\, Austell\, GA\, 30106\, United States
CATEGORIES:In-Person Event,Job Seeker
END:VEVENT
END:VCALENDAR