BEGIN:VCALENDAR
VERSION:2.0
PRODID:-//MAX - ECPv6.15.17.1//NONSGML v1.0//EN
CALSCALE:GREGORIAN
METHOD:PUBLISH
X-ORIGINAL-URL:https://metroatlantaexchange.org
X-WR-CALDESC:Events for MAX
REFRESH-INTERVAL;VALUE=DURATION:PT1H
X-Robots-Tag:noindex
X-PUBLISHED-TTL:PT1H
BEGIN:VTIMEZONE
TZID:America/New_York
BEGIN:DAYLIGHT
TZOFFSETFROM:-0500
TZOFFSETTO:-0400
TZNAME:EDT
DTSTART:20240310T070000
END:DAYLIGHT
BEGIN:STANDARD
TZOFFSETFROM:-0400
TZOFFSETTO:-0500
TZNAME:EST
DTSTART:20241103T060000
END:STANDARD
BEGIN:DAYLIGHT
TZOFFSETFROM:-0500
TZOFFSETTO:-0400
TZNAME:EDT
DTSTART:20250309T070000
END:DAYLIGHT
BEGIN:STANDARD
TZOFFSETFROM:-0400
TZOFFSETTO:-0500
TZNAME:EST
DTSTART:20251102T060000
END:STANDARD
BEGIN:DAYLIGHT
TZOFFSETFROM:-0500
TZOFFSETTO:-0400
TZNAME:EDT
DTSTART:20260308T070000
END:DAYLIGHT
BEGIN:STANDARD
TZOFFSETFROM:-0400
TZOFFSETTO:-0500
TZNAME:EST
DTSTART:20261101T060000
END:STANDARD
END:VTIMEZONE
BEGIN:VEVENT
DTSTART;TZID=America/New_York:20250811T080000
DTEND;TZID=America/New_York:20250815T170000
DTSTAMP:20260422T140131
CREATED:20250524T225135Z
LAST-MODIFIED:20250524T225135Z
UID:10033959-1754899200-1755277200@metroatlantaexchange.org
SUMMARY:National Association of Colleges and Employers (NACE): Virtual 30-Hour Career Coaching Institute
DESCRIPTION:The National Association of Colleges and Employers (NACE) is hosting a Virtual 30-Hour Career Coaching Institute starting Monday\, August 11th through Friday\, August 15th\, from 9:00 AM to 5:00 PM. \nThe NACE Virtual Coaching Certification Program (CCP) is a training program designed for career services members wishing to demonstrate their success as a career coach using proven ethical and professional standards in their pursuit of the Board Certified Coach (BCC) credential offered through the Center for Credentialing and Education\, Inc. (CCE). \nClick here to learn more and register.
URL:https://metroatlantaexchange.org/event/national-association-of-colleges-and-employers-nace-virtual-30-hour-career-coaching-institute/
LOCATION:GA
CATEGORIES:Virtual Event,Workforce Developer
END:VEVENT
BEGIN:VEVENT
DTSTART;TZID=America/New_York:20250813T100000
DTEND;TZID=America/New_York:20250813T120000
DTSTAMP:20260422T140131
CREATED:20250802T140716Z
LAST-MODIFIED:20250802T140716Z
UID:10034712-1755079200-1755086400@metroatlantaexchange.org
SUMMARY:Goodwill of North Georgia: IDS Hiring Event
DESCRIPTION:Goodwill of North Georgia is hosting an IDS Hiring Event on Wednesday\, August 13th\, from 10:00 AM to 12:00 PM\, at the Metropolitan Parkway Career Center. \nFor more information\, call 770-795-4204. \nClick here to learn more and register.
URL:https://metroatlantaexchange.org/event/goodwill-of-north-georgia-ids-hiring-event/
LOCATION:Goodwill of North Georgia – Metropolitan Parkway Career Center\, 2160 Metropolitan Parkway\, Atlanta\, GA\, 30315\, United States
CATEGORIES:In-Person Event,Job Seeker
END:VEVENT
BEGIN:VEVENT
DTSTART;TZID=America/New_York:20250813T100000
DTEND;TZID=America/New_York:20250813T130000
DTSTAMP:20260422T140131
CREATED:20250802T140518Z
LAST-MODIFIED:20250802T140518Z
UID:10034711-1755079200-1755090000@metroatlantaexchange.org
SUMMARY:Goodwill of North Georgia: Multi-Industry Job Fair
DESCRIPTION:Goodwill of North Georgia is hosting a Multi-Industry Job Fair on Wednesday\, August 13th\, from 10:00 AM to 1:00 PM\, at the Decatur Career Center. \nFor more information\, call 404-554-9600. \nClick here to learn more and register.
URL:https://metroatlantaexchange.org/event/goodwill-of-north-georgia-multi-industry-job-fair-2/
LOCATION:Goodwill of North Georgia – Decatur Career Center\, 2201 Lawrenceville Highway\, Suite 200\, Decatur\, GA\, 30033\, United States
CATEGORIES:In-Person Event,Job Seeker
GEO:33.8114213;-84.2699313
X-APPLE-STRUCTURED-LOCATION;VALUE=URI;X-ADDRESS=Goodwill of North Georgia – Decatur Career Center 2201 Lawrenceville Highway Suite 200 Decatur GA 30033 United States;X-APPLE-RADIUS=500;X-TITLE=2201 Lawrenceville Highway\, Suite 200:geo:-84.2699313,33.8114213
END:VEVENT
BEGIN:VEVENT
DTSTART;TZID=America/New_York:20250813T103000
DTEND;TZID=America/New_York:20250813T143000
DTSTAMP:20260422T140131
CREATED:20250802T172917Z
LAST-MODIFIED:20250802T173007Z
UID:10034812-1755081000-1755095400@metroatlantaexchange.org
SUMMARY:Goodwill of North Georgia: GED Class
DESCRIPTION:Goodwill of North Georgia is hosting a GED Class\, facilitated by Athens Tech\, every Monday through Thursday\, from 10:30 AM to 2:30 PM\, at the East Athens Career Center. \nFor more information\, call 706-395-1558. \nClick here to learn more and register.
URL:https://metroatlantaexchange.org/event/goodwill-of-north-georgia-ged-class-2/2025-08-13/
LOCATION:Goodwill of North Georgia – East Athens Career Center\, 4070 Lexington Road\, Athens\, GA\, 30605\, United States
CATEGORIES:Career Development,In-Person Event,Job Seeker
END:VEVENT
BEGIN:VEVENT
DTSTART;TZID=America/New_York:20250813T110000
DTEND;TZID=America/New_York:20250813T120000
DTSTAMP:20260422T140131
CREATED:20250805T181252Z
LAST-MODIFIED:20250805T181252Z
UID:10034962-1755082800-1755086400@metroatlantaexchange.org
SUMMARY:Aspen Institute: Communicating for Policy
DESCRIPTION:The Aspen Institute is hosting a webinar on Communicating for Policy on Wednesday\, August 13th\, from 11:00 AM to 12:00 PM. \nJoin the Aspen Policy Academy to learn the basics of communicating your ideas for policy impact to stakeholders both in and outside of government. This program will teach you broad principles for communicating to policymakers\, as well as tips on how to more effectively communicate — both in writing and orally — in order to achieve policy change on the issues you care about. \nClick here to register via Zoom.
URL:https://metroatlantaexchange.org/event/aspen-institute-communicating-for-policy-2/
LOCATION:GA
CATEGORIES:Virtual Event,Workforce Developer
END:VEVENT
BEGIN:VEVENT
DTSTART;TZID=America/New_York:20250813T110000
DTEND;TZID=America/New_York:20250813T150000
DTSTAMP:20260422T140131
CREATED:20250721T194707Z
LAST-MODIFIED:20250721T194707Z
UID:10034227-1755082800-1755097200@metroatlantaexchange.org
SUMMARY:CareerEco: Student Success - Internships and Entry-Level Virtual Fair
DESCRIPTION:CareerEco is hosting a Student Success: Internships and Entry-Level Virtual Fair on Wednesday\, August 13th\, from 11:00 AM to 3:00 PM. \nWhether you’re looking for hands-on experience\, mentorship\, or your first full-time role\, this event is your gateway to launching a successful career. \nClick here to register.
URL:https://metroatlantaexchange.org/event/careereco-student-success-internships-and-entry-level-virtual-fair/
LOCATION:GA
CATEGORIES:Job Seeker,Student,Virtual Event
ORGANIZER;CN="CareerEco":MAILTO:Events@CareerEco.com
END:VEVENT
BEGIN:VEVENT
DTSTART;TZID=America/New_York:20250813T120000
DTEND;TZID=America/New_York:20250813T150000
DTSTAMP:20260422T140131
CREATED:20250805T181422Z
LAST-MODIFIED:20250805T181422Z
UID:10034963-1755086400-1755097200@metroatlantaexchange.org
SUMMARY:National Career Pathways (NCPN): Necessary Skills Now - Integrating Employability Skills into Career Pathways
DESCRIPTION:National Career Pathways Network (NCPN) is hosting a webinar on Necessary Skills Now: Integrating Employability Skills into Career Pathways on Wednesday\, August 13th\, from 12:00 PM to 3:00 PM. \nJoin us for a dynamic and interactive workshop designed specifically for educators\, focusing on the integration of employability skills into technical programs. Participants will learn about employer perspectives on in-demand employability skills and strategies for embedding those skills into existing courses. The presenters will share bite-sized resources that can have a big impact on programs\, along with a suite of classroom-ready tools that can be used immediately. This is the final session of the Building Pathways to Success Summer Learning Series. \nClick here to learn more and register.
URL:https://metroatlantaexchange.org/event/national-career-pathways-ncpn-necessary-skills-now-integrating-employability-skills-into-career-pathways/
LOCATION:GA
CATEGORIES:Virtual Event,Workforce Developer
END:VEVENT
BEGIN:VEVENT
DTSTART;TZID=America/New_York:20250813T130000
DTEND;TZID=America/New_York:20250813T140000
DTSTAMP:20260422T140131
CREATED:20250805T182029Z
LAST-MODIFIED:20250805T182029Z
UID:10034965-1755090000-1755093600@metroatlantaexchange.org
SUMMARY:Society for Human Resource Management (SHRM): Natural Disasters and Business Continuity - HR's Critical Role in Planing\, Response and Recovery
DESCRIPTION:The Society for Human Resource Management (SHRM) is hosting a webinar on Natural Disasters and Business Continuity: HR’s Critical Role in Planning\, Response and Recovery on Wednesday\, August 13th\, starting at 1:00 PM. \nWhen natural disasters strike\, whether hurricanes\, wildfires\, floods\, or severe storms\, HR professionals are on the front lines of protecting employees and helping businesses remain resilient. This webinar examines the crucial role HR plays before\, during\, and after a disaster\, including how to prepare the workforce\, maintain critical operations\, and support employees throughout the recovery process. We’ll explore strategies for creating effective emergency policies\, managing leave and payroll during disruptions\, communicating with employees in times of crisis\, and ensuring compliance with legal obligations. Real-world examples will illustrate how HR departments have successfully navigated natural disasters\, and attendees will walk away with actionable tools to strengthen their organization’s preparedness and response efforts. \nClick here to learn more and register.
URL:https://metroatlantaexchange.org/event/society-for-human-resource-management-shrm-natural-disasters-and-business-continuity-hrs-critical-role-in-planing-response-and-recovery/
LOCATION:GA
CATEGORIES:Virtual Event,Workforce Developer
ORGANIZER;CN="The Society for Human Resource Management":MAILTO:info@shrmatlanta.org
END:VEVENT
BEGIN:VEVENT
DTSTART;TZID=America/New_York:20250813T130000
DTEND;TZID=America/New_York:20250813T163000
DTSTAMP:20260422T140131
CREATED:20250804T153906Z
LAST-MODIFIED:20250804T153906Z
UID:10034929-1755090000-1755102600@metroatlantaexchange.org
SUMMARY:Georgia Center for Nonprofits: Comprehending and Creating Logic Models
DESCRIPTION:Georgia Center for Nonprofits is hosting a webinar on Comprehending and Creating Logic Models on Wednesday\, August 13th\, from 1:00 PM to 4:30 PM. \nUnlock the power of logic models to improve service delivery and evaluate project outcomes. This course guides participants through the process of designing comprehensive models that link inputs\, activities\, and outcomes while ensuring programs are effectively monitored and evaluated. You’ll develop skills to articulate a project’s purpose clearly\, align it with measurable goals\, and map the steps to meet those goals. \nClick here to learn more and register.
URL:https://metroatlantaexchange.org/event/georgia-center-for-nonprofits-comprehending-and-creating-logic-models/
LOCATION:GA
CATEGORIES:Virtual Event,Workforce Developer
END:VEVENT
BEGIN:VEVENT
DTSTART;TZID=America/New_York:20250813T140000
DTEND;TZID=America/New_York:20250813T143000
DTSTAMP:20260422T140131
CREATED:20250802T180747Z
LAST-MODIFIED:20250802T180747Z
UID:10034902-1755093600-1755095400@metroatlantaexchange.org
SUMMARY:Career Agility System: Mastering LinkedIn for Career and Business Success
DESCRIPTION:Career Agility System is hosting a webinar on Mastering LinkedIn for Career and Business Success on Wednesday\, August 13th\, from 2:00 PM to 2:30 PM. \nJoin Jaime Chambron\, a certified LinkedIn optimization expert\, for this exciting online event where you’ll learn all the tips and tricks to boost your professional profile on LinkedIn. Whether you’re looking for a new job\, attracting new clients\, or simply wanting to expand your network\, this event is perfect for you. Jaime will share valuable insights on optimizing your profile\, networking effectively\, and publishing content. Don’t miss this opportunity to take your career & business to the next level! Register now and invest in your future success. \nClick here to learn more and register.
URL:https://metroatlantaexchange.org/event/career-agility-system-mastering-linkedin-for-career-and-business-success-2/
LOCATION:GA
CATEGORIES:Career Development,Job Seeker,Virtual Event
END:VEVENT
BEGIN:VEVENT
DTSTART;TZID=America/New_York:20250813T140000
DTEND;TZID=America/New_York:20250813T150000
DTSTAMP:20260422T140131
CREATED:20250805T181854Z
LAST-MODIFIED:20250805T181854Z
UID:10034964-1755093600-1755097200@metroatlantaexchange.org
SUMMARY:REMI: IRA Tax Credit Reductions - Economic and Environmental Impacts Using REMI-AI
DESCRIPTION:REMI is hosting a webinar on IRA Tax Credit Reductions: Economic and Environmental Impacts Using REMI-AI on Wednesday\, August 13th\, from 2:00 PM to 3:00 PM. \nThe One Big Beautiful Bill Act (OBBBA) cuts energy-related tax credits from the Inflation Reduction Act (IRA). The IRA introduced many financial incentives like the Production Tax Credit (45Y) and the Investment Tax Credit (48E). These credits were designed to support clean energy development through at least 2032\, drive more than $400 billion in investments\, and create hundreds of thousands of future jobs nationwide. Using REMI E3+ and REMI-AI\, we will compare the projected environmental and economic impacts of these changes across the country. By comparing states\, this analysis will provide insight into how OBBBA-driven tax credit rollbacks may affect economic growth\, energy affordability\, emissions reductions\, and regional competitiveness differently across diverse energy markets. \nClick here to learn more and register.
URL:https://metroatlantaexchange.org/event/remi-ira-tax-credit-reductions-economic-and-environmental-impacts-using-remi-ai/
LOCATION:GA
CATEGORIES:Virtual Event,Workforce Developer
END:VEVENT
BEGIN:VEVENT
DTSTART;TZID=America/New_York:20250813T150000
DTEND;TZID=America/New_York:20250813T153000
DTSTAMP:20260422T140131
CREATED:20250802T180905Z
LAST-MODIFIED:20250802T180905Z
UID:10034903-1755097200-1755099000@metroatlantaexchange.org
SUMMARY:Hiring Our Heroes: Career Forward Virtual Information Session
DESCRIPTION:Hiring Our Heroes is hosting a Career Forward Virtual Information Session on Wednesday\, August 13th\, from 3:00 PM to 3:30 PM. \nThis online chat will connect you directly with organizations from the comfort of your home\, office\, smartphone or tablet. Our online\, cloud-based platform makes it easy and fun for you to participate. After signing up\, you’ll be able to explore the available information and opportunities and participate in 1-on-1 text-based chats with representatives from participating organizations. Share your background and experience and get all your questions answered. \nClick here to register via Zoom.
URL:https://metroatlantaexchange.org/event/hiring-our-heroes-career-forward-virtual-information-session-2/
LOCATION:GA
CATEGORIES:Career Development,Job Seeker,Veterans/Military,Virtual Event
END:VEVENT
BEGIN:VEVENT
DTSTART;TZID=America/New_York:20250813T173000
DTEND;TZID=America/New_York:20250813T193000
DTSTAMP:20260422T140131
CREATED:20250802T181116Z
LAST-MODIFIED:20250802T181116Z
UID:10034904-1755106200-1755113400@metroatlantaexchange.org
SUMMARY:Live Free Realty Atlanta: Real Estate Career Night
DESCRIPTION:Live Free Realty Atlanta is hosting a Real Estate Career Night on Wednesday\, August 13th\, from 5:30 PM to 7:30 PM\, at  Scofflaw’s at The Works. \nThinking about getting into real estate? Already licensed but looking for the right team to grow with? Join us for a casual\, info-packed evening where you’ll learn how a career in real estate can completely change your life. Whether you’re coming from the service industry\, sales\, teaching\, or healthcare\, this event is for driven\, people-first professionals ready to take control of their time\, income\, and future. \nClick here to learn more and register.
URL:https://metroatlantaexchange.org/event/live-free-realty-atlanta-real-estate-career-night/
LOCATION:Dr. Scofflaw’s at The Works\, 214 Chattahoochee Row\, NW\, Atlanta\, GA\, 30318\, United States
CATEGORIES:Career Development,In-Person Event,Job Seeker
END:VEVENT
BEGIN:VEVENT
DTSTART;TZID=America/New_York:20250813T190000
DTEND;TZID=America/New_York:20250813T210000
DTSTAMP:20260422T140131
CREATED:20250802T181644Z
LAST-MODIFIED:20250802T181644Z
UID:10034906-1755111600-1755118800@metroatlantaexchange.org
SUMMARY:SUM OF FIVE: Atlanta Entrepreneur Networking Event
DESCRIPTION:SUM OF FIVE is hosting an Atlanta Entrepreneur Networking Event on Wednesday\, August 13th\, from 7:00 PM to 9:00 PM\, at the Three Arches Bar and Restaurant. \nSUM OF FIVE Professional Networking Events stand as the pinnacle of stylish gatherings for professionals in Entrepreneurship. We hope to empower our attendees by facilitating meaningful connections. Embark on an exciting journey into the world of entrepreneurship\, where innovation meets opportunity and businesses thrive! \nOur event is thoughtfully designed for entrepreneurs\, business professionals\, and innovators eager to explore the dynamic landscape of entrepreneurship. Immerse yourself in insightful discussions\, cutting-edge strategies\, and unparalleled networking opportunities that will elevate your business and career to new heights. Whether you’re an experienced entrepreneur\, a startup founder\, or just beginning your entrepreneurial journey\, this event promises a blend of visionary ideas and practical advice. \nClick here to learn more and register.
URL:https://metroatlantaexchange.org/event/sum-of-five-atlanta-entrepreneur-networking-event/
LOCATION:Three Arches Bar and Restaurant\, 3301 Lenox Parkway\, Atlanta\, GA\, 30326\, United States
CATEGORIES:Career Development,In-Person Event,Job Seeker
END:VEVENT
BEGIN:VEVENT
DTSTART;TZID=America/New_York:20250813T200000
DTEND;TZID=America/New_York:20250813T220000
DTSTAMP:20260422T140131
CREATED:20250802T181350Z
LAST-MODIFIED:20250802T181350Z
UID:10034905-1755115200-1755122400@metroatlantaexchange.org
SUMMARY:SANCAN Tech Solutions: How to Start a 6-Figure Career in IT Auditing
DESCRIPTION:SANCAN Tech Solutions is hosting an online Free Workshop: How to Start a 6 – Figure Career in IT Auditing (No Tech Background) on Wednesday\, August 13th\, from 8:00 PM to 10:00 PM. \nYou’ll learn what IT auditors do\, why companies pay well for this role\, how to break into the industry without coding\, and a roadmap to launch your own IT Audit career. This beginner-friendly session is perfect for career changers\, recent grads\, or anyone looking to break into tech. \nClick here to learn more and register.
URL:https://metroatlantaexchange.org/event/sancan-tech-solutions-how-to-start-a-6-figure-career-in-it-auditing/
LOCATION:GA
CATEGORIES:Career Development,Job Seeker,Virtual Event
END:VEVENT
END:VCALENDAR