BEGIN:VCALENDAR
VERSION:2.0
PRODID:-//MAX - ECPv6.15.17.1//NONSGML v1.0//EN
CALSCALE:GREGORIAN
METHOD:PUBLISH
X-ORIGINAL-URL:https://metroatlantaexchange.org
X-WR-CALDESC:Events for MAX
REFRESH-INTERVAL;VALUE=DURATION:PT1H
X-Robots-Tag:noindex
X-PUBLISHED-TTL:PT1H
BEGIN:VTIMEZONE
TZID:America/New_York
BEGIN:DAYLIGHT
TZOFFSETFROM:-0500
TZOFFSETTO:-0400
TZNAME:EDT
DTSTART:20240310T070000
END:DAYLIGHT
BEGIN:STANDARD
TZOFFSETFROM:-0400
TZOFFSETTO:-0500
TZNAME:EST
DTSTART:20241103T060000
END:STANDARD
BEGIN:DAYLIGHT
TZOFFSETFROM:-0500
TZOFFSETTO:-0400
TZNAME:EDT
DTSTART:20250309T070000
END:DAYLIGHT
BEGIN:STANDARD
TZOFFSETFROM:-0400
TZOFFSETTO:-0500
TZNAME:EST
DTSTART:20251102T060000
END:STANDARD
BEGIN:DAYLIGHT
TZOFFSETFROM:-0500
TZOFFSETTO:-0400
TZNAME:EDT
DTSTART:20260308T070000
END:DAYLIGHT
BEGIN:STANDARD
TZOFFSETFROM:-0400
TZOFFSETTO:-0500
TZNAME:EST
DTSTART:20261101T060000
END:STANDARD
END:VTIMEZONE
BEGIN:VEVENT
DTSTART;TZID=America/New_York:20250827T080000
DTEND;TZID=America/New_York:20250829T170000
DTSTAMP:20260422T135737
CREATED:20250805T185213Z
LAST-MODIFIED:20250805T185213Z
UID:10034978-1756281600-1756486800@metroatlantaexchange.org
SUMMARY:National Association of Counties (NACo): Federal-State Policy Exchange
DESCRIPTION:The National Association of Counties (NACo) is hosting the Federal-State Policy Exchange starting Wednesday\, August 27th through Friday\, August 29th\, at the GFOA Headquarters. \nThe exchange will bring together representatives from the state associations and NACo for strategic discussions on shared policy priorities\, with a focus on emerging county issues\, such as tax reform\, land use authority and artificial intelligence. \nClick here to learn more and register.
URL:https://metroatlantaexchange.org/event/national-association-of-counties-naco-federal-state-policy-exchange/
LOCATION:GFOA Headquarters\, 203 North LaSalle Street\, Suite #2700\, Chicago\, IL\, 60601\, United States
CATEGORIES:Conferences,In-Person Event,Workforce Developer
END:VEVENT
BEGIN:VEVENT
DTSTART;TZID=America/New_York:20250827T080000
DTEND;TZID=America/New_York:20250829T170000
DTSTAMP:20260422T135737
CREATED:20250824T191554Z
LAST-MODIFIED:20250824T191554Z
UID:10035102-1756281600-1756486800@metroatlantaexchange.org
SUMMARY:National Association of Counties (NACo): Federal-State Policy Exchange
DESCRIPTION:The National Association of Counties (NACo) is hosting the Federal-State Policy Exchange starting Wednesday\, August 27th\, starting at 1:30 PM\, through Friday\, August 29th\, at the GFOA Headquarters. \nThe exchange will bring together representatives from the state associations and NACo for strategic discussions on shared policy priorities\, with a focus on emerging county issues\, such as tax reform\, land use authority and artificial intelligence. \nClick here to learn more and register.
URL:https://metroatlantaexchange.org/event/national-association-of-counties-naco-federal-state-policy-exchange-2/
LOCATION:GFOA Headquarters\, 203 North LaSalle Street\, Suite #2700\, Chicago\, IL\, 60601\, United States
CATEGORIES:Conferences,In-Person Event,Workforce Developer
END:VEVENT
END:VCALENDAR