BEGIN:VCALENDAR
VERSION:2.0
PRODID:-//MAX - ECPv6.15.17.1//NONSGML v1.0//EN
CALSCALE:GREGORIAN
METHOD:PUBLISH
X-WR-CALNAME:MAX
X-ORIGINAL-URL:https://metroatlantaexchange.org
X-WR-CALDESC:Events for MAX
REFRESH-INTERVAL;VALUE=DURATION:PT1H
X-Robots-Tag:noindex
X-PUBLISHED-TTL:PT1H
BEGIN:VTIMEZONE
TZID:America/New_York
BEGIN:DAYLIGHT
TZOFFSETFROM:-0500
TZOFFSETTO:-0400
TZNAME:EDT
DTSTART:20240310T070000
END:DAYLIGHT
BEGIN:STANDARD
TZOFFSETFROM:-0400
TZOFFSETTO:-0500
TZNAME:EST
DTSTART:20241103T060000
END:STANDARD
BEGIN:DAYLIGHT
TZOFFSETFROM:-0500
TZOFFSETTO:-0400
TZNAME:EDT
DTSTART:20250309T070000
END:DAYLIGHT
BEGIN:STANDARD
TZOFFSETFROM:-0400
TZOFFSETTO:-0500
TZNAME:EST
DTSTART:20251102T060000
END:STANDARD
BEGIN:DAYLIGHT
TZOFFSETFROM:-0500
TZOFFSETTO:-0400
TZNAME:EDT
DTSTART:20260308T070000
END:DAYLIGHT
BEGIN:STANDARD
TZOFFSETFROM:-0400
TZOFFSETTO:-0500
TZNAME:EST
DTSTART:20261101T060000
END:STANDARD
END:VTIMEZONE
BEGIN:VEVENT
DTSTART;TZID=America/New_York:20250827T080000
DTEND;TZID=America/New_York:20250829T170000
DTSTAMP:20260422T173909
CREATED:20250805T185213Z
LAST-MODIFIED:20250805T185213Z
UID:10034978-1756281600-1756486800@metroatlantaexchange.org
SUMMARY:National Association of Counties (NACo): Federal-State Policy Exchange
DESCRIPTION:The National Association of Counties (NACo) is hosting the Federal-State Policy Exchange starting Wednesday\, August 27th through Friday\, August 29th\, at the GFOA Headquarters. \nThe exchange will bring together representatives from the state associations and NACo for strategic discussions on shared policy priorities\, with a focus on emerging county issues\, such as tax reform\, land use authority and artificial intelligence. \nClick here to learn more and register.
URL:https://metroatlantaexchange.org/event/national-association-of-counties-naco-federal-state-policy-exchange/
LOCATION:GFOA Headquarters\, 203 North LaSalle Street\, Suite #2700\, Chicago\, IL\, 60601\, United States
CATEGORIES:Conferences,In-Person Event,Workforce Developer
END:VEVENT
BEGIN:VEVENT
DTSTART;TZID=America/New_York:20250827T080000
DTEND;TZID=America/New_York:20250829T170000
DTSTAMP:20260422T173909
CREATED:20250824T191554Z
LAST-MODIFIED:20250824T191554Z
UID:10035102-1756281600-1756486800@metroatlantaexchange.org
SUMMARY:National Association of Counties (NACo): Federal-State Policy Exchange
DESCRIPTION:The National Association of Counties (NACo) is hosting the Federal-State Policy Exchange starting Wednesday\, August 27th\, starting at 1:30 PM\, through Friday\, August 29th\, at the GFOA Headquarters. \nThe exchange will bring together representatives from the state associations and NACo for strategic discussions on shared policy priorities\, with a focus on emerging county issues\, such as tax reform\, land use authority and artificial intelligence. \nClick here to learn more and register.
URL:https://metroatlantaexchange.org/event/national-association-of-counties-naco-federal-state-policy-exchange-2/
LOCATION:GFOA Headquarters\, 203 North LaSalle Street\, Suite #2700\, Chicago\, IL\, 60601\, United States
CATEGORIES:Conferences,In-Person Event,Workforce Developer
END:VEVENT
BEGIN:VEVENT
DTSTART;TZID=America/New_York:20250829T110000
DTEND;TZID=America/New_York:20250829T130000
DTSTAMP:20260422T173909
CREATED:20250802T180154Z
LAST-MODIFIED:20250802T180305Z
UID:10034892-1756465200-1756472400@metroatlantaexchange.org
SUMMARY:Goodwill of North Georgia: On-Site Application Assistance Workshop
DESCRIPTION:Goodwill of North Georgia is hosting an On-Site Application Assistance Workshop every Friday\, from 11:00 AM to 1:00 PM\, at the South DeKalb Career Center. \nFor more information\, call 404-728-8605. \nClick here to learn more and register.
URL:https://metroatlantaexchange.org/event/goodwill-of-north-georgia-on-site-application-assistance-workshop-2/2025-08-29/
LOCATION:Goodwill of North Georgia – South DeKalb Career Center\, 1295 Columbia Drive\, Decatur\, GA\, 30032\, United States
CATEGORIES:Career Development,In-Person Event,Job Seeker
GEO:33.7510576;-84.2656565
X-APPLE-STRUCTURED-LOCATION;VALUE=URI;X-ADDRESS=Goodwill of North Georgia – South DeKalb Career Center 1295 Columbia Drive Decatur GA 30032 United States;X-APPLE-RADIUS=500;X-TITLE=1295 Columbia Drive:geo:-84.2656565,33.7510576
END:VEVENT
BEGIN:VEVENT
DTSTART;TZID=America/New_York:20250829T124500
DTEND;TZID=America/New_York:20250829T140000
DTSTAMP:20260422T173909
CREATED:20250823T234856Z
LAST-MODIFIED:20250823T234856Z
UID:10035039-1756471500-1756476000@metroatlantaexchange.org
SUMMARY:Georgia Driving Academy: Stevens Truck Driver Recruiter Event
DESCRIPTION:The Georgia Driving Academy is hosting a Stevens Truck Driver Recruiter Event on Friday\, August 29th\, starting at 12:45 PM\, at the Conyers Campus. \nAttend a free\, no-obligation information session with a representative from Stevens at our Conyers Campus. Learn more about our CDL training courses\, receive a campus tour\, and hear about the many job opportunities for recent graduates. Find out how Stevens is ready to jump-start your new trucking career with on-the-job training and support. \nClick here to learn more and register.
URL:https://metroatlantaexchange.org/event/georgia-driving-academy-stevens-truck-driver-recruiter-event/
LOCATION:Georgia Driving Academy\, 1035 Sigman Road\, NE\, Conyers\, GA\, 30012\, United States
CATEGORIES:In-Person Event,Job Seeker
END:VEVENT
BEGIN:VEVENT
DTSTART;TZID=America/New_York:20250829T160000
DTEND;TZID=America/New_York:20250829T170000
DTSTAMP:20260422T173909
CREATED:20250726T205302Z
LAST-MODIFIED:20250726T205302Z
UID:10034261-1756483200-1756486800@metroatlantaexchange.org
SUMMARY:American Professional Online Association (APROLA): Start Your Online Career Event
DESCRIPTION:The American Professional Online Association (APROLA) is hosting a Start Your Online Career event every Friday\, from 4:00 PM to 5:00 PM\, at APROLA Atlanta. \nThis life-changing workshop reveals amazing web professional opportunities that you can start TODAY – no tech skills required! Learn about exciting career opportunities in web design and development\, content and media\, e-commerce\, digital marketing and more. Discover how APROLA is helping people just like you build successful online careers. \nClick here to learn more and register.
URL:https://metroatlantaexchange.org/event/american-professional-online-association-aprola-start-your-online-career-event/2025-08-29/
LOCATION:APROLA Atlanta\, 7000 Central Parkway\, Suite #1100\, Atlanta\, GA\, 30328\, United States
CATEGORIES:Career Development,In-Person Event,Job Seeker
END:VEVENT
END:VCALENDAR