BEGIN:VCALENDAR
VERSION:2.0
PRODID:-//MAX - ECPv6.15.17.1//NONSGML v1.0//EN
CALSCALE:GREGORIAN
METHOD:PUBLISH
X-WR-CALNAME:MAX
X-ORIGINAL-URL:https://metroatlantaexchange.org
X-WR-CALDESC:Events for MAX
REFRESH-INTERVAL;VALUE=DURATION:PT1H
X-Robots-Tag:noindex
X-PUBLISHED-TTL:PT1H
BEGIN:VTIMEZONE
TZID:America/New_York
BEGIN:DAYLIGHT
TZOFFSETFROM:-0500
TZOFFSETTO:-0400
TZNAME:EDT
DTSTART:20240310T070000
END:DAYLIGHT
BEGIN:STANDARD
TZOFFSETFROM:-0400
TZOFFSETTO:-0500
TZNAME:EST
DTSTART:20241103T060000
END:STANDARD
BEGIN:DAYLIGHT
TZOFFSETFROM:-0500
TZOFFSETTO:-0400
TZNAME:EDT
DTSTART:20250309T070000
END:DAYLIGHT
BEGIN:STANDARD
TZOFFSETFROM:-0400
TZOFFSETTO:-0500
TZNAME:EST
DTSTART:20251102T060000
END:STANDARD
BEGIN:DAYLIGHT
TZOFFSETFROM:-0500
TZOFFSETTO:-0400
TZNAME:EDT
DTSTART:20260308T070000
END:DAYLIGHT
BEGIN:STANDARD
TZOFFSETFROM:-0400
TZOFFSETTO:-0500
TZNAME:EST
DTSTART:20261101T060000
END:STANDARD
END:VTIMEZONE
BEGIN:VEVENT
DTSTART;TZID=America/New_York:20250903T120000
DTEND;TZID=America/New_York:20250903T130000
DTSTAMP:20260422T192032
CREATED:20250824T192246Z
LAST-MODIFIED:20250824T192246Z
UID:10035107-1756900800-1756904400@metroatlantaexchange.org
SUMMARY:Lightcast: Beyond the Buzz - The AI Skills That Make a Difference
DESCRIPTION:Lightcast is hosting a webinar on Beyond the Buzz: The AI Skills That Make a Difference on Wednesday\, September 3rd\, starting at 12:00 PM. \nAI is reshaping every corner of the labor market. Real employers are posting jobs with specific AI requirements and paying substantial premiums for these skills. This data-driven session cuts through the hype to reveal exactly which AI capabilities create measurable value across diverse career areas using insights from millions of job postings. We’ll show you how to build AI training strategies that provide clarity about how to understand AI and focus your efforts surrounding it. \nClick here to learn more and register.
URL:https://metroatlantaexchange.org/event/lightcast-beyond-the-buzz-the-ai-skills-that-make-a-difference/
LOCATION:GA
CATEGORIES:Virtual Event,Workforce Developer
END:VEVENT
BEGIN:VEVENT
DTSTART;TZID=America/New_York:20250903T130000
DTEND;TZID=America/New_York:20250903T140000
DTSTAMP:20260422T192032
CREATED:20250805T185549Z
LAST-MODIFIED:20250805T185549Z
UID:10034981-1756904400-1756908000@metroatlantaexchange.org
SUMMARY:Aspen Institute: Why Gender-Based Violence is an Economic Issue
DESCRIPTION:The Aspen Institute is hosting a webinar on Why Gender-Based Violence is an Economic Issue on Wednesday\, September 3rd\, from 1:00 PM to 2:00 PM. \nGender-based violence undermines the economic security of women and their families in many ways. Join our next national dialogue\, Why Gender-Based Violence Is an Economic Issue to learn more and consider how storytelling can lift up both challenges and solutions. The Women in the Economy Dialogues\, hosted by the Aspen Institute Financial Security Program\, is a podcast-style webinar series featuring in-depth discussions with authors\, journalists\, filmmakers\, and other thought leaders about how to redesign our economy so women can strive\, thrive\, and fully contribute to their family’s financial security and our nation’s economic growth. \nClick here to register via Zoom.
URL:https://metroatlantaexchange.org/event/aspen-institute-why-gender-based-violence-is-an-economic-issue/
LOCATION:GA
CATEGORIES:Virtual Event,Workforce Developer
END:VEVENT
BEGIN:VEVENT
DTSTART;TZID=America/New_York:20250903T130000
DTEND;TZID=America/New_York:20250903T140000
DTSTAMP:20260422T192032
CREATED:20250824T192513Z
LAST-MODIFIED:20250824T192513Z
UID:10035108-1756904400-1756908000@metroatlantaexchange.org
SUMMARY:Society for Human Resource Management (SHRM): Strategic Compensation Planning - Designing and Sustaining Competitive Pay Structures
DESCRIPTION:The Society for Human Resource Management (SHRM) is hosting a webinar on Strategic Compensation Planning: Designing and Sustaining Competitive Pay Structures on Wednesday\, September 3rd\, starting at 1:00 PM. \nAn effective compensation plan is more than just a payroll framework — it’s a strategic tool that drives employee engagement\, retention\, and organizational success. However\, designing and maintaining a compensation plan that aligns with business objectives while remaining competitive and attractive can be a challenging endeavor. Join us for this insightful webinar where we delve into the essentials of creating and sustaining a strategic compensation plan. Discover how to balance business goals with employee satisfaction\, ensure compliance with evolving regulations\, and maintain fairness across diverse roles and teams. \nClick here to learn more and register.
URL:https://metroatlantaexchange.org/event/society-for-human-resource-management-shrm-strategic-compensation-planning-designing-and-sustaining-competitive-pay-structures/
LOCATION:GA
CATEGORIES:Virtual Event,Workforce Developer
ORGANIZER;CN="The Society for Human Resource Management":MAILTO:info@shrmatlanta.org
END:VEVENT
END:VCALENDAR