BEGIN:VCALENDAR
VERSION:2.0
PRODID:-//MAX - ECPv6.15.17.1//NONSGML v1.0//EN
CALSCALE:GREGORIAN
METHOD:PUBLISH
X-ORIGINAL-URL:https://metroatlantaexchange.org
X-WR-CALDESC:Events for MAX
REFRESH-INTERVAL;VALUE=DURATION:PT1H
X-Robots-Tag:noindex
X-PUBLISHED-TTL:PT1H
BEGIN:VTIMEZONE
TZID:America/New_York
BEGIN:DAYLIGHT
TZOFFSETFROM:-0500
TZOFFSETTO:-0400
TZNAME:EDT
DTSTART:20240310T070000
END:DAYLIGHT
BEGIN:STANDARD
TZOFFSETFROM:-0400
TZOFFSETTO:-0500
TZNAME:EST
DTSTART:20241103T060000
END:STANDARD
BEGIN:DAYLIGHT
TZOFFSETFROM:-0500
TZOFFSETTO:-0400
TZNAME:EDT
DTSTART:20250309T070000
END:DAYLIGHT
BEGIN:STANDARD
TZOFFSETFROM:-0400
TZOFFSETTO:-0500
TZNAME:EST
DTSTART:20251102T060000
END:STANDARD
BEGIN:DAYLIGHT
TZOFFSETFROM:-0500
TZOFFSETTO:-0400
TZNAME:EDT
DTSTART:20260308T070000
END:DAYLIGHT
BEGIN:STANDARD
TZOFFSETFROM:-0400
TZOFFSETTO:-0500
TZNAME:EST
DTSTART:20261101T060000
END:STANDARD
END:VTIMEZONE
BEGIN:VEVENT
DTSTART;TZID=America/New_York:20250908T094500
DTEND;TZID=America/New_York:20250908T120000
DTSTAMP:20260422T225438
CREATED:20250726T222152Z
LAST-MODIFIED:20250726T222152Z
UID:10034304-1757324700-1757332800@metroatlantaexchange.org
SUMMARY:Atlanta Center for Self Sufficiency (ACSS): Career Accelerator Boot Camp
DESCRIPTION:The Atlanta Center for Self Sufficiency (ACSS) is hosting a Career Accelerator Boot Camp on Monday\, September 8th\, from 9:45 AM to 12:00 PM\, at Families First. \nWhether you’re a recent graduate\, changing careers\, or looking to enhance your skills\, this training is perfect for you. Our boot camp will cover resume building\, interview skills\, networking\, and more to help you succeed in your job search. \nClick here to learn more and register.
URL:https://metroatlantaexchange.org/event/atlanta-center-for-self-sufficiency-acss-career-accelerator-boot-camp-4/
LOCATION:Families First\, 80 Joseph E. Lowery Boulevard\, NW\, Atlanta\, 30314\, United States
CATEGORIES:Career Development,In-Person Event,Job Seeker
END:VEVENT
BEGIN:VEVENT
DTSTART;TZID=America/New_York:20250908T100000
DTEND;TZID=America/New_York:20250908T110000
DTSTAMP:20260422T225438
CREATED:20250824T174842Z
LAST-MODIFIED:20250824T174842Z
UID:10035070-1757325600-1757329200@metroatlantaexchange.org
SUMMARY:Jewish Family and Career Services: Virtual Job Search Workshop
DESCRIPTION:Jewish Family and Career Services is hosting a Virtual Job Search Workshop on Monday\, September 8th\, from 10:00 AM to 11:00 AM. \nJoin us for a 1- hour workshop where we will explore strategies to conduct a successful job search that will help you secure employment more effectively. This workshop will cover key information regarding organizing an action plan to move your job search forward. Topics will include how to handle the emotional roller coaster\, job choice and self-assessments\, identifying potential employers\, creating a personal branding statement\, networking strategies and more. \nClick here to learn more and register.
URL:https://metroatlantaexchange.org/event/jewish-family-and-career-services-virtual-job-search-workshop-5/
LOCATION:GA
CATEGORIES:Career Development,Job Seeker,Virtual Event
ORGANIZER;CN="Jewish Family and Career Services":MAILTO:info@jfcsatl.org
END:VEVENT
BEGIN:VEVENT
DTSTART;TZID=America/New_York:20250908T100000
DTEND;TZID=America/New_York:20250908T120000
DTSTAMP:20260422T225438
CREATED:20250901T235624Z
LAST-MODIFIED:20250901T235624Z
UID:10035203-1757325600-1757332800@metroatlantaexchange.org
SUMMARY:Goodwill of North Georgia: New Leaf Hiring Event
DESCRIPTION:Goodwill of North Georgia is hosting a New Leaf Hiring Event every Monday\, starting September 8th\, from 10:00 AM to 12:00 PM\, at the South DeKalb Career Center. \nPositions open include Drivers and Customer Service Representatives. For more information\, call 404-728-8605. \nClick here to learn more and register.
URL:https://metroatlantaexchange.org/event/goodwill-of-north-georgia-new-leaf-hiring-event/2025-09-08/
LOCATION:Goodwill of North Georgia – South DeKalb Career Center\, 1295 Columbia Drive\, Decatur\, GA\, 30032\, United States
CATEGORIES:In-Person Event,Job Seeker
GEO:33.7510576;-84.2656565
X-APPLE-STRUCTURED-LOCATION;VALUE=URI;X-ADDRESS=Goodwill of North Georgia – South DeKalb Career Center 1295 Columbia Drive Decatur GA 30032 United States;X-APPLE-RADIUS=500;X-TITLE=1295 Columbia Drive:geo:-84.2656565,33.7510576
END:VEVENT
BEGIN:VEVENT
DTSTART;TZID=America/New_York:20250908T100000
DTEND;TZID=America/New_York:20250908T120000
DTSTAMP:20260422T225438
CREATED:20250902T220445Z
LAST-MODIFIED:20250902T220519Z
UID:10035240-1757325600-1757332800@metroatlantaexchange.org
SUMMARY:Goodwill of North Georgia: Resume Assistance Day
DESCRIPTION:Goodwill of North Georgia is hosting an in-person Resume Assistance Day every Monday\, from 10:00 AM to 12:00 PM\, at the Oakwood Career Center. \nFor more information\, call 770-538-4209. \nClick here to learn more and register.
URL:https://metroatlantaexchange.org/event/goodwill-of-north-georgia-resume-assistance-day/2025-09-08/
LOCATION:Goodwill of North Georgia – Oakwood Career Center\, 3715 Mundy Mill Road\, Oakwood\, GA\, 30566\, United States
CATEGORIES:Career Development,In-Person Event,Job Seeker
GEO:34.2290795;-83.8701636
X-APPLE-STRUCTURED-LOCATION;VALUE=URI;X-ADDRESS=Goodwill of North Georgia – Oakwood Career Center 3715 Mundy Mill Road Oakwood GA 30566 United States;X-APPLE-RADIUS=500;X-TITLE=3715 Mundy Mill Road:geo:-83.8701636,34.2290795
END:VEVENT
BEGIN:VEVENT
DTSTART;TZID=America/New_York:20250908T103000
DTEND;TZID=America/New_York:20250908T113000
DTSTAMP:20260422T225438
CREATED:20250802T173236Z
LAST-MODIFIED:20250802T173328Z
UID:10034856-1757327400-1757331000@metroatlantaexchange.org
SUMMARY:Goodwill of North Georgia: Training Information Session
DESCRIPTION:Goodwill of North Georgia is hosting a Training Information Session every Monday\, from 10:30 AM to 11:30 AM\, at the East Athens Career Center. \nFor more information\, call 706-395-1558. \nClick here to learn more and register.
URL:https://metroatlantaexchange.org/event/goodwill-of-north-georgia-training-information-session/2025-09-08/
LOCATION:Goodwill of North Georgia – East Athens Career Center\, 4070 Lexington Road\, Athens\, GA\, 30605\, United States
CATEGORIES:Career Development,In-Person Event,Job Seeker
END:VEVENT
BEGIN:VEVENT
DTSTART;TZID=America/New_York:20250908T103000
DTEND;TZID=America/New_York:20250908T143000
DTSTAMP:20260422T225438
CREATED:20250802T172917Z
LAST-MODIFIED:20250802T173007Z
UID:10034826-1757327400-1757341800@metroatlantaexchange.org
SUMMARY:Goodwill of North Georgia: GED Class
DESCRIPTION:Goodwill of North Georgia is hosting a GED Class\, facilitated by Athens Tech\, every Monday through Thursday\, from 10:30 AM to 2:30 PM\, at the East Athens Career Center. \nFor more information\, call 706-395-1558. \nClick here to learn more and register.
URL:https://metroatlantaexchange.org/event/goodwill-of-north-georgia-ged-class-2/2025-09-08/
LOCATION:Goodwill of North Georgia – East Athens Career Center\, 4070 Lexington Road\, Athens\, GA\, 30605\, United States
CATEGORIES:Career Development,In-Person Event,Job Seeker
END:VEVENT
BEGIN:VEVENT
DTSTART;TZID=America/New_York:20250908T110000
DTEND;TZID=America/New_York:20250908T130000
DTSTAMP:20260422T225438
CREATED:20250802T173513Z
LAST-MODIFIED:20250802T173513Z
UID:10034865-1757329200-1757336400@metroatlantaexchange.org
SUMMARY:Goodwill of North Georgia: On-Site Resume Assistance Workshop
DESCRIPTION:Goodwill of North Georgia is hosting an On-Site Resume Assistance Workshop every Monday\, from 11:00 AM to 1:00 PM\, at the South DeKalb Career Center. \nFor more information\, call 404-728-8605. \nClick here to learn more and register.
URL:https://metroatlantaexchange.org/event/goodwill-of-north-georgia-on-site-resume-assistance-workshop-2/2025-09-08/
LOCATION:Goodwill of North Georgia – South DeKalb Career Center\, 1295 Columbia Drive\, Decatur\, GA\, 30032\, United States
CATEGORIES:Career Development,In-Person Event,Job Seeker
GEO:33.7510576;-84.2656565
X-APPLE-STRUCTURED-LOCATION;VALUE=URI;X-ADDRESS=Goodwill of North Georgia – South DeKalb Career Center 1295 Columbia Drive Decatur GA 30032 United States;X-APPLE-RADIUS=500;X-TITLE=1295 Columbia Drive:geo:-84.2656565,33.7510576
END:VEVENT
BEGIN:VEVENT
DTSTART;TZID=America/New_York:20250908T110000
DTEND;TZID=America/New_York:20250908T130000
DTSTAMP:20260422T225438
CREATED:20250823T235428Z
LAST-MODIFIED:20250823T235428Z
UID:10035041-1757329200-1757336400@metroatlantaexchange.org
SUMMARY:Georgia College and State University: Fall 2025 Nursing Recruitment Fair
DESCRIPTION:Georgia College and State University is hosting its Fall 2025 Nursing Recruitment Fair on Monday\, September 8th\, from 11:00 AM to 1:00 PM\, at the Magnolia Ballroom. \nTheFall 2025 Nursing Recruitment Fair is a great opportunity for students and alumni to connect with employers and learn more about available full-time\, part-time\, externship\, and volunteer opportunities in the healthcare industry. You never have a second chance to make a first impression\, so business attire is recommended for this event\, particularly for alumni and those graduating and seeking full-time jobs. You may also wear attire appropriate for your profession if you are in clinical rotations or reporting to work in the healthcare profession that day. Resumes are highly encouraged so that you can leave information about yourself with recruiters. We recommend that you bring at least 10 copies of your resume. \nClick here to learn more and register.
URL:https://metroatlantaexchange.org/event/georgia-college-and-state-university-fall-2025-nursing-recruitment-fair/
LOCATION:Georgia College and State University – Magnolia Ballroom\, 231 West Hancock Street\, Milledgeville\, GA\, 31061\, United States
CATEGORIES:In-Person Event,Job Seeker
END:VEVENT
BEGIN:VEVENT
DTSTART;TZID=America/New_York:20250908T140000
DTEND;TZID=America/New_York:20250908T170000
DTSTAMP:20260422T225438
CREATED:20250802T164625Z
LAST-MODIFIED:20250802T164625Z
UID:10034753-1757340000-1757350800@metroatlantaexchange.org
SUMMARY:Schneider: Truck Driver and Owner-Operator Recruiting Event
DESCRIPTION:Schneider is hosting a Truck Driver and Owner-Operator Recruiting Event on Monday\, September 8th\, from 2:00 PM to 5:00 PM\, at Katlaw. \nAre you an experienced truck driver looking for a change? Recent driving school graduate or looking to get your CDL? Whatever your level of truck driving experience\, get a chance to have all your truck driving related questions answered at one of our casual truck driver and owner-operator recruiting events. Speak to one of our knowledgeable and personable recruiters about driving opportunities\, pay and benefits\, military programs\, requirements\, terminology clarification\, CDL questions and any other questions you may have. \nClick here to learn more and register.
URL:https://metroatlantaexchange.org/event/schneider-truck-driver-and-owner-operator-recruiting-event-14/
LOCATION:Katlaw School\, 5000 Austell Powder Springs Road\, Austell\, GA\, 30106\, United States
CATEGORIES:In-Person Event,Job Seeker
END:VEVENT
END:VCALENDAR