BEGIN:VCALENDAR
VERSION:2.0
PRODID:-//MAX - ECPv6.15.17.1//NONSGML v1.0//EN
CALSCALE:GREGORIAN
METHOD:PUBLISH
X-ORIGINAL-URL:https://metroatlantaexchange.org
X-WR-CALDESC:Events for MAX
REFRESH-INTERVAL;VALUE=DURATION:PT1H
X-Robots-Tag:noindex
X-PUBLISHED-TTL:PT1H
BEGIN:VTIMEZONE
TZID:America/New_York
BEGIN:DAYLIGHT
TZOFFSETFROM:-0500
TZOFFSETTO:-0400
TZNAME:EDT
DTSTART:20240310T070000
END:DAYLIGHT
BEGIN:STANDARD
TZOFFSETFROM:-0400
TZOFFSETTO:-0500
TZNAME:EST
DTSTART:20241103T060000
END:STANDARD
BEGIN:DAYLIGHT
TZOFFSETFROM:-0500
TZOFFSETTO:-0400
TZNAME:EDT
DTSTART:20250309T070000
END:DAYLIGHT
BEGIN:STANDARD
TZOFFSETFROM:-0400
TZOFFSETTO:-0500
TZNAME:EST
DTSTART:20251102T060000
END:STANDARD
BEGIN:DAYLIGHT
TZOFFSETFROM:-0500
TZOFFSETTO:-0400
TZNAME:EDT
DTSTART:20260308T070000
END:DAYLIGHT
BEGIN:STANDARD
TZOFFSETFROM:-0400
TZOFFSETTO:-0500
TZNAME:EST
DTSTART:20261101T060000
END:STANDARD
END:VTIMEZONE
BEGIN:VEVENT
DTSTART;TZID=America/New_York:20250910T090000
DTEND;TZID=America/New_York:20250910T100000
DTSTAMP:20260422T225411
CREATED:20250902T220734Z
LAST-MODIFIED:20250902T220734Z
UID:10035248-1757494800-1757498400@metroatlantaexchange.org
SUMMARY:Goodwill of North Georgia: NorthStar Testing Session
DESCRIPTION:Goodwill of North Georgia is hosting a NorthStar Testing Session every Wednesday\, from 9:00 AM to 10:00 AM\, at the Woodstock Career Center. \nFor more information\, call 770-874-0901. \nClick here to learn more and register.
URL:https://metroatlantaexchange.org/event/goodwill-of-north-georgia-northstar-testing-session/2025-09-10/
LOCATION:Goodwill of North Georgia – Woodstock Career Center\, 9425 Highway 92\, Woodstock\, GA\, 30188\, United States
CATEGORIES:Career Development,In-Person Event,Job Seeker
GEO:34.0872637;-84.5325399
X-APPLE-STRUCTURED-LOCATION;VALUE=URI;X-ADDRESS=Goodwill of North Georgia – Woodstock Career Center 9425 Highway 92 Woodstock GA 30188 United States;X-APPLE-RADIUS=500;X-TITLE=9425 Highway 92:geo:-84.5325399,34.0872637
END:VEVENT
BEGIN:VEVENT
DTSTART;TZID=America/New_York:20250910T090000
DTEND;TZID=America/New_York:20250910T130000
DTSTAMP:20260422T225411
CREATED:20250824T175544Z
LAST-MODIFIED:20250824T175544Z
UID:10035074-1757494800-1757509200@metroatlantaexchange.org
SUMMARY:Hiring Our Heroes: Virtual Amplify - Career Readiness and Hiring Event Preparation
DESCRIPTION:Hiring Our Heroes is hosting a Virtual Amplify – Career Readiness and Hiring Event Preparation event on Wednesday\, September 10th\, from 9:00 AM to 1:00 PM. \nEngage in professional development workshops and interactive sessions designed to prepare you for a Virtual Hiring Fair. Topics include professional branding\, resume support\, interview techniques\, and networking. Amplify attendees will leave with valuable tools\, resources\, and an expanded network to facilitate their career growth. This event is open to transitioning service members\, veterans\, military spouses\, and military caregivers. \nClick here to learn more and register.
URL:https://metroatlantaexchange.org/event/hiring-our-heroes-virtual-amplify-career-readiness-and-hiring-event-preparation/
LOCATION:GA
CATEGORIES:Career Development,Job Seeker,Veterans/Military,Virtual Event
END:VEVENT
BEGIN:VEVENT
DTSTART;TZID=America/New_York:20250910T090000
DTEND;TZID=America/New_York:20250910T180000
DTSTAMP:20260422T225411
CREATED:20250802T165346Z
LAST-MODIFIED:20250802T165346Z
UID:10034757-1757494800-1757527200@metroatlantaexchange.org
SUMMARY:CareerEco: Disability Virtual Career Fair
DESCRIPTION:CareerEco\, in partnership with Bender Consulting Services\, is hosting a Disability Virtual Career Fair on Wednesday\, September 10th\, from 9:00 AM to 6:00 PM. \nThis event is open to experienced and early career jobseekers with disabilities nationwide. \nClick here to register.
URL:https://metroatlantaexchange.org/event/careereco-disability-virtual-career-fair-2/
LOCATION:GA
CATEGORIES:Job Seeker,Virtual Event
ORGANIZER;CN="CareerEco":MAILTO:Events@CareerEco.com
END:VEVENT
BEGIN:VEVENT
DTSTART;TZID=America/New_York:20250910T100000
DTEND;TZID=America/New_York:20250910T113000
DTSTAMP:20260422T225411
CREATED:20250726T222304Z
LAST-MODIFIED:20250726T222304Z
UID:10034305-1757498400-1757503800@metroatlantaexchange.org
SUMMARY:City of Refuge: Essential Tech Skills for Everyday Success
DESCRIPTION:City of Refuge\, in partnership with NPursuit Career Partners\, is hosting an Essential Tech Skills for Everyday Success virtual workshop on Wednesday\, September 10th\, from 10:00 AM to 11:30 AM. \nThis workshop is focused on building digital skills and fluency. \nClick here to learn more.
URL:https://metroatlantaexchange.org/event/city-of-refuge-essential-tech-skills-for-everyday-success-3/
LOCATION:GA
CATEGORIES:Career Development,Job Seeker,Virtual Event
END:VEVENT
BEGIN:VEVENT
DTSTART;TZID=America/New_York:20250910T100000
DTEND;TZID=America/New_York:20250910T120000
DTSTAMP:20260422T225411
CREATED:20250902T221108Z
LAST-MODIFIED:20250902T221108Z
UID:10035305-1757498400-1757505600@metroatlantaexchange.org
SUMMARY:Goodwill of North Georgia: Application Assistance Day
DESCRIPTION:Goodwill of North Georgia is hosting an in-person Application Assistance Day every Wednesday\, from 10:00 AM to 12:00 PM\, at the Oakwood Career Center. \nFor more information\, call 770-538-4209. \nClick here to learn more and register.
URL:https://metroatlantaexchange.org/event/goodwill-of-north-georgia-application-assistance-day/2025-09-10/
LOCATION:Goodwill of North Georgia – Oakwood Career Center\, 3715 Mundy Mill Road\, Oakwood\, GA\, 30566\, United States
CATEGORIES:Career Development,In-Person Event,Job Seeker
GEO:34.2290795;-83.8701636
X-APPLE-STRUCTURED-LOCATION;VALUE=URI;X-ADDRESS=Goodwill of North Georgia – Oakwood Career Center 3715 Mundy Mill Road Oakwood GA 30566 United States;X-APPLE-RADIUS=500;X-TITLE=3715 Mundy Mill Road:geo:-83.8701636,34.2290795
END:VEVENT
BEGIN:VEVENT
DTSTART;TZID=America/New_York:20250910T100000
DTEND;TZID=America/New_York:20250910T130000
DTSTAMP:20260422T225411
CREATED:20250902T000157Z
LAST-MODIFIED:20250902T000157Z
UID:10035213-1757498400-1757509200@metroatlantaexchange.org
SUMMARY:Goodwill of North Georgia: Multi-Industry Job Fair
DESCRIPTION:Goodwill of North Georgia is hosting a Multi-Industry Job Fair on Wednesday\, September 10th\, from 10:00 AM to 1:00 PM\, at the Decatur Career Center. \nFor more information\, call 404-554-9600. \nClick here to learn more and register.
URL:https://metroatlantaexchange.org/event/goodwill-of-north-georgia-multi-industry-job-fair-3/
LOCATION:Goodwill of North Georgia – Decatur Career Center\, 2201 Lawrenceville Highway\, Suite 200\, Decatur\, GA\, 30033\, United States
CATEGORIES:In-Person Event,Job Seeker
GEO:33.8114213;-84.2699313
X-APPLE-STRUCTURED-LOCATION;VALUE=URI;X-ADDRESS=Goodwill of North Georgia – Decatur Career Center 2201 Lawrenceville Highway Suite 200 Decatur GA 30033 United States;X-APPLE-RADIUS=500;X-TITLE=2201 Lawrenceville Highway\, Suite 200:geo:-84.2699313,33.8114213
END:VEVENT
BEGIN:VEVENT
DTSTART;TZID=America/New_York:20250910T100000
DTEND;TZID=America/New_York:20250910T130000
DTSTAMP:20260422T225411
CREATED:20250902T000312Z
LAST-MODIFIED:20250902T000312Z
UID:10035214-1757498400-1757509200@metroatlantaexchange.org
SUMMARY:Goodwill of North Georgia: Peak Season Job and Resource Fair
DESCRIPTION:Goodwill of North Georgia is hosting a Peak Season Job and Resource Fair on Wednesday\, September 10th\, from 10:00 AM to 1:00 PM\, at the East Athens Career Center. \nFor more information\, call 706-395-1558. \nClick here to learn more and register.
URL:https://metroatlantaexchange.org/event/goodwill-of-north-georgia-peak-season-job-and-resource-fair/
LOCATION:Goodwill of North Georgia – East Athens Career Center\, 4070 Lexington Road\, Athens\, GA\, 30605\, United States
CATEGORIES:In-Person Event,Job Seeker
END:VEVENT
BEGIN:VEVENT
DTSTART;TZID=America/New_York:20250910T103000
DTEND;TZID=America/New_York:20250910T143000
DTSTAMP:20260422T225411
CREATED:20250802T172917Z
LAST-MODIFIED:20250802T173007Z
UID:10034828-1757500200-1757514600@metroatlantaexchange.org
SUMMARY:Goodwill of North Georgia: GED Class
DESCRIPTION:Goodwill of North Georgia is hosting a GED Class\, facilitated by Athens Tech\, every Monday through Thursday\, from 10:30 AM to 2:30 PM\, at the East Athens Career Center. \nFor more information\, call 706-395-1558. \nClick here to learn more and register.
URL:https://metroatlantaexchange.org/event/goodwill-of-north-georgia-ged-class-2/2025-09-10/
LOCATION:Goodwill of North Georgia – East Athens Career Center\, 4070 Lexington Road\, Athens\, GA\, 30605\, United States
CATEGORIES:Career Development,In-Person Event,Job Seeker
END:VEVENT
BEGIN:VEVENT
DTSTART;TZID=America/New_York:20250910T110000
DTEND;TZID=America/New_York:20250910T130000
DTSTAMP:20260422T225411
CREATED:20250902T000716Z
LAST-MODIFIED:20250902T000716Z
UID:10035216-1757502000-1757509200@metroatlantaexchange.org
SUMMARY:Goodwill of North Georgia: Park ATL Hiring Event
DESCRIPTION:Goodwill of North Georgia is hosting a Park ATL Hiring Event on Wednesday\, September 10th\, from 11:00 AM to 1:00 PM\, at the South DeKalb Career Center. \nFor more information\, call 404-728-8605. \nClick here to learn more and register.
URL:https://metroatlantaexchange.org/event/goodwill-of-north-georgia-park-atl-hiring-event/
LOCATION:Goodwill of North Georgia – South DeKalb Career Center\, 1295 Columbia Drive\, Decatur\, GA\, 30032\, United States
CATEGORIES:In-Person Event,Job Seeker
GEO:33.7510576;-84.2656565
X-APPLE-STRUCTURED-LOCATION;VALUE=URI;X-ADDRESS=Goodwill of North Georgia – South DeKalb Career Center 1295 Columbia Drive Decatur GA 30032 United States;X-APPLE-RADIUS=500;X-TITLE=1295 Columbia Drive:geo:-84.2656565,33.7510576
END:VEVENT
BEGIN:VEVENT
DTSTART;TZID=America/New_York:20250910T110000
DTEND;TZID=America/New_York:20250910T140000
DTSTAMP:20260422T225411
CREATED:20250902T000609Z
LAST-MODIFIED:20250902T000609Z
UID:10035215-1757502000-1757512800@metroatlantaexchange.org
SUMMARY:City of Sandy Springs\, Greater Perimeter Chamber & Community Assistance Career Center: Sandy Springs Connects! Career Expo
DESCRIPTION:The City of Sandy Springs\, in partnership with the Greater Perimeter Chamber and the Community Assistance Center (CAC) Career Center\, is hosting Sandy Springs Connects! Career Expo on Wednesday\, September 10th\, from 11:00 AM to 2:00 PM\, at the Sandy Springs Performing Arts Center. \nSandy Springs Connects! is a career expo that brings together local jobseekers and the vibrant business community in Sandy Springs. With employers ranging from Fortune 500 companies to small businesses and industries from healthcare to retail\, this event offers access to quality job opportunities and networking right in the community. Jobseekers can explore career paths that offer competitive pay\, comprehensive benefits\, and opportunities for growth while making valuable connections with local employers and professionals. \nClick here to learn more and register.
URL:https://metroatlantaexchange.org/event/city-of-sandy-springs-greater-perimeter-chamber-community-assistance-career-center-sandy-springs-connects-career-expo/
LOCATION:Sandy Springs Performing Arts Center\, 1 Galambos Way\, Sandy Springs\, GA\, 30328\, United States
CATEGORIES:Career Development,In-Person Event,Job Seeker
END:VEVENT
BEGIN:VEVENT
DTSTART;TZID=America/New_York:20250910T110000
DTEND;TZID=America/New_York:20250910T150000
DTSTAMP:20260422T225411
CREATED:20250802T165528Z
LAST-MODIFIED:20250802T165528Z
UID:10034758-1757502000-1757516400@metroatlantaexchange.org
SUMMARY:RecruitMilitary: Atlanta Veterans Job Fair
DESCRIPTION:RecruitMilitary is hosting an Atlanta Veterans Job Fair on Wednesday\, September 10th\, from 11:00 AM to 3:00 PM\, at the Georgia International Convention Center. \nThis event is the perfect opportunity for job seekers with military experience to meet with recruiters from local and national companies. These events are free for U.S veterans\, military spouses\, transitioning military\, and members of the Guard and Reserve. Expect to build your network\, make new professional contacts\, and discover job leads. These job fairs are the perfect time to practice your elevator pitch and interact with representatives from all kinds of companies. \nClick here to learn more and register.
URL:https://metroatlantaexchange.org/event/recruitmilitary-atlanta-veterans-job-fair-4/
LOCATION:Georgia International Convention Center\, 2000 Convention Center Concourse\,\, Atlanta\, GA\, 30337\, United States
CATEGORIES:In-Person Event,Job Seeker,Veterans/Military
GEO:33.6456779;-84.4574981
X-APPLE-STRUCTURED-LOCATION;VALUE=URI;X-ADDRESS=Georgia International Convention Center 2000 Convention Center Concourse Atlanta GA 30337 United States;X-APPLE-RADIUS=500;X-TITLE=2000 Convention Center Concourse\,:geo:-84.4574981,33.6456779
END:VEVENT
BEGIN:VEVENT
DTSTART;TZID=America/New_York:20250910T130000
DTEND;TZID=America/New_York:20250910T150000
DTSTAMP:20260422T225411
CREATED:20250901T235047Z
LAST-MODIFIED:20250901T235128Z
UID:10035195-1757509200-1757516400@metroatlantaexchange.org
SUMMARY:Goodwill of North Georgia: Q-Cells Open Interviews
DESCRIPTION:Goodwill of North Georgia is hosting Q-Cells Open Interviews every Wednesday and Thursday\, from 1:00 PM to 3:00 PM\, at the Cartersville Career Center. \nFor more information\, call 770-276-7036. \nClick here to learn more and register.
URL:https://metroatlantaexchange.org/event/goodwill-of-north-georgia-q-cells-open-interviews-4/2025-09-10/
LOCATION:Goodwill of North Georgia – Cartersville Career Center\, 929 Joe Frank Harris Parkway\, Cartersville\, GA\, 30120\, United States
CATEGORIES:In-Person Event,Job Seeker
GEO:34.1974793;-84.7941559
X-APPLE-STRUCTURED-LOCATION;VALUE=URI;X-ADDRESS=Goodwill of North Georgia – Cartersville Career Center 929 Joe Frank Harris Parkway Cartersville GA 30120 United States;X-APPLE-RADIUS=500;X-TITLE=929 Joe Frank Harris Parkway:geo:-84.7941559,34.1974793
END:VEVENT
BEGIN:VEVENT
DTSTART;TZID=America/New_York:20250910T150000
DTEND;TZID=America/New_York:20250910T153000
DTSTAMP:20260422T225411
CREATED:20250824T175716Z
LAST-MODIFIED:20250824T175716Z
UID:10035075-1757516400-1757518200@metroatlantaexchange.org
SUMMARY:Hiring Our Heroes: Career Forward Virtual Information Session
DESCRIPTION:Hiring Our Heroes is hosting a Career Forward Virtual Information Session on Wednesday\, September 10th\, from 3:00 PM to 3:30 PM. \nThis online chat will connect you directly with organizations from the comfort of your home\, office\, smartphone or tablet. Our online\, cloud-based platform makes it easy and fun for you to participate. After signing up\, you’ll be able to explore the available information and opportunities and participate in 1-on-1 text-based chats with representatives from participating organizations. Share your background and experience and get all your questions answered. \nClick here to register via Zoom.
URL:https://metroatlantaexchange.org/event/hiring-our-heroes-career-forward-virtual-information-session-3/
LOCATION:GA
CATEGORIES:Career Development,Job Seeker,Veterans/Military,Virtual Event
END:VEVENT
BEGIN:VEVENT
DTSTART;TZID=America/New_York:20250910T150000
DTEND;TZID=America/New_York:20250910T160000
DTSTAMP:20260422T225411
CREATED:20250726T222419Z
LAST-MODIFIED:20250726T222419Z
UID:10034306-1757516400-1757520000@metroatlantaexchange.org
SUMMARY:Manufacturing Institute: Heroes Connect - LP Building Solutions
DESCRIPTION:The Manufacturing Institute is hosting a Heroes Connect: LP Building Solutions on Wednesday\, September 10th\, from 3:00 PM to 4:00 PM. \nAs a proven leader in high-performance solutions\, LP Building Solutions manufactures uniquely engineered\, innovative building products to meet customer and industry challenges head-on. Participants will be given the opportunity to engage directly with company leaders about their operations\, Veteran-friendly culture and current career opportunities. \nClick here to learn more and register.
URL:https://metroatlantaexchange.org/event/manufacturing-institute-heroes-connect-lp-building-solutions-2/
LOCATION:GA
CATEGORIES:Career Development,Job Seeker,Virtual Event
END:VEVENT
END:VCALENDAR