BEGIN:VCALENDAR
VERSION:2.0
PRODID:-//MAX - ECPv6.15.17.1//NONSGML v1.0//EN
CALSCALE:GREGORIAN
METHOD:PUBLISH
X-WR-CALNAME:MAX
X-ORIGINAL-URL:https://metroatlantaexchange.org
X-WR-CALDESC:Events for MAX
REFRESH-INTERVAL;VALUE=DURATION:PT1H
X-Robots-Tag:noindex
X-PUBLISHED-TTL:PT1H
BEGIN:VTIMEZONE
TZID:America/New_York
BEGIN:DAYLIGHT
TZOFFSETFROM:-0500
TZOFFSETTO:-0400
TZNAME:EDT
DTSTART:20240310T070000
END:DAYLIGHT
BEGIN:STANDARD
TZOFFSETFROM:-0400
TZOFFSETTO:-0500
TZNAME:EST
DTSTART:20241103T060000
END:STANDARD
BEGIN:DAYLIGHT
TZOFFSETFROM:-0500
TZOFFSETTO:-0400
TZNAME:EDT
DTSTART:20250309T070000
END:DAYLIGHT
BEGIN:STANDARD
TZOFFSETFROM:-0400
TZOFFSETTO:-0500
TZNAME:EST
DTSTART:20251102T060000
END:STANDARD
BEGIN:DAYLIGHT
TZOFFSETFROM:-0500
TZOFFSETTO:-0400
TZNAME:EDT
DTSTART:20260308T070000
END:DAYLIGHT
BEGIN:STANDARD
TZOFFSETFROM:-0400
TZOFFSETTO:-0500
TZNAME:EST
DTSTART:20261101T060000
END:STANDARD
END:VTIMEZONE
BEGIN:VEVENT
DTSTART;TZID=America/New_York:20250904T080000
DTEND;TZID=America/New_York:20251106T170000
DTSTAMP:20260423T021526
CREATED:20250805T185853Z
LAST-MODIFIED:20250805T185853Z
UID:10034983-1756972800-1762448400@metroatlantaexchange.org
SUMMARY:National League of Cities (NLC): NCLU - Local Solutions to End Homelessness
DESCRIPTION:The National League of Cities (NLC) is hosting an NLCU: Local Solutions to End Homelessness session starting Thursday\, September 4th through Thursday\, November 6th. \nGain a comprehensive understanding of the complex factors driving homelessness in U.S. cities and explore evidence-based solutions to create meaningful change in your community. This course is specifically designed for local leaders seeking to develop and implement effective solutions. \nThis five-week course features five virtual learning sessions led by a facilitator with expertise in homelessness\, public health and evaluations. You can also leverage weekly office hours to gain expert insights into addressing homelessness in your community. \nClick here to register.
URL:https://metroatlantaexchange.org/event/national-league-of-cities-nlc-nclu-local-solutions-to-end-homelessness/
LOCATION:GA
CATEGORIES:Virtual Event,Workforce Developer
ORGANIZER;CN="National League of Cities":MAILTO:info@nlc.org
END:VEVENT
BEGIN:VEVENT
DTSTART;TZID=America/New_York:20250908T080000
DTEND;TZID=America/New_York:20250911T170000
DTSTAMP:20260423T021526
CREATED:20250524T225827Z
LAST-MODIFIED:20250524T225827Z
UID:10033962-1757318400-1757610000@metroatlantaexchange.org
SUMMARY:National Conference of State Legislatures (NCSL): 2025 NALIT & LINCS Professional Development Seminar
DESCRIPTION:The National Conference of State Legislatures (NCSL) is hosting the 2025 NALIT & LINCS Professional Development Seminar starting Monday\, September 8th through Thursday\, September 11th\, at the Alaska State Capitol. \nGet ready for an enriching and immersive experience at the 2025 NALIT and LINCS Professional Development Seminar in Juneau\, Alaska! Join us for an unforgettable seminar filled with learning\, networking\, and discovery in the beautiful surroundings of Juneau and beyond. The NALIT and LINCS Professional Development Seminar brings together state legislative IT professionals and communications/information\, public relations and press room staff who are interested in advancing the effectiveness and efficiency of state legislatures through technology. This seminar is a golden opportunity for state legislative IT professionals and communications staff to come together and enhance the effectiveness and efficiency of state legislatures through cutting-edge technology. \nClick here to learn more and register.
URL:https://metroatlantaexchange.org/event/national-conference-of-state-legislatures-ncsl-2025-nalit-lincs-professional-development-seminar/
LOCATION:Alaska State Capitol\, 5th Avenue\, 3rd Floor\, Juneau\, AK\, 99801\, United States
CATEGORIES:Conferences,Virtual Event,Workforce Developer
END:VEVENT
BEGIN:VEVENT
DTSTART;TZID=America/New_York:20250910T080000
DTEND;TZID=America/New_York:20250911T170000
DTSTAMP:20260423T021526
CREATED:20241222T213206Z
LAST-MODIFIED:20241222T213206Z
UID:10032998-1757491200-1757610000@metroatlantaexchange.org
SUMMARY:National Association of State Workforce Agencies (NASWA): 2025 NASWA Summit
DESCRIPTION:The National Association of State Workforce Agencies (NASWA) is hosting the 2025 NASWA Summit on Wednesday\, September 10th and Thursday\, September 11th\, at the Hilton Anatole. \nThe SUMMIT is the premier workforce and unemployment insurance conference where leaders of the nation’s state workforce agencies and their key staff gather to discuss issues of focus to the workforce system. The issues include the Workforce Innovation and Opportunity Act (WIOA) implementation\, employment services\, training programs\, unemployment insurance\, employment statistics and labor market information\, information technology\, and legal issues\, with particular focus on workforce development. \nClick here to learn more and register.
URL:https://metroatlantaexchange.org/event/national-association-of-state-workforce-agencies-naswa-2025-naswa-summit/
LOCATION:Hilton Anatole\, 2291 North Stemmons Freeway\, Dallas\, TX\, 75207\, United States
CATEGORIES:Conferences,In-Person Event,Workforce Developer
ORGANIZER;CN="National Association of State Workforce Agencies (NASWA)":MAILTO:naswa@naswa.org
END:VEVENT
BEGIN:VEVENT
DTSTART;TZID=America/New_York:20250910T110000
DTEND;TZID=America/New_York:20250910T120000
DTSTAMP:20260423T021526
CREATED:20250805T190052Z
LAST-MODIFIED:20250805T190052Z
UID:10034984-1757502000-1757505600@metroatlantaexchange.org
SUMMARY:Aspen Institute: Writing a Public Comment
DESCRIPTION:The Aspen Institute is hosting a webinar on Writing a Public Comment on Wednesday\, September 10th\, from 11:00 AM to 12:00 PM. \nIn the Aspen Policy Academy‘s Writing a Public Comment instructional webinar\, participants will be introduced to a framework for writing effective public comments\, which are essential tools that regulators are required to rely upon before making significant policy changes. Don’t miss this opportunity to gain a deeper understanding of what public comments are\, how they are used\, and strategies for crafting your own public comment to achieve policy change! \nClick here to learn more and register.
URL:https://metroatlantaexchange.org/event/aspen-institute-writing-a-public-comment-2/
LOCATION:GA
CATEGORIES:Virtual Event,Workforce Developer
END:VEVENT
BEGIN:VEVENT
DTSTART;TZID=America/New_York:20250910T120000
DTEND;TZID=America/New_York:20250910T130000
DTSTAMP:20260423T021526
CREATED:20250824T184612Z
LAST-MODIFIED:20250824T184612Z
UID:10035089-1757505600-1757509200@metroatlantaexchange.org
SUMMARY:Society for Human Resource Management (SHRM) – Atlanta: Mentor Power Hour
DESCRIPTION:The Society for Human Resource Management (SHRM) – Atlanta is hosting a virtual Mentor Power Hour on Wednesday\, September 10th\, from 12:00 PM to 1:00 PM. \nThe SHRM-Atlanta Mentoring Community Committee holds Mentor Power Hours to connect HR practitioners seeking growth with experienced HR leaders for discussions that promote mutual professional development and learning. In this program\, we’ll explore how professionals from diverse backgrounds can successfully transition into HR from other roles or pursue an adjacent role outside traditional HR by identifying and leveraging transferable skills. From communication and problem-solving to project management and conflict resolution\, we’ll highlight real-world examples of how these seeking a change can position these skills. Your path to HR success doesn’t have to be traditional. Learn how to identify and apply transferable skills to launch or advance your HR career. \nClick here to learn more and register.
URL:https://metroatlantaexchange.org/event/society-for-human-resource-management-shrm-atlanta-mentor-power-hour-2/
LOCATION:GA
CATEGORIES:Virtual Event,Workforce Developer
ORGANIZER;CN="The Society for Human Resource Management":MAILTO:info@shrmatlanta.org
END:VEVENT
BEGIN:VEVENT
DTSTART;TZID=America/New_York:20250910T120000
DTEND;TZID=America/New_York:20250910T183000
DTSTAMP:20260423T021526
CREATED:20250506T162219Z
LAST-MODIFIED:20250506T162219Z
UID:10033727-1757505600-1757529000@metroatlantaexchange.org
SUMMARY:Georgia Chamber of Commerce: DC Fly-In
DESCRIPTION:The Georgia Chamber of Commerce is hosting its C. Fly-In on Wednesday\, September 10th\, from 12:00 PM to 6:30 PM\, at the U.S. Capitol Visitor Center. \nJoin us for the 2025 D.C. Fly-In in Washington\, to get the inside scoop on issues and policies affecting the business community. Fly-In delegations receive a front-row seat at a program tailored specifically to their primary business priorities from top elected officials\, policy and advocacy experts. A private reception is held in the evening to honor the delegation and their staffers. \nClick here to learn more and register.
URL:https://metroatlantaexchange.org/event/georgia-chamber-of-commerce-dc-fly-in/
LOCATION:U.S. Capitol Visitor Center\, 1st Street\, SE\, Washington\, DC\, 20003\, United States
CATEGORIES:In-Person Event,Workforce Developer
END:VEVENT
BEGIN:VEVENT
DTSTART;TZID=America/New_York:20250910T130000
DTEND;TZID=America/New_York:20250910T140000
DTSTAMP:20260423T021526
CREATED:20250824T193959Z
LAST-MODIFIED:20250824T193959Z
UID:10035119-1757509200-1757512800@metroatlantaexchange.org
SUMMARY:Society for Human Resource Management (SHRM): Business Accretive Diversity: Building an Inclusion Strategy that Drives Value
DESCRIPTION:The Society for Human Resource Management (SHRM) is hosting a webinar on Business Accretive Diversity: Building an Inclusion Strategy that Drives Value on Wednesday\, September 10th\, starting at 1:00 PM. \nIn today’s competitive landscape\, inclusion and diversity (I&D) is no longer just a moral imperative — it’s a critical business driver. Organizations that embrace well-designed I&D strategies outperform their peers in productivity\, innovation\, and profitability. But how can you craft a diversity strategy that doesn’t just check the box but actively contributes to your business growth? Join us for an engaging webinar where we explore business accretive diversity — a strategic approach to inclusion that aligns with your organizational goals. \nClick here to learn more and register.
URL:https://metroatlantaexchange.org/event/society-for-human-resource-management-shrm-business-accretive-diversity-building-an-inclusion-strategy-that-drives-value/
LOCATION:GA
CATEGORIES:Virtual Event,Workforce Developer
ORGANIZER;CN="The Society for Human Resource Management":MAILTO:info@shrmatlanta.org
END:VEVENT
BEGIN:VEVENT
DTSTART;TZID=America/New_York:20250910T130000
DTEND;TZID=America/New_York:20250910T140000
DTSTAMP:20260423T021526
CREATED:20250902T234916Z
LAST-MODIFIED:20250902T234916Z
UID:10035339-1757509200-1757512800@metroatlantaexchange.org
SUMMARY:Bonterra: Capturing Donor Attention in the Year-End Rush
DESCRIPTION:Bonterra is hosting a webinar on Capturing Donor Attention in the Year-End Rush on Wednesday\, September 10th\, from 1:00 PM to 2:00 PM. \nFor many small nonprofits\, the idea of year-end giving\, from GivingTuesday to December 31st\, raises more questions than answers. Should you participate in GivingTuesday? How do you plan when time and resources are already stretched thin? And how do you make your appeals stand out in a crowded season? Join Bonterra on September 10thto sort through the “if\, when\, and how” of year-end giving and share practical\, time-saving tips and tricks that will help you make the most of this critical giving season. \nClick here to learn more and register.
URL:https://metroatlantaexchange.org/event/bonterra-capturing-donor-attention-in-the-year-end-rush/
LOCATION:GA
CATEGORIES:Virtual Event,Workforce Developer
END:VEVENT
BEGIN:VEVENT
DTSTART;TZID=America/New_York:20250910T140000
DTEND;TZID=America/New_York:20250910T150000
DTSTAMP:20260423T021526
CREATED:20250902T235225Z
LAST-MODIFIED:20250902T235225Z
UID:10035340-1757512800-1757516400@metroatlantaexchange.org
SUMMARY:WorkforceGPS: SCC4-SCC5 Performance Orientation: 2025 Demo Participant Individual Record Layout (PIRL) Overview
DESCRIPTION:WorkforceGPS is hosting SCC4-SCC5 Performance Orientation: 2025 Demo Participant Individual Record Layout (PIRL) Overview on Wednesday\, September 10th\, from 2:00 PM to 3:00 PM. \nGrant project directors or managers\, performance data staff and others responsible for collecting and reporting participant data are invited to attend this webinar that will provide an overview of the changes that are happening. \nClick here to learn more and register.
URL:https://metroatlantaexchange.org/event/workforcegps-scc4-scc5-performance-orientation-2025-demo-participant-individual-record-layout-pirl-overview/
LOCATION:GA
CATEGORIES:Virtual Event,Workforce Developer
END:VEVENT
BEGIN:VEVENT
DTSTART;TZID=America/New_York:20250910T150000
DTEND;TZID=America/New_York:20250910T160000
DTSTAMP:20260423T021526
CREATED:20250824T194101Z
LAST-MODIFIED:20250824T194101Z
UID:10035120-1757516400-1757520000@metroatlantaexchange.org
SUMMARY:National League of Cities (NLC): How to Leverage Funding to Expand Municipal Apprenticeships
DESCRIPTION:The National League of Cities (NLC) is hosting a webinar on How to Leverage Funding to Expand Municipal Apprenticeships on Wednesday\, September 10th\, from 3:00 PM to 4:00 PM. \nInterested in strengthening your city’s workforce through apprenticeship but not sure how to fund a Registered Apprenticeship Program? Join NLC and American Institutes for Research to learn how you can leverage different funding sources to create and expand apprenticeship pathways into municipal careers. Participants will hear from city leaders about their experiences of developing municipal apprenticeships\, including how they funded programs\, their successes\, and lessons learned along the way. \nClick here to learn more and register.
URL:https://metroatlantaexchange.org/event/national-league-of-cities-nlc-how-to-leverage-funding-to-expand-municipal-apprenticeships/
LOCATION:GA
CATEGORIES:Virtual Event,Workforce Developer
ORGANIZER;CN="National League of Cities":MAILTO:info@nlc.org
END:VEVENT
BEGIN:VEVENT
DTSTART;TZID=America/New_York:20250910T160000
DTEND;TZID=America/New_York:20250910T173000
DTSTAMP:20260423T021526
CREATED:20250902T235517Z
LAST-MODIFIED:20250902T235517Z
UID:10035341-1757520000-1757525400@metroatlantaexchange.org
SUMMARY:Brookings: Active Playful Learning Model - Reimagining Education for the 21st Century
DESCRIPTION:Brookings is hosting a webinar on the Active Playful Learning Model: Reimagining Education for the 21st Century on Wednesday\, September 10th\, from 4:00 PM to 5:30 PM. \nThe traditional “factory” model of education from the early 1900s is no longer sufficient to meet the needs of the 21st century workforce. Indeed\, employees are recognizing that today’s graduates lack necessary skills like communication\, collaboration\, and critical thinking. Moreover\, today’s students are not engaged in school. It is internationally accepted that we must reimagine education. But how do we do this? Detailed in the May 2025 working paper “Teaching in the way that human brains learn\,” the Active Playful Learning model offers a practical\, evidence-based alternative to conventional models that simultaneously maintains the focus on traditional content—like math and reading—while also supporting a broader suite of skills like communication\, creativity\, and problem-solving. \nOn September 10th\, Senior Fellow Kathy Hirsh-Pasek along with co-authors of the study\, educators\, school administrators\, and state representatives will discuss solution-based models\, including Active Playful Learning. This webinar will offer listeners a glimpse into the way stakeholders on the ground are collaborating and using active playful learning as a way to rethink pedagogical approaches and to achieve curricular goals. \nClick here to learn more and register.
URL:https://metroatlantaexchange.org/event/brookings-active-playful-learning-model-reimagining-education-for-the-21st-century/
LOCATION:GA
CATEGORIES:Virtual Event,Workforce Developer
END:VEVENT
END:VCALENDAR