BEGIN:VCALENDAR
VERSION:2.0
PRODID:-//MAX - ECPv6.15.17.1//NONSGML v1.0//EN
CALSCALE:GREGORIAN
METHOD:PUBLISH
X-WR-CALNAME:MAX
X-ORIGINAL-URL:https://metroatlantaexchange.org
X-WR-CALDESC:Events for MAX
REFRESH-INTERVAL;VALUE=DURATION:PT1H
X-Robots-Tag:noindex
X-PUBLISHED-TTL:PT1H
BEGIN:VTIMEZONE
TZID:America/New_York
BEGIN:DAYLIGHT
TZOFFSETFROM:-0500
TZOFFSETTO:-0400
TZNAME:EDT
DTSTART:20240310T070000
END:DAYLIGHT
BEGIN:STANDARD
TZOFFSETFROM:-0400
TZOFFSETTO:-0500
TZNAME:EST
DTSTART:20241103T060000
END:STANDARD
BEGIN:DAYLIGHT
TZOFFSETFROM:-0500
TZOFFSETTO:-0400
TZNAME:EDT
DTSTART:20250309T070000
END:DAYLIGHT
BEGIN:STANDARD
TZOFFSETFROM:-0400
TZOFFSETTO:-0500
TZNAME:EST
DTSTART:20251102T060000
END:STANDARD
BEGIN:DAYLIGHT
TZOFFSETFROM:-0500
TZOFFSETTO:-0400
TZNAME:EDT
DTSTART:20260308T070000
END:DAYLIGHT
BEGIN:STANDARD
TZOFFSETFROM:-0400
TZOFFSETTO:-0500
TZNAME:EST
DTSTART:20261101T060000
END:STANDARD
END:VTIMEZONE
BEGIN:VEVENT
DTSTART;TZID=America/New_York:20250911T100000
DTEND;TZID=America/New_York:20250911T110000
DTSTAMP:20260422T225251
CREATED:20250902T224047Z
LAST-MODIFIED:20250902T224047Z
UID:10035316-1757584800-1757588400@metroatlantaexchange.org
SUMMARY:Goodwill of North Georgia: Get a State I.D. Workshop
DESCRIPTION:Goodwill of North Georgia is hosting a Get a State I.D. Workshop on Thursday\, September 11th\, from 10:00 AM to 11:00 AM\, at the Old National Career Center. \nFor more information\, call 678-554-0412. \nClick here to learn more and register.
URL:https://metroatlantaexchange.org/event/goodwill-of-north-georgia-get-a-state-i-d-workshop/
LOCATION:Goodwill of North Georgia – Old National Career Center\, 6175 Old National Highway\, Suite 120\, Atlanta\, GA\, 30349\, United States
CATEGORIES:Career Development,In-Person Event,Job Seeker
END:VEVENT
BEGIN:VEVENT
DTSTART;TZID=America/New_York:20250911T100000
DTEND;TZID=America/New_York:20250911T130000
DTSTAMP:20260422T225251
CREATED:20250802T170459Z
LAST-MODIFIED:20250802T170459Z
UID:10034760-1757584800-1757595600@metroatlantaexchange.org
SUMMARY:Schneider: Truck Driver and Owner-Operator Recruiting Event
DESCRIPTION:Schneider is hosting a Truck Driver and Owner-Operator Recruiting Event on Thursday\, September 11th\, from 10:00 AM to 1:00 PM\, at the Truck Driver Institute. \nAre you an experienced truck driver looking for a change? Recent driving school graduate or looking to get your CDL? Whatever your level of truck driving experience\, get a chance to have all your truck driving related questions answered at one of our casual truck driver and owner-operator recruiting events. Speak to one of our knowledgeable and personable recruiters about driving opportunities\, pay and benefits\, military programs\, requirements\, terminology clarification\, CDL questions and any other questions you may have. \nClick here to learn more and register.
URL:https://metroatlantaexchange.org/event/schneider-truck-driver-and-owner-operator-recruiting-event-16/
LOCATION:Truck Driver Institute- Forsyth\, 100 Industrial Park Drive\, Forsyth\, GA\, 31029\, United States
CATEGORIES:In-Person Event,Job Seeker
END:VEVENT
BEGIN:VEVENT
DTSTART;TZID=America/New_York:20250911T100000
DTEND;TZID=America/New_York:20250911T140000
DTSTAMP:20260422T225251
CREATED:20250802T170335Z
LAST-MODIFIED:20250802T170335Z
UID:10034759-1757584800-1757599200@metroatlantaexchange.org
SUMMARY:Greater Hall Chamber of Commerce: Job Fair
DESCRIPTION:The Greater Hall Chamber of Commerce is hosting a Job Fair on Thursday\, September 11th\, from 10:00 AM to 2:00 PM\, at the Gainesville Civic Center. \nDon’t miss your chance to network with employers looking to hire for numerous open positions. \nClick here to learn more and register.
URL:https://metroatlantaexchange.org/event/greater-hall-chamber-of-commerce-job-fair/
LOCATION:Gainesville Civic Center\, 830 Green Street\, Gainesville\, GA\, 30501\, United States
CATEGORIES:In-Person Event,Job Seeker
END:VEVENT
BEGIN:VEVENT
DTSTART;TZID=America/New_York:20250911T100000
DTEND;TZID=America/New_York:20250911T150000
DTSTAMP:20260422T225251
CREATED:20250823T235701Z
LAST-MODIFIED:20250823T235701Z
UID:10035042-1757584800-1757602800@metroatlantaexchange.org
SUMMARY:Northside Hospital: Certified Spanish Medical Interpreters Hiring Event
DESCRIPTION:Northside Hospital is hosting a Certified Spanish Medical Interpreters Hiring Event on Thursday\, September 11th\, from 10:00 AM to 3:00 PM\, at Northside Hospital Atlanta. \nThrive in a friendly\, empowering culture of excellence at Northside Hospital. We’re hiring Certified Spanish Medical Interpreters for the following hospitals: Atlanta\, Cherokee\, Duluth and Gwinnett. Find where you belong within our award-winning workplace. Enjoy excellent benefits\, culture of work-life harmony and more! \nClick here to learn more and register.
URL:https://metroatlantaexchange.org/event/northside-hospital-certified-spanish-medical-interpreters-hiring-event/
LOCATION:Northside Hospital Atlanta\, 1000 Johnson Ferry Road\, Atlanta\, GA\, 30342\, United States
CATEGORIES:In-Person Event,Job Seeker
END:VEVENT
BEGIN:VEVENT
DTSTART;TZID=America/New_York:20250911T103000
DTEND;TZID=America/New_York:20250911T143000
DTSTAMP:20260422T225251
CREATED:20250802T172917Z
LAST-MODIFIED:20250802T173007Z
UID:10034829-1757586600-1757601000@metroatlantaexchange.org
SUMMARY:Goodwill of North Georgia: GED Class
DESCRIPTION:Goodwill of North Georgia is hosting a GED Class\, facilitated by Athens Tech\, every Monday through Thursday\, from 10:30 AM to 2:30 PM\, at the East Athens Career Center. \nFor more information\, call 706-395-1558. \nClick here to learn more and register.
URL:https://metroatlantaexchange.org/event/goodwill-of-north-georgia-ged-class-2/2025-09-11/
LOCATION:Goodwill of North Georgia – East Athens Career Center\, 4070 Lexington Road\, Athens\, GA\, 30605\, United States
CATEGORIES:Career Development,In-Person Event,Job Seeker
END:VEVENT
BEGIN:VEVENT
DTSTART;TZID=America/New_York:20250911T110000
DTEND;TZID=America/New_York:20250911T130000
DTSTAMP:20260422T225251
CREATED:20250902T000958Z
LAST-MODIFIED:20250902T000958Z
UID:10035217-1757588400-1757595600@metroatlantaexchange.org
SUMMARY:Goodwill of North Georgia: Job and Resource Fair
DESCRIPTION:Goodwill of North Georgia is hosting a Job and Resource Fair on Thursday\, September 11th\, from 11:00 AM to 1:00 PM\, at the Cartersville Career Center. \nFor more information\, call 770-276-7036. \nClick here to learn more and register.
URL:https://metroatlantaexchange.org/event/goodwill-of-north-georgia-job-and-resource-fair-12/
LOCATION:Goodwill of North Georgia – Cartersville Career Center\, 929 Joe Frank Harris Parkway\, Cartersville\, GA\, 30120\, United States
CATEGORIES:In-Person Event,Job Seeker
GEO:34.1974793;-84.7941559
X-APPLE-STRUCTURED-LOCATION;VALUE=URI;X-ADDRESS=Goodwill of North Georgia – Cartersville Career Center 929 Joe Frank Harris Parkway Cartersville GA 30120 United States;X-APPLE-RADIUS=500;X-TITLE=929 Joe Frank Harris Parkway:geo:-84.7941559,34.1974793
END:VEVENT
BEGIN:VEVENT
DTSTART;TZID=America/New_York:20250911T110000
DTEND;TZID=America/New_York:20250911T130000
DTSTAMP:20260422T225251
CREATED:20250902T001106Z
LAST-MODIFIED:20250902T001106Z
UID:10035218-1757588400-1757595600@metroatlantaexchange.org
SUMMARY:Goodwill of North Georgia: Job and Resource Fair
DESCRIPTION:Goodwill of North Georgia is hosting a Job and Resource Fair on Thursday\, September 11th\, from 11:00 AM to 1:00 PM\, at the Pleasant Hill Career Center. \nFor more information\, call 770-564-2447. \nClick here to learn more and register.
URL:https://metroatlantaexchange.org/event/goodwill-of-north-georgia-job-and-resource-fair-13/
LOCATION:Goodwill of North Georgia – Pleasant Hill Career Center\, 1502 Pleasant Hill Road\, Duluth\, GA\, 30096\, United States
CATEGORIES:In-Person Event,Job Seeker
GEO:33.9429794;-84.121643
X-APPLE-STRUCTURED-LOCATION;VALUE=URI;X-ADDRESS=Goodwill of North Georgia – Pleasant Hill Career Center 1502 Pleasant Hill Road Duluth GA 30096 United States;X-APPLE-RADIUS=500;X-TITLE=1502 Pleasant Hill Road:geo:-84.121643,33.9429794
END:VEVENT
BEGIN:VEVENT
DTSTART;TZID=America/New_York:20250911T110000
DTEND;TZID=America/New_York:20250911T130000
DTSTAMP:20260422T225251
CREATED:20250902T221629Z
LAST-MODIFIED:20250902T221629Z
UID:10035309-1757588400-1757595600@metroatlantaexchange.org
SUMMARY:Emory Healthcare: Registered Nurse Live Chat
DESCRIPTION:Emory Healthcare hosts a Registered Nurse Live Chat every Thursday\, from 11:00 AM to 1:00 PM. \nEmory Healthcare invites you to an exclusive opportunity to live chat with the nurse recruitment team. Whether you’re actively job hunting or just exploring\, this is your moment to ask questions\, get real answers and explore why Emory is a top destination for nursing careers in Georgia. \nClick here to learn more and register.
URL:https://metroatlantaexchange.org/event/emory-healthcare-registered-nurse-live-chat/2025-09-11/
LOCATION:GA
CATEGORIES:Career Development,Job Seeker,Virtual Event
END:VEVENT
BEGIN:VEVENT
DTSTART;TZID=America/New_York:20250911T110000
DTEND;TZID=America/New_York:20250911T130000
DTSTAMP:20260422T225251
CREATED:20250902T224240Z
LAST-MODIFIED:20250902T224240Z
UID:10035317-1757588400-1757595600@metroatlantaexchange.org
SUMMARY:Emory Healthcare: CT Tech - Experienced and New Grads Virtual Information Session
DESCRIPTION:Emory Healthcare is hosting a CT Tech – Experienced and New Grads Virtual Information Session on Thursday\, September 11th\, from 11:00 AM to 1:00 PM. \nIf you’re passionate about making a real difference in the world of health care\, don’t miss the chance to join the forward-thinking and knowledgeable imaging teams at Emory Healthcare. Immediate inpatient and outpatient opportunities exist for dedicated professionals like you to contribute your expertise and passion in our collaborative environments. \nClick here to learn more and register.
URL:https://metroatlantaexchange.org/event/emory-healthcare-ct-tech-experienced-and-new-grads-virtual-information-session/
LOCATION:GA
CATEGORIES:Career Development,Job Seeker,Virtual Event
END:VEVENT
BEGIN:VEVENT
DTSTART;TZID=America/New_York:20250911T130000
DTEND;TZID=America/New_York:20250911T150000
DTSTAMP:20260422T225251
CREATED:20250901T235047Z
LAST-MODIFIED:20250901T235128Z
UID:10035196-1757595600-1757602800@metroatlantaexchange.org
SUMMARY:Goodwill of North Georgia: Q-Cells Open Interviews
DESCRIPTION:Goodwill of North Georgia is hosting Q-Cells Open Interviews every Wednesday and Thursday\, from 1:00 PM to 3:00 PM\, at the Cartersville Career Center. \nFor more information\, call 770-276-7036. \nClick here to learn more and register.
URL:https://metroatlantaexchange.org/event/goodwill-of-north-georgia-q-cells-open-interviews-4/2025-09-11/
LOCATION:Goodwill of North Georgia – Cartersville Career Center\, 929 Joe Frank Harris Parkway\, Cartersville\, GA\, 30120\, United States
CATEGORIES:In-Person Event,Job Seeker
GEO:34.1974793;-84.7941559
X-APPLE-STRUCTURED-LOCATION;VALUE=URI;X-ADDRESS=Goodwill of North Georgia – Cartersville Career Center 929 Joe Frank Harris Parkway Cartersville GA 30120 United States;X-APPLE-RADIUS=500;X-TITLE=929 Joe Frank Harris Parkway:geo:-84.7941559,34.1974793
END:VEVENT
END:VCALENDAR