BEGIN:VCALENDAR
VERSION:2.0
PRODID:-//MAX - ECPv6.15.17.1//NONSGML v1.0//EN
CALSCALE:GREGORIAN
METHOD:PUBLISH
X-WR-CALNAME:MAX
X-ORIGINAL-URL:https://metroatlantaexchange.org
X-WR-CALDESC:Events for MAX
REFRESH-INTERVAL;VALUE=DURATION:PT1H
X-Robots-Tag:noindex
X-PUBLISHED-TTL:PT1H
BEGIN:VTIMEZONE
TZID:America/New_York
BEGIN:DAYLIGHT
TZOFFSETFROM:-0500
TZOFFSETTO:-0400
TZNAME:EDT
DTSTART:20240310T070000
END:DAYLIGHT
BEGIN:STANDARD
TZOFFSETFROM:-0400
TZOFFSETTO:-0500
TZNAME:EST
DTSTART:20241103T060000
END:STANDARD
BEGIN:DAYLIGHT
TZOFFSETFROM:-0500
TZOFFSETTO:-0400
TZNAME:EDT
DTSTART:20250309T070000
END:DAYLIGHT
BEGIN:STANDARD
TZOFFSETFROM:-0400
TZOFFSETTO:-0500
TZNAME:EST
DTSTART:20251102T060000
END:STANDARD
BEGIN:DAYLIGHT
TZOFFSETFROM:-0500
TZOFFSETTO:-0400
TZNAME:EDT
DTSTART:20260308T070000
END:DAYLIGHT
BEGIN:STANDARD
TZOFFSETFROM:-0400
TZOFFSETTO:-0500
TZNAME:EST
DTSTART:20261101T060000
END:STANDARD
END:VTIMEZONE
BEGIN:VEVENT
DTSTART;TZID=America/New_York:20250904T080000
DTEND;TZID=America/New_York:20251106T170000
DTSTAMP:20260422T225142
CREATED:20250805T185853Z
LAST-MODIFIED:20250805T185853Z
UID:10034983-1756972800-1762448400@metroatlantaexchange.org
SUMMARY:National League of Cities (NLC): NCLU - Local Solutions to End Homelessness
DESCRIPTION:The National League of Cities (NLC) is hosting an NLCU: Local Solutions to End Homelessness session starting Thursday\, September 4th through Thursday\, November 6th. \nGain a comprehensive understanding of the complex factors driving homelessness in U.S. cities and explore evidence-based solutions to create meaningful change in your community. This course is specifically designed for local leaders seeking to develop and implement effective solutions. \nThis five-week course features five virtual learning sessions led by a facilitator with expertise in homelessness\, public health and evaluations. You can also leverage weekly office hours to gain expert insights into addressing homelessness in your community. \nClick here to register.
URL:https://metroatlantaexchange.org/event/national-league-of-cities-nlc-nclu-local-solutions-to-end-homelessness/
LOCATION:GA
CATEGORIES:Virtual Event,Workforce Developer
ORGANIZER;CN="National League of Cities":MAILTO:info@nlc.org
END:VEVENT
BEGIN:VEVENT
DTSTART;TZID=America/New_York:20250908T080000
DTEND;TZID=America/New_York:20250911T170000
DTSTAMP:20260422T225142
CREATED:20250524T225827Z
LAST-MODIFIED:20250524T225827Z
UID:10033962-1757318400-1757610000@metroatlantaexchange.org
SUMMARY:National Conference of State Legislatures (NCSL): 2025 NALIT & LINCS Professional Development Seminar
DESCRIPTION:The National Conference of State Legislatures (NCSL) is hosting the 2025 NALIT & LINCS Professional Development Seminar starting Monday\, September 8th through Thursday\, September 11th\, at the Alaska State Capitol. \nGet ready for an enriching and immersive experience at the 2025 NALIT and LINCS Professional Development Seminar in Juneau\, Alaska! Join us for an unforgettable seminar filled with learning\, networking\, and discovery in the beautiful surroundings of Juneau and beyond. The NALIT and LINCS Professional Development Seminar brings together state legislative IT professionals and communications/information\, public relations and press room staff who are interested in advancing the effectiveness and efficiency of state legislatures through technology. This seminar is a golden opportunity for state legislative IT professionals and communications staff to come together and enhance the effectiveness and efficiency of state legislatures through cutting-edge technology. \nClick here to learn more and register.
URL:https://metroatlantaexchange.org/event/national-conference-of-state-legislatures-ncsl-2025-nalit-lincs-professional-development-seminar/
LOCATION:Alaska State Capitol\, 5th Avenue\, 3rd Floor\, Juneau\, AK\, 99801\, United States
CATEGORIES:Conferences,Virtual Event,Workforce Developer
END:VEVENT
BEGIN:VEVENT
DTSTART;TZID=America/New_York:20250911T110000
DTEND;TZID=America/New_York:20250911T130000
DTSTAMP:20260422T225142
CREATED:20250902T221629Z
LAST-MODIFIED:20250902T221629Z
UID:10035309-1757588400-1757595600@metroatlantaexchange.org
SUMMARY:Emory Healthcare: Registered Nurse Live Chat
DESCRIPTION:Emory Healthcare hosts a Registered Nurse Live Chat every Thursday\, from 11:00 AM to 1:00 PM. \nEmory Healthcare invites you to an exclusive opportunity to live chat with the nurse recruitment team. Whether you’re actively job hunting or just exploring\, this is your moment to ask questions\, get real answers and explore why Emory is a top destination for nursing careers in Georgia. \nClick here to learn more and register.
URL:https://metroatlantaexchange.org/event/emory-healthcare-registered-nurse-live-chat/2025-09-11/
LOCATION:GA
CATEGORIES:Career Development,Job Seeker,Virtual Event
END:VEVENT
BEGIN:VEVENT
DTSTART;TZID=America/New_York:20250911T110000
DTEND;TZID=America/New_York:20250911T130000
DTSTAMP:20260422T225142
CREATED:20250902T224240Z
LAST-MODIFIED:20250902T224240Z
UID:10035317-1757588400-1757595600@metroatlantaexchange.org
SUMMARY:Emory Healthcare: CT Tech - Experienced and New Grads Virtual Information Session
DESCRIPTION:Emory Healthcare is hosting a CT Tech – Experienced and New Grads Virtual Information Session on Thursday\, September 11th\, from 11:00 AM to 1:00 PM. \nIf you’re passionate about making a real difference in the world of health care\, don’t miss the chance to join the forward-thinking and knowledgeable imaging teams at Emory Healthcare. Immediate inpatient and outpatient opportunities exist for dedicated professionals like you to contribute your expertise and passion in our collaborative environments. \nClick here to learn more and register.
URL:https://metroatlantaexchange.org/event/emory-healthcare-ct-tech-experienced-and-new-grads-virtual-information-session/
LOCATION:GA
CATEGORIES:Career Development,Job Seeker,Virtual Event
END:VEVENT
BEGIN:VEVENT
DTSTART;TZID=America/New_York:20250911T130000
DTEND;TZID=America/New_York:20250911T140000
DTSTAMP:20260422T225142
CREATED:20250824T194209Z
LAST-MODIFIED:20250824T194209Z
UID:10035121-1757595600-1757599200@metroatlantaexchange.org
SUMMARY:National Association of Counties (NACo): Unity in Uncertainty: Partnership – Powered Resilience
DESCRIPTION:The National Association of Counties (NACo) is hosting a webinar on Unity in Uncertainty: Partnership – Powered Resilience on Thursday\, September 11th\, from 1:00 PM to 2:00 PM. \nIn today’s rapidly changing operating environment\, local government leaders face unprecedented challenges. This training equips local government leaders with collaborative strategies and partnership frameworks to navigate uncertainty and complexity\, emerging stronger and more resilient. Comprehensive partnerships and diverse perspectives can solidify and fortify operations during uncertain times. \nClick here to learn more and register.
URL:https://metroatlantaexchange.org/event/national-association-of-counties-naco-unity-in-uncertainty-partnership-powered-resilience/
LOCATION:GA
CATEGORIES:Virtual Event,Workforce Developer
END:VEVENT
END:VCALENDAR