BEGIN:VCALENDAR
VERSION:2.0
PRODID:-//MAX - ECPv6.15.17.1//NONSGML v1.0//EN
CALSCALE:GREGORIAN
METHOD:PUBLISH
X-ORIGINAL-URL:https://metroatlantaexchange.org
X-WR-CALDESC:Events for MAX
REFRESH-INTERVAL;VALUE=DURATION:PT1H
X-Robots-Tag:noindex
X-PUBLISHED-TTL:PT1H
BEGIN:VTIMEZONE
TZID:America/New_York
BEGIN:DAYLIGHT
TZOFFSETFROM:-0500
TZOFFSETTO:-0400
TZNAME:EDT
DTSTART:20240310T070000
END:DAYLIGHT
BEGIN:STANDARD
TZOFFSETFROM:-0400
TZOFFSETTO:-0500
TZNAME:EST
DTSTART:20241103T060000
END:STANDARD
BEGIN:DAYLIGHT
TZOFFSETFROM:-0500
TZOFFSETTO:-0400
TZNAME:EDT
DTSTART:20250309T070000
END:DAYLIGHT
BEGIN:STANDARD
TZOFFSETFROM:-0400
TZOFFSETTO:-0500
TZNAME:EST
DTSTART:20251102T060000
END:STANDARD
BEGIN:DAYLIGHT
TZOFFSETFROM:-0500
TZOFFSETTO:-0400
TZNAME:EDT
DTSTART:20260308T070000
END:DAYLIGHT
BEGIN:STANDARD
TZOFFSETFROM:-0400
TZOFFSETTO:-0500
TZNAME:EST
DTSTART:20261101T060000
END:STANDARD
END:VTIMEZONE
BEGIN:VEVENT
DTSTART;TZID=America/New_York:20250912T090000
DTEND;TZID=America/New_York:20250912T120000
DTSTAMP:20260422T173047
CREATED:20250824T184825Z
LAST-MODIFIED:20250824T184825Z
UID:10035090-1757667600-1757678400@metroatlantaexchange.org
SUMMARY:Decide DeKalb: Economic Development Summit
DESCRIPTION:Decide DeKalb is hosting an Economic Development Summit on Friday\, September 12th\, from 9:00 AM to 12:00 PM\, at the DeKalb Conference Center. \nJoin us for a morning filled with networking\, learning about Decide DeKalb’s updated strategy over the next five years\, and hearing innovative ideas and best practices to drive economic growth in our County. Don’t miss out on this chance to connect and learn from local and regional economic development professionals and experts. Let’s work together to shape the future of DeKalb County! \nClick here to learn more and register.
URL:https://metroatlantaexchange.org/event/decide-dekalb-economic-development-summit/
LOCATION:DeKalb Conference Center\, 495 North Indian Creek Drive\, Clarkston\, GA\, 30021\, United States
CATEGORIES:Conferences,In-Person Event,Workforce Developer
END:VEVENT
END:VCALENDAR