BEGIN:VCALENDAR
VERSION:2.0
PRODID:-//MAX - ECPv6.15.17.1//NONSGML v1.0//EN
CALSCALE:GREGORIAN
METHOD:PUBLISH
X-ORIGINAL-URL:https://metroatlantaexchange.org
X-WR-CALDESC:Events for MAX
REFRESH-INTERVAL;VALUE=DURATION:PT1H
X-Robots-Tag:noindex
X-PUBLISHED-TTL:PT1H
BEGIN:VTIMEZONE
TZID:America/New_York
BEGIN:DAYLIGHT
TZOFFSETFROM:-0500
TZOFFSETTO:-0400
TZNAME:EDT
DTSTART:20240310T070000
END:DAYLIGHT
BEGIN:STANDARD
TZOFFSETFROM:-0400
TZOFFSETTO:-0500
TZNAME:EST
DTSTART:20241103T060000
END:STANDARD
BEGIN:DAYLIGHT
TZOFFSETFROM:-0500
TZOFFSETTO:-0400
TZNAME:EDT
DTSTART:20250309T070000
END:DAYLIGHT
BEGIN:STANDARD
TZOFFSETFROM:-0400
TZOFFSETTO:-0500
TZNAME:EST
DTSTART:20251102T060000
END:STANDARD
BEGIN:DAYLIGHT
TZOFFSETFROM:-0500
TZOFFSETTO:-0400
TZNAME:EDT
DTSTART:20260308T070000
END:DAYLIGHT
BEGIN:STANDARD
TZOFFSETFROM:-0400
TZOFFSETTO:-0500
TZNAME:EST
DTSTART:20261101T060000
END:STANDARD
END:VTIMEZONE
BEGIN:VEVENT
DTSTART;TZID=America/New_York:20250916T080000
DTEND;TZID=America/New_York:20250918T170000
DTSTAMP:20260422T173046
CREATED:20250805T162319Z
LAST-MODIFIED:20250805T162319Z
UID:10034940-1758009600-1758214800@metroatlantaexchange.org
SUMMARY:Federal Reserve Bank of Atlanta: Digital Access Research Forum
DESCRIPTION:The Federal Reserve Bank of Atlanta\, in partnership with other city Federal Reserve Banks is hosting a Digital Access Research Forum starting Tuesday\, September 16th through Thursday\, September 18th\, at the Federal Reserve Bank of Kansas City. \nThe forum will highlight the latest research on digital access\, as well as emerging methodologies and best practices in the sector. This in-person event brings together academics\, researchers\, community development practitioners and policymakers for impactful conversations around digital access research in areas such as program evaluation and outcomes measurement\, benefits of digital access interventions in communities and economic and labor market implications. Attendees can register for one\, two or all three days. Day 1offers pre-forum workshops tailored for practitioners\, state broadband offices and policymakers. Day 2 and Day 3 are the main forum sessions for all audiences. \nClick here to register.
URL:https://metroatlantaexchange.org/event/federal-reserve-bank-of-atlanta-digital-access-research-forum/
LOCATION:Federal Reserve Bank of Kansas City\, 1 Memorial Drive\, Kansas City\, MO\, 64198\, United States
CATEGORIES:Career Development,Conferences,Workforce Developer
END:VEVENT
BEGIN:VEVENT
DTSTART;TZID=America/New_York:20250916T090000
DTEND;TZID=America/New_York:20250916T160000
DTSTAMP:20260422T173046
CREATED:20250802T173830Z
LAST-MODIFIED:20250802T173830Z
UID:10034879-1758013200-1758038400@metroatlantaexchange.org
SUMMARY:Goodwill of North Georgia: GED Class
DESCRIPTION: Goodwill of North Georgia is hosting a GED Class every Tuesday\, from 9:00 AM to 4:00 PM\, at the Cornelia Career Center. \nFor more information\, call 706-894-4905. \nClick here to learn more and register.
URL:https://metroatlantaexchange.org/event/goodwill-of-north-georgia-ged-class-3/2025-09-16/
LOCATION:Goodwill of North Georgia – Cornelia Career Center\, 308 Habersham Hills Circle\, Cornelia\, GA\, 30531\, United States
CATEGORIES:Career Development,In-Person Event,Job Seeker
END:VEVENT
BEGIN:VEVENT
DTSTART;TZID=America/New_York:20250916T100000
DTEND;TZID=America/New_York:20250916T140000
DTSTAMP:20260422T173046
CREATED:20250726T222938Z
LAST-MODIFIED:20250726T222938Z
UID:10034308-1758016800-1758031200@metroatlantaexchange.org
SUMMARY:Georgia Vocational Rehabilitation Agency (GVRA): GVRA Day at Gwinnett Tech
DESCRIPTION:The Georgia Vocational Rehabilitation Agency (GVRA) is hosting GVRA Day at Gwinnett Tech on Tuesday\, September 16th\, from 10:00 AM to 2:00 PM\, at Gwinnett Technical College. \nThis is a dedicated event for 11th and 12th grade students enrolled in the Vocational Rehabilitation Pre-Employment Transition Services (Pre-ETS) program. This event will focus on career exploration\, workplace readiness\, and Gwinnett Tech as a post-secondary school opportunity. Its purpose is to equip students with the tools\, knowledge\, and resources needed to navigate the transition from high school to adulthood\, with an emphasis on workplace readiness\, self-advocacy\, and work-based learning. \nClick here to learn more.
URL:https://metroatlantaexchange.org/event/georgia-vocational-rehabilitation-agency-gvra-gvra-day-at-gwinnett-tech/
LOCATION:Gwinnett Technical College – Alpharetta Campus\, 2875 Old Milton Parkway\, Alpharetta\, GA\, 30009\, United States
CATEGORIES:Career Development,In-Person Event,Job Seeker
GEO:34.0679571;-84.2757767
X-APPLE-STRUCTURED-LOCATION;VALUE=URI;X-ADDRESS=Gwinnett Technical College – Alpharetta Campus 2875 Old Milton Parkway Alpharetta GA 30009 United States;X-APPLE-RADIUS=500;X-TITLE=2875 Old Milton Parkway:geo:-84.2757767,34.0679571
END:VEVENT
BEGIN:VEVENT
DTSTART;TZID=America/New_York:20250916T100000
DTEND;TZID=America/New_York:20250916T140000
DTSTAMP:20260422T173046
CREATED:20250805T161924Z
LAST-MODIFIED:20250805T161924Z
UID:10034939-1758016800-1758031200@metroatlantaexchange.org
SUMMARY:CareerRise: 4th Annual Workforce Excellence Summit
DESCRIPTION:CareerRise is hosting its 4th Annual Workforce Excellence Summit on Tuesday\, September 16th\, from 10:00 AM to 2:00 PM\, at Zoo Atlanta. \nJoin CareerRise for the 4th Annual Workforce Excellence Summit\, a day dedicated to celebration\, connection\, and collective progress. Held during National Workforce Development Month\, this event brings together industry leaders\, workforce professionals\, community partners\, and changemakers from across Metro Atlanta to explore how strong partnerships\, innovative strategies\, and aligned efforts fuel a more resilient workforce. \nClick here to learn more and register.
URL:https://metroatlantaexchange.org/event/careerrise-4th-annual-workforce-excellence-summit/
LOCATION:Zoo Atlanta\, 800 Cherokee Avenue\, SE\, Atlanta\, GA\, 30315\, United States
CATEGORIES:Career Development,Conferences,Workforce Developer
END:VEVENT
BEGIN:VEVENT
DTSTART;TZID=America/New_York:20250916T103000
DTEND;TZID=America/New_York:20250916T143000
DTSTAMP:20260422T173046
CREATED:20250802T172917Z
LAST-MODIFIED:20250802T173007Z
UID:10034831-1758018600-1758033000@metroatlantaexchange.org
SUMMARY:Goodwill of North Georgia: GED Class
DESCRIPTION:Goodwill of North Georgia is hosting a GED Class\, facilitated by Athens Tech\, every Monday through Thursday\, from 10:30 AM to 2:30 PM\, at the East Athens Career Center. \nFor more information\, call 706-395-1558. \nClick here to learn more and register.
URL:https://metroatlantaexchange.org/event/goodwill-of-north-georgia-ged-class-2/2025-09-16/
LOCATION:Goodwill of North Georgia – East Athens Career Center\, 4070 Lexington Road\, Athens\, GA\, 30605\, United States
CATEGORIES:Career Development,In-Person Event,Job Seeker
END:VEVENT
BEGIN:VEVENT
DTSTART;TZID=America/New_York:20250916T140000
DTEND;TZID=America/New_York:20250916T153000
DTSTAMP:20260422T173046
CREATED:20250824T175943Z
LAST-MODIFIED:20250824T175943Z
UID:10035077-1758031200-1758036600@metroatlantaexchange.org
SUMMARY:Office of the Chief Human Capital Officer: VA Federal Application Webinar
DESCRIPTION:The Office of the Chief Human Capital Officer is hosting a VA Federal Application Webinar on Tuesday\, September 16th\, from 2:00 PM to 3:30 PM. \nDuring this virtual session\, Veteran and Military Spouse Talent Engagement Program’s (VMSTEP) personnel will present on how to write a federal government resume\, set up a user account and navigate USAJOBS. Get ready to learn insider tips and tricks for crafting a standout federal application that will get you noticed by top federal employers. You will learn the difference between a private sector and federal resume and tips to enhance describing your experience. Veterans\, transitioning service members\, military spouses and individuals qualified under Schedule A (People with Disabilities/People with Targeted Disabilities) will leave this session armed with information on how to develop a competitive application and how to craft an effective resume for use in applying for positions with VA and other federal agencies. \nClick here to learn more and register.
URL:https://metroatlantaexchange.org/event/office-of-the-chief-human-capital-officer-va-federal-application-webinar-4/
LOCATION:GA
CATEGORIES:Career Development,Job Seeker,Virtual Event
END:VEVENT
BEGIN:VEVENT
DTSTART;TZID=America/New_York:20250916T160000
DTEND;TZID=America/New_York:20250916T190000
DTSTAMP:20260422T173046
CREATED:20250902T225608Z
LAST-MODIFIED:20250902T225608Z
UID:10035320-1758038400-1758049200@metroatlantaexchange.org
SUMMARY:Atlanta Tech Village: Startup Student Connection
DESCRIPTION:Atlanta Tech Village is hosting a Startup Student Connection on Tuesday\, September 16th\, from 4:00 PM to 7:00 PM\, at the Atlanta Tech Village. \nThis event will provide participants with an opportunity to network with professionals in the tech industry\, learn about various internship opportunities\, and possibly secure an internship with some of the most innovative companies in Atlanta. Whether you are a student seeking hands-on experience in your field of study or a startup seeking talented individuals to help grow your business\, this event is for you! \nClick here to learn more and register.
URL:https://metroatlantaexchange.org/event/atlanta-tech-village-startup-student-connection/
LOCATION:Atlanta Tech Village\, 3423 Piedmont Road\, Atlanta\, GA\, 30305\, United States
CATEGORIES:Career Development,In-Person Event,Job Seeker
GEO:33.8486731;-84.3733132
X-APPLE-STRUCTURED-LOCATION;VALUE=URI;X-ADDRESS=Atlanta Tech Village 3423 Piedmont Road Atlanta GA 30305 United States;X-APPLE-RADIUS=500;X-TITLE=3423 Piedmont Road:geo:-84.3733132,33.8486731
END:VEVENT
BEGIN:VEVENT
DTSTART;TZID=America/New_York:20250916T170000
DTEND;TZID=America/New_York:20250916T190000
DTSTAMP:20260422T173046
CREATED:20250726T223110Z
LAST-MODIFIED:20250726T223110Z
UID:10034309-1758042000-1758049200@metroatlantaexchange.org
SUMMARY:StartUp Fayette: Alternative Revenue Streams for Startups
DESCRIPTION:StartUp Fayette is hosting Alternative Revenue Streams for Startups on Tuesday\, September 16th\, from 5:00 PM to 7:00 PM\, at Launch Fayette. \nStartUp Fayette is a monthly program featuring entrepreneurs\, big thinkers and people that offer services that support new business. Starting a small business or building a new startup company can be a huge task to tackle on your own. There are many things you will need to learn\, and many skills you will have to develop. It could take months\, even years\, to learn everything you need in order to be successful with your new endeavor. Join us at Startup Fayette and gain access to everything you need to start your small business. Get the best local training to help you build your startup and succeed in your entrepreneurial journey. \nClick here to learn more and register.
URL:https://metroatlantaexchange.org/event/startup-fayette-alternative-revenue-streams-for-startups/
LOCATION:StartUp Fayette\, 250 South Peachtree Parkway\, Peachtree City\, GA\, 30269\, United States
CATEGORIES:Career Development,In-Person Event,Job Seeker
END:VEVENT
BEGIN:VEVENT
DTSTART;TZID=America/New_York:20250916T180000
DTEND;TZID=America/New_York:20250916T190000
DTSTAMP:20260422T173046
CREATED:20250824T174224Z
LAST-MODIFIED:20250824T174224Z
UID:10035061-1758045600-1758049200@metroatlantaexchange.org
SUMMARY:University of Parents (U4P): DadCONNECT
DESCRIPTION:University of Parents (U4P) hosts DadCONNECT on Tuesdays at 6:00 PM\, virtually. \nThis is a monthly virtual and community-based space designed to empower fathers and strengthen families. These monthly sessions are opportunities for fathers\, grandfathers\, stepfathers\, and male caregivers come together for honest conversation\, encouragement\, and practical tools for fatherhood and life. \nClick here to learn more and register.
URL:https://metroatlantaexchange.org/event/university-of-parents-u4p-dadconnect-2/2025-09-16/
LOCATION:GA
CATEGORIES:Career Development,Virtual Event
END:VEVENT
END:VCALENDAR