BEGIN:VCALENDAR
VERSION:2.0
PRODID:-//MAX - ECPv6.15.17.1//NONSGML v1.0//EN
CALSCALE:GREGORIAN
METHOD:PUBLISH
X-ORIGINAL-URL:https://metroatlantaexchange.org
X-WR-CALDESC:Events for MAX
REFRESH-INTERVAL;VALUE=DURATION:PT1H
X-Robots-Tag:noindex
X-PUBLISHED-TTL:PT1H
BEGIN:VTIMEZONE
TZID:America/New_York
BEGIN:DAYLIGHT
TZOFFSETFROM:-0500
TZOFFSETTO:-0400
TZNAME:EDT
DTSTART:20240310T070000
END:DAYLIGHT
BEGIN:STANDARD
TZOFFSETFROM:-0400
TZOFFSETTO:-0500
TZNAME:EST
DTSTART:20241103T060000
END:STANDARD
BEGIN:DAYLIGHT
TZOFFSETFROM:-0500
TZOFFSETTO:-0400
TZNAME:EDT
DTSTART:20250309T070000
END:DAYLIGHT
BEGIN:STANDARD
TZOFFSETFROM:-0400
TZOFFSETTO:-0500
TZNAME:EST
DTSTART:20251102T060000
END:STANDARD
BEGIN:DAYLIGHT
TZOFFSETFROM:-0500
TZOFFSETTO:-0400
TZNAME:EDT
DTSTART:20260308T070000
END:DAYLIGHT
BEGIN:STANDARD
TZOFFSETFROM:-0400
TZOFFSETTO:-0500
TZNAME:EST
DTSTART:20261101T060000
END:STANDARD
END:VTIMEZONE
BEGIN:VEVENT
DTSTART;TZID=America/New_York:20250904T080000
DTEND;TZID=America/New_York:20251106T170000
DTSTAMP:20260422T160410
CREATED:20250805T185853Z
LAST-MODIFIED:20250805T185853Z
UID:10034983-1756972800-1762448400@metroatlantaexchange.org
SUMMARY:National League of Cities (NLC): NCLU - Local Solutions to End Homelessness
DESCRIPTION:The National League of Cities (NLC) is hosting an NLCU: Local Solutions to End Homelessness session starting Thursday\, September 4th through Thursday\, November 6th. \nGain a comprehensive understanding of the complex factors driving homelessness in U.S. cities and explore evidence-based solutions to create meaningful change in your community. This course is specifically designed for local leaders seeking to develop and implement effective solutions. \nThis five-week course features five virtual learning sessions led by a facilitator with expertise in homelessness\, public health and evaluations. You can also leverage weekly office hours to gain expert insights into addressing homelessness in your community. \nClick here to register.
URL:https://metroatlantaexchange.org/event/national-league-of-cities-nlc-nclu-local-solutions-to-end-homelessness/
LOCATION:GA
CATEGORIES:Virtual Event,Workforce Developer
ORGANIZER;CN="National League of Cities":MAILTO:info@nlc.org
END:VEVENT
BEGIN:VEVENT
DTSTART;TZID=America/New_York:20250914T080000
DTEND;TZID=America/New_York:20250917T170000
DTSTAMP:20260422T160410
CREATED:20250805T190643Z
LAST-MODIFIED:20250805T190643Z
UID:10034986-1757836800-1758128400@metroatlantaexchange.org
SUMMARY:International Economic Development Council (IEDC): 2025 Annual Conference
DESCRIPTION:The International Economic Development Council (IEDC) is hosting its 2025 Annual Conference starting Sunday\, September 14th through Wednesday\, September 17th\, at Huntington Place Convention Center. \nIEDC’s Annual Conference brings together economic development professionals\, thought leaders\, and experts for a high-impact experience. The IEDC 2025 Annual Conference will focus on exploring how economic developers lead the charge in revitalizing communities\, making them not just places of recovery\, but models for national and international growth. With the help of dynamic presenters such as yourself\, conference attendees will learn\, discuss and explore vital economic development strategies to improve their communities. \nClick here to learn more and register.
URL:https://metroatlantaexchange.org/event/international-economic-development-council-iedc-2025-annual-conference/
LOCATION:Huntington Place Convention Center\, 1 Washington Boulevard\, Detroit\, MI\, 48226\, United States
CATEGORIES:Conferences,In-Person Event,Workforce Developer
END:VEVENT
BEGIN:VEVENT
DTSTART;TZID=America/New_York:20250916T080000
DTEND;TZID=America/New_York:20250918T170000
DTSTAMP:20260422T160410
CREATED:20250805T162319Z
LAST-MODIFIED:20250805T162319Z
UID:10034940-1758009600-1758214800@metroatlantaexchange.org
SUMMARY:Federal Reserve Bank of Atlanta: Digital Access Research Forum
DESCRIPTION:The Federal Reserve Bank of Atlanta\, in partnership with other city Federal Reserve Banks is hosting a Digital Access Research Forum starting Tuesday\, September 16th through Thursday\, September 18th\, at the Federal Reserve Bank of Kansas City. \nThe forum will highlight the latest research on digital access\, as well as emerging methodologies and best practices in the sector. This in-person event brings together academics\, researchers\, community development practitioners and policymakers for impactful conversations around digital access research in areas such as program evaluation and outcomes measurement\, benefits of digital access interventions in communities and economic and labor market implications. Attendees can register for one\, two or all three days. Day 1offers pre-forum workshops tailored for practitioners\, state broadband offices and policymakers. Day 2 and Day 3 are the main forum sessions for all audiences. \nClick here to register.
URL:https://metroatlantaexchange.org/event/federal-reserve-bank-of-atlanta-digital-access-research-forum/
LOCATION:Federal Reserve Bank of Kansas City\, 1 Memorial Drive\, Kansas City\, MO\, 64198\, United States
CATEGORIES:Career Development,Conferences,Workforce Developer
END:VEVENT
BEGIN:VEVENT
DTSTART;TZID=America/New_York:20250916T080000
DTEND;TZID=America/New_York:20250918T170000
DTSTAMP:20260422T160410
CREATED:20250805T190948Z
LAST-MODIFIED:20250805T190948Z
UID:10034987-1758009600-1758214800@metroatlantaexchange.org
SUMMARY:HR Tech: Be the Change - Drive HR Transformation
DESCRIPTION:HR Tech is hosting Be the Change: Drive HR Transformation on Wednesday\, September 16th through Friday\, September 18th\, at the Mandalay Bay Convention Center.  \nEmbrace the “Be the Change” movement where you’ll discover how to transform HR practices by prioritizing people through cutting edge technology in our fast-changing digital world. Join us to gain essential tools and insights that will empower you to drive innovation and meaningful change in your organization. \nClick here to learn more and register.
URL:https://metroatlantaexchange.org/event/hr-tech-be-the-change-drive-hr-transformation/
LOCATION:Mandalay Bay Convention Center\, 3950 South Las Vegas Boulevard\, Las Vegas\, NV\, 89119\, United States
CATEGORIES:Conferences,In-Person Event,Workforce Developer
END:VEVENT
BEGIN:VEVENT
DTSTART;TZID=America/New_York:20250916T100000
DTEND;TZID=America/New_York:20250916T140000
DTSTAMP:20260422T160410
CREATED:20250805T161924Z
LAST-MODIFIED:20250805T161924Z
UID:10034939-1758016800-1758031200@metroatlantaexchange.org
SUMMARY:CareerRise: 4th Annual Workforce Excellence Summit
DESCRIPTION:CareerRise is hosting its 4th Annual Workforce Excellence Summit on Tuesday\, September 16th\, from 10:00 AM to 2:00 PM\, at Zoo Atlanta. \nJoin CareerRise for the 4th Annual Workforce Excellence Summit\, a day dedicated to celebration\, connection\, and collective progress. Held during National Workforce Development Month\, this event brings together industry leaders\, workforce professionals\, community partners\, and changemakers from across Metro Atlanta to explore how strong partnerships\, innovative strategies\, and aligned efforts fuel a more resilient workforce. \nClick here to learn more and register.
URL:https://metroatlantaexchange.org/event/careerrise-4th-annual-workforce-excellence-summit/
LOCATION:Zoo Atlanta\, 800 Cherokee Avenue\, SE\, Atlanta\, GA\, 30315\, United States
CATEGORIES:Career Development,Conferences,Workforce Developer
END:VEVENT
BEGIN:VEVENT
DTSTART;TZID=America/New_York:20250916T110000
DTEND;TZID=America/New_York:20250918T170000
DTSTAMP:20260422T160410
CREATED:20250824T185122Z
LAST-MODIFIED:20250824T185122Z
UID:10035091-1758020400-1758214800@metroatlantaexchange.org
SUMMARY:Federal Reserve Bank of Atlanta: Digital Access Research Forum
DESCRIPTION:The Federal Reserve Bank of Atlanta\, in partnership with other city Federal Reserve Banks is hosting a Digital Access Research Forum starting Tuesday\, September 16th\, beginning at 11:00 AM\, through Thursday\, September 18th\, at the Federal Reserve Bank of Kansas City. \nThe forum will highlight the latest research on digital access\, as well as emerging methodologies and best practices in the sector. This in-person event brings together academics\, researchers\, community development practitioners and policymakers for impactful conversations around digital access research in areas such as program evaluation and outcomes measurement\, benefits of digital access interventions in communities and economic and labor market implications. \nAttendees can register for one\, two or all three days. Day 1offers pre-forum workshops tailored for practitioners\, state broadband offices and policymakers. Day 2 and Day 3 are the main forum sessions for all audiences. \nClick here to register.
URL:https://metroatlantaexchange.org/event/federal-reserve-bank-of-atlanta-digital-access-research-forum-2/
LOCATION:Federal Reserve Bank of Kansas City\, 1 Memorial Drive\, Kansas City\, MO\, 64198\, United States
CATEGORIES:Conferences,In-Person Event,Workforce Developer
END:VEVENT
BEGIN:VEVENT
DTSTART;TZID=America/New_York:20250916T120000
DTEND;TZID=America/New_York:20250916T130000
DTSTAMP:20260422T160410
CREATED:20250805T191519Z
LAST-MODIFIED:20250805T191519Z
UID:10034990-1758024000-1758027600@metroatlantaexchange.org
SUMMARY:National League of Cities (NLC): P3s Put Plainly: Unlocking Value in Public-Private Partnerships for Municipal Leaders
DESCRIPTION:The National League of Cities (NLC) is hosting a webinar on P3s Put Plainly: Unlocking Value in Public-Private Partnerships for Municipal Leaders on Tuesday\, September 16th\, from 12:00 PM to 1:00 PM. \nMunicipal leaders are under pressure to address aging public facilities\, rising housing needs\, and constrained capital budgets. Public-Private Partnerships (P3s) offer a compelling strategy to meet these challenges by leveraging private-sector resources and innovation. This webinar will break down the fundamentals of P3s in plain terms—how they work\, when they make sense\, and what pitfalls to avoid. Attendees will explore partnership models like DBFM and BOOT\, learn key steps in structuring and managing these agreements\, and understand how to align P3s with local goals. \nClick here to learn more and register.
URL:https://metroatlantaexchange.org/event/national-league-of-cities-nlc-p3s-put-plainly-unlocking-value-in-public-private-partnerships-for-municipal-leaders/
LOCATION:GA
CATEGORIES:Virtual Event,Workforce Developer
ORGANIZER;CN="National League of Cities":MAILTO:info@nlc.org
END:VEVENT
BEGIN:VEVENT
DTSTART;TZID=America/New_York:20250916T140000
DTEND;TZID=America/New_York:20250916T150000
DTSTAMP:20260422T160410
CREATED:20250805T191156Z
LAST-MODIFIED:20250805T191156Z
UID:10034988-1758031200-1758034800@metroatlantaexchange.org
SUMMARY:National Association of Counties (NACo): Robert’s Rules 102: Advancing Your Meeting Mastery for Effective Governance
DESCRIPTION:The National Association of Counties (NACo) is hosting a webinar on Robert’s Rules 102: Advancing Your Meeting Mastery for Effective Governance on Tuesday\, September 16th\, from 2:00 PM to 3:00 PM. \nRobert’s Rules can help you run effective meetings. Don’t forget to attend “Roberts Rules 101 – Mastering the Basics” being held at the NACo Annual Conference in Philadelphia\, Pa.Whether you’re a newbie or an experienced leader\, Robert’s Rules 102 goes beyond the basics to equip you with the skills needed to orchestrate meetings that truly make an impact. Learn to minimize disruptions\, establish proper procedures and apply Robert’s Rules to real-life parliamentary examples. \nClick here to learn more and register.
URL:https://metroatlantaexchange.org/event/national-association-of-counties-naco-roberts-rules-102-advancing-your-meeting-mastery-for-effective-governance/
LOCATION:GA
CATEGORIES:Virtual Event,Workforce Developer
END:VEVENT
BEGIN:VEVENT
DTSTART;TZID=America/New_York:20250916T140000
DTEND;TZID=America/New_York:20250916T150000
DTSTAMP:20260422T160410
CREATED:20250805T191348Z
LAST-MODIFIED:20250805T191348Z
UID:10034989-1758031200-1758034800@metroatlantaexchange.org
SUMMARY:National Association of Workforce Boards (NAWB): What Works in Workforce and Can I Afford it?
DESCRIPTION:The National Association of Workforce Boards (NAWB) is hosting a webinar on What Works in Workforce\, and Can I Afford it? on Tuesday\, September 16th\, starting at 2:00 PM. \nAs they develop strategic plans and set funding priorities\, workforce development boards must prioritize strategies that have the greatest impact and return on investment. But how do they know what these strategies are and how much they cost? ThePathways to Work Evidence Clearinghouse\, funded by the US Department of Health and Human Services & Office of Planning\, Research\, and Evaluation\, provides a comprehensive\, transparent\, and systematic assessment of evidence on programs to improve employment-related outcomes for individuals with low incomes. \nPathways to Work is currently revising evidence standards and developing new cost study standards that can help boards identify evidence-based programs and strategies and determine how much they will cost. In this session\, presenters will introduce new cost standards and inform the audience how to use data on program costs\, in combination with evidence on program impacts\, to make evidence-informed decisions; Lead a live\, interactive demonstration on how to use the Find Interventions That Work tool on the Pathways to Work website to identify effective programs and strategies. \nClick here to learn more and register.
URL:https://metroatlantaexchange.org/event/national-association-of-workforce-boards-nawb-what-works-in-workforce-and-can-i-afford-it/
LOCATION:GA
CATEGORIES:Virtual Event,Workforce Developer
ORGANIZER;CN="National Association of Workforce Boards (NAWB)":MAILTO:nawb@nawb.org
END:VEVENT
END:VCALENDAR