BEGIN:VCALENDAR
VERSION:2.0
PRODID:-//MAX - ECPv6.15.17.1//NONSGML v1.0//EN
CALSCALE:GREGORIAN
METHOD:PUBLISH
X-WR-CALNAME:MAX
X-ORIGINAL-URL:https://metroatlantaexchange.org
X-WR-CALDESC:Events for MAX
REFRESH-INTERVAL;VALUE=DURATION:PT1H
X-Robots-Tag:noindex
X-PUBLISHED-TTL:PT1H
BEGIN:VTIMEZONE
TZID:America/New_York
BEGIN:DAYLIGHT
TZOFFSETFROM:-0500
TZOFFSETTO:-0400
TZNAME:EDT
DTSTART:20240310T070000
END:DAYLIGHT
BEGIN:STANDARD
TZOFFSETFROM:-0400
TZOFFSETTO:-0500
TZNAME:EST
DTSTART:20241103T060000
END:STANDARD
BEGIN:DAYLIGHT
TZOFFSETFROM:-0500
TZOFFSETTO:-0400
TZNAME:EDT
DTSTART:20250309T070000
END:DAYLIGHT
BEGIN:STANDARD
TZOFFSETFROM:-0400
TZOFFSETTO:-0500
TZNAME:EST
DTSTART:20251102T060000
END:STANDARD
BEGIN:DAYLIGHT
TZOFFSETFROM:-0500
TZOFFSETTO:-0400
TZNAME:EDT
DTSTART:20260308T070000
END:DAYLIGHT
BEGIN:STANDARD
TZOFFSETFROM:-0400
TZOFFSETTO:-0500
TZNAME:EST
DTSTART:20261101T060000
END:STANDARD
END:VTIMEZONE
BEGIN:VEVENT
DTSTART;TZID=America/New_York:20250914T080000
DTEND;TZID=America/New_York:20250917T170000
DTSTAMP:20260422T225214
CREATED:20250805T190643Z
LAST-MODIFIED:20250805T190643Z
UID:10034986-1757836800-1758128400@metroatlantaexchange.org
SUMMARY:International Economic Development Council (IEDC): 2025 Annual Conference
DESCRIPTION:The International Economic Development Council (IEDC) is hosting its 2025 Annual Conference starting Sunday\, September 14th through Wednesday\, September 17th\, at Huntington Place Convention Center. \nIEDC’s Annual Conference brings together economic development professionals\, thought leaders\, and experts for a high-impact experience. The IEDC 2025 Annual Conference will focus on exploring how economic developers lead the charge in revitalizing communities\, making them not just places of recovery\, but models for national and international growth. With the help of dynamic presenters such as yourself\, conference attendees will learn\, discuss and explore vital economic development strategies to improve their communities. \nClick here to learn more and register.
URL:https://metroatlantaexchange.org/event/international-economic-development-council-iedc-2025-annual-conference/
LOCATION:Huntington Place Convention Center\, 1 Washington Boulevard\, Detroit\, MI\, 48226\, United States
CATEGORIES:Conferences,In-Person Event,Workforce Developer
END:VEVENT
BEGIN:VEVENT
DTSTART;TZID=America/New_York:20250916T080000
DTEND;TZID=America/New_York:20250918T170000
DTSTAMP:20260422T225214
CREATED:20250805T190948Z
LAST-MODIFIED:20250805T190948Z
UID:10034987-1758009600-1758214800@metroatlantaexchange.org
SUMMARY:HR Tech: Be the Change - Drive HR Transformation
DESCRIPTION:HR Tech is hosting Be the Change: Drive HR Transformation on Wednesday\, September 16th through Friday\, September 18th\, at the Mandalay Bay Convention Center.  \nEmbrace the “Be the Change” movement where you’ll discover how to transform HR practices by prioritizing people through cutting edge technology in our fast-changing digital world. Join us to gain essential tools and insights that will empower you to drive innovation and meaningful change in your organization. \nClick here to learn more and register.
URL:https://metroatlantaexchange.org/event/hr-tech-be-the-change-drive-hr-transformation/
LOCATION:Mandalay Bay Convention Center\, 3950 South Las Vegas Boulevard\, Las Vegas\, NV\, 89119\, United States
CATEGORIES:Conferences,In-Person Event,Workforce Developer
END:VEVENT
BEGIN:VEVENT
DTSTART;TZID=America/New_York:20250916T110000
DTEND;TZID=America/New_York:20250918T170000
DTSTAMP:20260422T225214
CREATED:20250824T185122Z
LAST-MODIFIED:20250824T185122Z
UID:10035091-1758020400-1758214800@metroatlantaexchange.org
SUMMARY:Federal Reserve Bank of Atlanta: Digital Access Research Forum
DESCRIPTION:The Federal Reserve Bank of Atlanta\, in partnership with other city Federal Reserve Banks is hosting a Digital Access Research Forum starting Tuesday\, September 16th\, beginning at 11:00 AM\, through Thursday\, September 18th\, at the Federal Reserve Bank of Kansas City. \nThe forum will highlight the latest research on digital access\, as well as emerging methodologies and best practices in the sector. This in-person event brings together academics\, researchers\, community development practitioners and policymakers for impactful conversations around digital access research in areas such as program evaluation and outcomes measurement\, benefits of digital access interventions in communities and economic and labor market implications. \nAttendees can register for one\, two or all three days. Day 1offers pre-forum workshops tailored for practitioners\, state broadband offices and policymakers. Day 2 and Day 3 are the main forum sessions for all audiences. \nClick here to register.
URL:https://metroatlantaexchange.org/event/federal-reserve-bank-of-atlanta-digital-access-research-forum-2/
LOCATION:Federal Reserve Bank of Kansas City\, 1 Memorial Drive\, Kansas City\, MO\, 64198\, United States
CATEGORIES:Conferences,In-Person Event,Workforce Developer
END:VEVENT
BEGIN:VEVENT
DTSTART;TZID=America/New_York:20250917T090000
DTEND;TZID=America/New_York:20250917T100000
DTSTAMP:20260422T225214
CREATED:20250902T220734Z
LAST-MODIFIED:20250902T220734Z
UID:10035249-1758099600-1758103200@metroatlantaexchange.org
SUMMARY:Goodwill of North Georgia: NorthStar Testing Session
DESCRIPTION:Goodwill of North Georgia is hosting a NorthStar Testing Session every Wednesday\, from 9:00 AM to 10:00 AM\, at the Woodstock Career Center. \nFor more information\, call 770-874-0901. \nClick here to learn more and register.
URL:https://metroatlantaexchange.org/event/goodwill-of-north-georgia-northstar-testing-session/2025-09-17/
LOCATION:Goodwill of North Georgia – Woodstock Career Center\, 9425 Highway 92\, Woodstock\, GA\, 30188\, United States
CATEGORIES:Career Development,In-Person Event,Job Seeker
GEO:34.0872637;-84.5325399
X-APPLE-STRUCTURED-LOCATION;VALUE=URI;X-ADDRESS=Goodwill of North Georgia – Woodstock Career Center 9425 Highway 92 Woodstock GA 30188 United States;X-APPLE-RADIUS=500;X-TITLE=9425 Highway 92:geo:-84.5325399,34.0872637
END:VEVENT
BEGIN:VEVENT
DTSTART;TZID=America/New_York:20250917T100000
DTEND;TZID=America/New_York:20250917T120000
DTSTAMP:20260422T225214
CREATED:20250902T221108Z
LAST-MODIFIED:20250902T221108Z
UID:10035306-1758103200-1758110400@metroatlantaexchange.org
SUMMARY:Goodwill of North Georgia: Application Assistance Day
DESCRIPTION:Goodwill of North Georgia is hosting an in-person Application Assistance Day every Wednesday\, from 10:00 AM to 12:00 PM\, at the Oakwood Career Center. \nFor more information\, call 770-538-4209. \nClick here to learn more and register.
URL:https://metroatlantaexchange.org/event/goodwill-of-north-georgia-application-assistance-day/2025-09-17/
LOCATION:Goodwill of North Georgia – Oakwood Career Center\, 3715 Mundy Mill Road\, Oakwood\, GA\, 30566\, United States
CATEGORIES:Career Development,In-Person Event,Job Seeker
GEO:34.2290795;-83.8701636
X-APPLE-STRUCTURED-LOCATION;VALUE=URI;X-ADDRESS=Goodwill of North Georgia – Oakwood Career Center 3715 Mundy Mill Road Oakwood GA 30566 United States;X-APPLE-RADIUS=500;X-TITLE=3715 Mundy Mill Road:geo:-83.8701636,34.2290795
END:VEVENT
BEGIN:VEVENT
DTSTART;TZID=America/New_York:20250917T100000
DTEND;TZID=America/New_York:20250917T130000
DTSTAMP:20260422T225214
CREATED:20250902T001541Z
LAST-MODIFIED:20250902T001541Z
UID:10035221-1758103200-1758114000@metroatlantaexchange.org
SUMMARY:Goodwill of North Georgia: General Skills Job Fair
DESCRIPTION:Goodwill of North Georgia is hosting a General Skills Job Fair on Wednesday\, September 17th\, from 10:00 AM to 1:00 PM\, at the Decatur Career Center. \nFor more information\, call 404-554-9600. \nClick here to learn more and register.
URL:https://metroatlantaexchange.org/event/goodwill-of-north-georgia-general-skills-job-fair/
LOCATION:Goodwill of North Georgia – Decatur Career Center\, 2201 Lawrenceville Highway\, Suite 200\, Decatur\, GA\, 30033\, United States
CATEGORIES:In-Person Event,Job Seeker
GEO:33.8114213;-84.2699313
X-APPLE-STRUCTURED-LOCATION;VALUE=URI;X-ADDRESS=Goodwill of North Georgia – Decatur Career Center 2201 Lawrenceville Highway Suite 200 Decatur GA 30033 United States;X-APPLE-RADIUS=500;X-TITLE=2201 Lawrenceville Highway\, Suite 200:geo:-84.2699313,33.8114213
END:VEVENT
BEGIN:VEVENT
DTSTART;TZID=America/New_York:20250917T100000
DTEND;TZID=America/New_York:20250917T150000
DTSTAMP:20260422T225214
CREATED:20250824T000900Z
LAST-MODIFIED:20250824T000900Z
UID:10035045-1758103200-1758121200@metroatlantaexchange.org
SUMMARY:Lakeview Behavioral Health: Hiring Event
DESCRIPTION:Lakeview Behavioral Health is hosting a Hiring Event on Wednesday\, September 17th\, from 10:00 AM to 3:00 PM\, at Lakeview Behavioral Health. \nLakeview Behavioral Health provides a full continuum of care for adults and adolescents who have been struggling with psychiatric health and addiction concerns. Open positions include Registered Nurse\, Licensed Practical Nurse\, and Behavioral Health Associate. Both day and night shifts are available for all roles. Immediate offers will be extended at the event. Please bring a current resume and walk-ins are welcome. \nClick here to learn more and apply.
URL:https://metroatlantaexchange.org/event/lakeview-behavioral-health-hiring-event-2/
LOCATION:Lakeview Behavioral Health\, 1 Technology Parkway South\, Norcross\, GA\, 30092\, United States
CATEGORIES:In-Person Event,Job Seeker
END:VEVENT
BEGIN:VEVENT
DTSTART;TZID=America/New_York:20250917T103000
DTEND;TZID=America/New_York:20250917T130000
DTSTAMP:20260422T225214
CREATED:20250824T001206Z
LAST-MODIFIED:20250824T001206Z
UID:10035046-1758105000-1758114000@metroatlantaexchange.org
SUMMARY:Georgia College and State University: Career and Graduate School Fair
DESCRIPTION:Georgia College and State University is hosting a Career and Graduate School Fair on Wednesday\, September 17th\, from 10:30 AM to 1:00 PM\, at the Centennial Center. \nThe Fall 2025 Career & Graduate School Fair offers recruiters and students the opportunity to network and connect for full-time & part-time jobs\, internships\, and graduate school programs. You never have a second chance to make a first impression\, so business attire is required for this event. You are highly encouraged to bring a resume or a CV so that you can leave information about yourself with recruiters. We recommend that you bring at least 10 copies of your resume or CV. \nClick here to learn more and register.
URL:https://metroatlantaexchange.org/event/georgia-college-and-state-university-career-and-graduate-school-fair/
LOCATION:Georgia College and State University – Centennial Center\, 251 South Clark Street\, Milledgeville\, GA\, 31061\, United States
CATEGORIES:In-Person Event,Job Seeker,Student
END:VEVENT
BEGIN:VEVENT
DTSTART;TZID=America/New_York:20250917T103000
DTEND;TZID=America/New_York:20250917T143000
DTSTAMP:20260422T225214
CREATED:20250802T172917Z
LAST-MODIFIED:20250802T173007Z
UID:10034832-1758105000-1758119400@metroatlantaexchange.org
SUMMARY:Goodwill of North Georgia: GED Class
DESCRIPTION:Goodwill of North Georgia is hosting a GED Class\, facilitated by Athens Tech\, every Monday through Thursday\, from 10:30 AM to 2:30 PM\, at the East Athens Career Center. \nFor more information\, call 706-395-1558. \nClick here to learn more and register.
URL:https://metroatlantaexchange.org/event/goodwill-of-north-georgia-ged-class-2/2025-09-17/
LOCATION:Goodwill of North Georgia – East Athens Career Center\, 4070 Lexington Road\, Athens\, GA\, 30605\, United States
CATEGORIES:Career Development,In-Person Event,Job Seeker
END:VEVENT
BEGIN:VEVENT
DTSTART;TZID=America/New_York:20250917T110000
DTEND;TZID=America/New_York:20250917T140000
DTSTAMP:20260422T225214
CREATED:20250902T001750Z
LAST-MODIFIED:20250902T001750Z
UID:10035222-1758106800-1758117600@metroatlantaexchange.org
SUMMARY:Goodwill of North Georgia: Department of Corrections Hiring Event
DESCRIPTION:Goodwill of North Georgia is hosting a Department of Corrections Hiring Event on Wednesday\, September 17th\, from 11:00 AM to 2:00 PM\, at the South DeKalb Career Center. \nFor more information\, call 404-728-8605. \nClick here to learn more and register.
URL:https://metroatlantaexchange.org/event/goodwill-of-north-georgia-department-of-corrections-hiring-event/
LOCATION:Goodwill of North Georgia – South DeKalb Career Center\, 1295 Columbia Drive\, Decatur\, GA\, 30032\, United States
CATEGORIES:In-Person Event,Job Seeker
GEO:33.7510576;-84.2656565
X-APPLE-STRUCTURED-LOCATION;VALUE=URI;X-ADDRESS=Goodwill of North Georgia – South DeKalb Career Center 1295 Columbia Drive Decatur GA 30032 United States;X-APPLE-RADIUS=500;X-TITLE=1295 Columbia Drive:geo:-84.2656565,33.7510576
END:VEVENT
BEGIN:VEVENT
DTSTART;TZID=America/New_York:20250917T130000
DTEND;TZID=America/New_York:20250917T150000
DTSTAMP:20260422T225214
CREATED:20250901T235047Z
LAST-MODIFIED:20250901T235128Z
UID:10035197-1758114000-1758121200@metroatlantaexchange.org
SUMMARY:Goodwill of North Georgia: Q-Cells Open Interviews
DESCRIPTION:Goodwill of North Georgia is hosting Q-Cells Open Interviews every Wednesday and Thursday\, from 1:00 PM to 3:00 PM\, at the Cartersville Career Center. \nFor more information\, call 770-276-7036. \nClick here to learn more and register.
URL:https://metroatlantaexchange.org/event/goodwill-of-north-georgia-q-cells-open-interviews-4/2025-09-17/
LOCATION:Goodwill of North Georgia – Cartersville Career Center\, 929 Joe Frank Harris Parkway\, Cartersville\, GA\, 30120\, United States
CATEGORIES:In-Person Event,Job Seeker
GEO:34.1974793;-84.7941559
X-APPLE-STRUCTURED-LOCATION;VALUE=URI;X-ADDRESS=Goodwill of North Georgia – Cartersville Career Center 929 Joe Frank Harris Parkway Cartersville GA 30120 United States;X-APPLE-RADIUS=500;X-TITLE=929 Joe Frank Harris Parkway:geo:-84.7941559,34.1974793
END:VEVENT
END:VCALENDAR