BEGIN:VCALENDAR
VERSION:2.0
PRODID:-//MAX - ECPv6.15.17.1//NONSGML v1.0//EN
CALSCALE:GREGORIAN
METHOD:PUBLISH
X-WR-CALNAME:MAX
X-ORIGINAL-URL:https://metroatlantaexchange.org
X-WR-CALDESC:Events for MAX
REFRESH-INTERVAL;VALUE=DURATION:PT1H
X-Robots-Tag:noindex
X-PUBLISHED-TTL:PT1H
BEGIN:VTIMEZONE
TZID:America/New_York
BEGIN:DAYLIGHT
TZOFFSETFROM:-0500
TZOFFSETTO:-0400
TZNAME:EDT
DTSTART:20240310T070000
END:DAYLIGHT
BEGIN:STANDARD
TZOFFSETFROM:-0400
TZOFFSETTO:-0500
TZNAME:EST
DTSTART:20241103T060000
END:STANDARD
BEGIN:DAYLIGHT
TZOFFSETFROM:-0500
TZOFFSETTO:-0400
TZNAME:EDT
DTSTART:20250309T070000
END:DAYLIGHT
BEGIN:STANDARD
TZOFFSETFROM:-0400
TZOFFSETTO:-0500
TZNAME:EST
DTSTART:20251102T060000
END:STANDARD
BEGIN:DAYLIGHT
TZOFFSETFROM:-0500
TZOFFSETTO:-0400
TZNAME:EDT
DTSTART:20260308T070000
END:DAYLIGHT
BEGIN:STANDARD
TZOFFSETFROM:-0400
TZOFFSETTO:-0500
TZNAME:EST
DTSTART:20261101T060000
END:STANDARD
END:VTIMEZONE
BEGIN:VEVENT
DTSTART;TZID=America/New_York:20250904T080000
DTEND;TZID=America/New_York:20251106T170000
DTSTAMP:20260422T192112
CREATED:20250805T185853Z
LAST-MODIFIED:20250805T185853Z
UID:10034983-1756972800-1762448400@metroatlantaexchange.org
SUMMARY:National League of Cities (NLC): NCLU - Local Solutions to End Homelessness
DESCRIPTION:The National League of Cities (NLC) is hosting an NLCU: Local Solutions to End Homelessness session starting Thursday\, September 4th through Thursday\, November 6th. \nGain a comprehensive understanding of the complex factors driving homelessness in U.S. cities and explore evidence-based solutions to create meaningful change in your community. This course is specifically designed for local leaders seeking to develop and implement effective solutions. \nThis five-week course features five virtual learning sessions led by a facilitator with expertise in homelessness\, public health and evaluations. You can also leverage weekly office hours to gain expert insights into addressing homelessness in your community. \nClick here to register.
URL:https://metroatlantaexchange.org/event/national-league-of-cities-nlc-nclu-local-solutions-to-end-homelessness/
LOCATION:GA
CATEGORIES:Virtual Event,Workforce Developer
ORGANIZER;CN="National League of Cities":MAILTO:info@nlc.org
END:VEVENT
BEGIN:VEVENT
DTSTART;TZID=America/New_York:20250917T080000
DTEND;TZID=America/New_York:20250919T170000
DTSTAMP:20260422T192112
CREATED:20250524T230137Z
LAST-MODIFIED:20250524T230137Z
UID:10033963-1758096000-1758301200@metroatlantaexchange.org
SUMMARY:National Coalition of Advanced Technology Centers (NCATC): NCATC 2025 Conference
DESCRIPTION:The National Coalition of Advanced Technology Centers (NCATC) is hosting the NCATC 2025 Conference starting Wednesday\, September 17th through Friday\, September 19th\, at the Casino Del Sol Resort and Spa. \nJoin us for a series of insightful sessions\, exhibitions\, and networking opportunities. Stay ahead of the curve and gain valuable knowledge to drive success in your field. Engage with industry leaders\, educators and workforce development innovators during this annual conference. \nClick here to learn more and register.
URL:https://metroatlantaexchange.org/event/national-coalition-of-advanced-technology-centers-ncatc-ncatc-2025-conference/
LOCATION:Casino Del Sol Resort and Spa\, 5655 West Valencia Road\, Tucson\, AZ\, 85757\, United States
CATEGORIES:Conferences,Virtual Event,Workforce Developer
END:VEVENT
BEGIN:VEVENT
DTSTART;TZID=America/New_York:20250918T100000
DTEND;TZID=America/New_York:20250919T190000
DTSTAMP:20260422T192112
CREATED:20250824T180345Z
LAST-MODIFIED:20250824T180345Z
UID:10035079-1758189600-1758308400@metroatlantaexchange.org
SUMMARY:Association of Independent Music Publishers (AIMP) Atlanta: AIMP xMMF Atlanta Summit
DESCRIPTION:The Association of Independent Music Publishers (AIMP) Atlanta is hosting an AIMP x MMF Atlanta Summit on Thursday\, September 18th through Friday\, September 19th\, from 10:00 AM to 7:00 PM\, at 4U Recording Atlanta. \nThis year’s program dives into today’s most pressing and exciting topics\, including the intersection of music and social impact\, strategies for building long-term career legacies\, the role of emerging technologies in creativity and career growth\, and more. More speakers\, industry partners\, and programming highlights will be revealed as the event approaches. \nClick here to learn more and register.
URL:https://metroatlantaexchange.org/event/association-of-independent-music-publishers-aimp-atlanta-aimp-xmmf-atlanta-summit/
LOCATION:4U Recording Atlanta\, 1376 Chattahoochee Avenue\, NW\, Atlanta\, GA\, 30318\, United States
CATEGORIES:Career Development,In-Person Event,Job Seeker
END:VEVENT
BEGIN:VEVENT
DTSTART;TZID=America/New_York:20250919T100000
DTEND;TZID=America/New_York:20250919T110000
DTSTAMP:20260422T192112
CREATED:20250902T230017Z
LAST-MODIFIED:20250902T230017Z
UID:10035322-1758276000-1758279600@metroatlantaexchange.org
SUMMARY:Goodwill of North Georgia: Computer\, Internet and Email Basics Workshop
DESCRIPTION:Goodwill of North Georgia is hosting an in-person Computer\, Internet and Email Basics Workshop on Friday\, September 19th\, from 10:00 AM to 11:00 AM\, at the Woodstock Career Center. \nFor more information\, call 770-874-0901. \nClick here to learn more and register.
URL:https://metroatlantaexchange.org/event/goodwill-of-north-georgia-computer-internet-and-email-basics-workshop/
LOCATION:Goodwill of North Georgia – Woodstock Career Center\, 9425 Highway 92\, Woodstock\, GA\, 30188\, United States
CATEGORIES:Career Development,In-Person Event,Job Seeker
GEO:34.0872637;-84.5325399
X-APPLE-STRUCTURED-LOCATION;VALUE=URI;X-ADDRESS=Goodwill of North Georgia – Woodstock Career Center 9425 Highway 92 Woodstock GA 30188 United States;X-APPLE-RADIUS=500;X-TITLE=9425 Highway 92:geo:-84.5325399,34.0872637
END:VEVENT
BEGIN:VEVENT
DTSTART;TZID=America/New_York:20250919T110000
DTEND;TZID=America/New_York:20250919T130000
DTSTAMP:20260422T192112
CREATED:20250802T180154Z
LAST-MODIFIED:20250802T180305Z
UID:10034895-1758279600-1758286800@metroatlantaexchange.org
SUMMARY:Goodwill of North Georgia: On-Site Application Assistance Workshop
DESCRIPTION:Goodwill of North Georgia is hosting an On-Site Application Assistance Workshop every Friday\, from 11:00 AM to 1:00 PM\, at the South DeKalb Career Center. \nFor more information\, call 404-728-8605. \nClick here to learn more and register.
URL:https://metroatlantaexchange.org/event/goodwill-of-north-georgia-on-site-application-assistance-workshop-2/2025-09-19/
LOCATION:Goodwill of North Georgia – South DeKalb Career Center\, 1295 Columbia Drive\, Decatur\, GA\, 30032\, United States
CATEGORIES:Career Development,In-Person Event,Job Seeker
GEO:33.7510576;-84.2656565
X-APPLE-STRUCTURED-LOCATION;VALUE=URI;X-ADDRESS=Goodwill of North Georgia – South DeKalb Career Center 1295 Columbia Drive Decatur GA 30032 United States;X-APPLE-RADIUS=500;X-TITLE=1295 Columbia Drive:geo:-84.2656565,33.7510576
END:VEVENT
BEGIN:VEVENT
DTSTART;TZID=America/New_York:20250919T110000
DTEND;TZID=America/New_York:20250919T150000
DTSTAMP:20260422T192112
CREATED:20250824T002220Z
LAST-MODIFIED:20250824T002220Z
UID:10035052-1758279600-1758294000@metroatlantaexchange.org
SUMMARY:CareerEco: Think Differently - A Career Fair for Neurodivergent Individuals
DESCRIPTION:CareerEco is hosting Think Differently: A Career Fair for Neurodivergent Individuals on Friday\, September 19th\, from 11:00 AM to 3:00 PM. \nJobseekers across all majors and degrees and with varying levels of experience are invited to connect with employers hiring nationwide. \nClick here to learn more and register.
URL:https://metroatlantaexchange.org/event/careereco-think-differently-a-career-fair-for-neurodivergent-individuals/
LOCATION:GA
CATEGORIES:Job Seeker,Virtual Event
ORGANIZER;CN="CareerEco":MAILTO:Events@CareerEco.com
END:VEVENT
BEGIN:VEVENT
DTSTART;TZID=America/New_York:20250919T130000
DTEND;TZID=America/New_York:20250919T140000
DTSTAMP:20260422T192112
CREATED:20250824T195313Z
LAST-MODIFIED:20250824T195313Z
UID:10035124-1758286800-1758290400@metroatlantaexchange.org
SUMMARY:National Association of Colleges and Employers (NACE): Advancing Inclusive Hiring in Complex Environments
DESCRIPTION:The National Association of Colleges and Employers (NACE) is hosting a webinar on Advancing Inclusive Hiring in Complex Environments on Friday\, September 19th\, from 1:00 PM to 2:00 PM. \nJoin us for an inside look at how Uber’s University Talent Acquisition Team collaborates with key stakeholders to achieve inclusive hiring goals. This session will also explore actionable strategies to evaluate\, sustain\, and retain inclusive hiring programs that create long-term impact. \nClick here to learn more and register.
URL:https://metroatlantaexchange.org/event/national-association-of-colleges-and-employers-nace-advancing-inclusive-hiring-in-complex-environments/
LOCATION:GA
CATEGORIES:Virtual Event,Workforce Developer
END:VEVENT
END:VCALENDAR